BEGIN:VCALENDAR
VERSION:2.0
PRODID:-//Orange Platine - ECPv6.15.20//NONSGML v1.0//EN
CALSCALE:GREGORIAN
METHOD:PUBLISH
X-ORIGINAL-URL:https://orangeplatine.fr
X-WR-CALDESC:Évènements pour Orange Platine
REFRESH-INTERVAL;VALUE=DURATION:PT1H
X-Robots-Tag:noindex
X-PUBLISHED-TTL:PT1H
BEGIN:VTIMEZONE
TZID:Europe/Paris
BEGIN:DAYLIGHT
TZOFFSETFROM:+0100
TZOFFSETTO:+0200
TZNAME:CEST
DTSTART:20240331T010000
END:DAYLIGHT
BEGIN:STANDARD
TZOFFSETFROM:+0200
TZOFFSETTO:+0100
TZNAME:CET
DTSTART:20241027T010000
END:STANDARD
BEGIN:DAYLIGHT
TZOFFSETFROM:+0100
TZOFFSETTO:+0200
TZNAME:CEST
DTSTART:20250330T010000
END:DAYLIGHT
BEGIN:STANDARD
TZOFFSETFROM:+0200
TZOFFSETTO:+0100
TZNAME:CET
DTSTART:20251026T010000
END:STANDARD
BEGIN:DAYLIGHT
TZOFFSETFROM:+0100
TZOFFSETTO:+0200
TZNAME:CEST
DTSTART:20260329T010000
END:DAYLIGHT
BEGIN:STANDARD
TZOFFSETFROM:+0200
TZOFFSETTO:+0100
TZNAME:CET
DTSTART:20261025T010000
END:STANDARD
END:VTIMEZONE
BEGIN:VEVENT
DTSTART;TZID=Europe/Paris:20250401T193000
DTEND;TZID=Europe/Paris:20250401T230000
DTSTAMP:20260423T050245
CREATED:20250311T173456Z
LAST-MODIFIED:20250320T101712Z
UID:7027-1743535800-1743548400@orangeplatine.fr
SUMMARY:Capranica X Jam @Le Qu4tre - Angers
DESCRIPTION:En octobre 2024\, ils se rencontrent en Italie pour vivre une expérience humaine et musicale unique. 40 musiciens de 6 pays européens vont partager cette expérience pendant 10 jours.  \n\n\n\nLa villa italienne se transforme en salle de concert cosmopolite où les cultures se mélangent\, les corps se déhanchent et où l’on parle couramment le rythme signé. Ce langage de signes\, qui leur permet d’improviser en groupe\, sera leur souvenir de voyage\, glissé dans la valise entre la carte postale\, les mots bienveillants des participants et les histoires de partages et de convivialité. \n\n\n\n\n\nLe collectif éphémère CAPRANICA se réunit pour vous faire vivre ces instants musicaux improvisés. Venez danser au son des percussions\, des voix et des impros chaloupées de ces musiciens bilingues du rythme signé ! \n\n\n\nAu programme :· 19:30 : Initiation au Rythme Signé\, venez apprendre les bases du langage· 20:30 : CAPRANICA· 21:30 : Jam ouverte à tou.te.s\, apportez votre instrument ! \n\n\n\n\n\n\n\n\n\nMardi 01 avril 2025 LieuLe Qu4tre\, Université d’Angers4 allée François Mitterand49100 ANGERSTarif : Gratuit / réservationÉvénement adapté aux personnes en situation de handicap \n\n\n\n\n\nÉvénement organisé par l’Université d’Angers et l’association Orange Platine. \n\n\n\n\nRéserver
URL:https://orangeplatine.fr/event/capranica-le-qu4tre-angers/
END:VEVENT
END:VCALENDAR