BEGIN:VCALENDAR
VERSION:2.0
PRODID:-//Orange Platine - ECPv6.15.20//NONSGML v1.0//EN
CALSCALE:GREGORIAN
METHOD:PUBLISH
X-ORIGINAL-URL:https://orangeplatine.fr
X-WR-CALDESC:Évènements pour Orange Platine
REFRESH-INTERVAL;VALUE=DURATION:PT1H
X-Robots-Tag:noindex
X-PUBLISHED-TTL:PT1H
BEGIN:VTIMEZONE
TZID:Europe/Paris
BEGIN:DAYLIGHT
TZOFFSETFROM:+0100
TZOFFSETTO:+0200
TZNAME:CEST
DTSTART:20240331T010000
END:DAYLIGHT
BEGIN:STANDARD
TZOFFSETFROM:+0200
TZOFFSETTO:+0100
TZNAME:CET
DTSTART:20241027T010000
END:STANDARD
BEGIN:DAYLIGHT
TZOFFSETFROM:+0100
TZOFFSETTO:+0200
TZNAME:CEST
DTSTART:20250330T010000
END:DAYLIGHT
BEGIN:STANDARD
TZOFFSETFROM:+0200
TZOFFSETTO:+0100
TZNAME:CET
DTSTART:20251026T010000
END:STANDARD
BEGIN:DAYLIGHT
TZOFFSETFROM:+0100
TZOFFSETTO:+0200
TZNAME:CEST
DTSTART:20260329T010000
END:DAYLIGHT
BEGIN:STANDARD
TZOFFSETFROM:+0200
TZOFFSETTO:+0100
TZNAME:CET
DTSTART:20261025T010000
END:STANDARD
END:VTIMEZONE
BEGIN:VEVENT
DTSTART;TZID=Europe/Paris:20250201T100000
DTEND;TZID=Europe/Paris:20250201T120000
DTSTAMP:20260423T075519
CREATED:20250122T110447Z
LAST-MODIFIED:20250122T110449Z
UID:6957-1738404000-1738411200@orangeplatine.fr
SUMMARY:Chant pour tous @ Angers
DESCRIPTION:Bonne nouvelle un chant pour tous arrive !Un moment mixant de multiples influences comme Musica do circulo\, lâcher-prise et bienveillance\, circle songs et jeux vocaux pour emmener tout en douceur les participants vers la co-improvisation.Et comme son nom le dit si bien ce temps est ouvert à tous ! \n\n\n\n\n\nSamedi 01 février 202510:00 > 12:00École Condorcet 5 rue Gutenberg49000 AngersSur réservation \n\n\n\n\n\n\nRÉSERVATION
URL:https://orangeplatine.fr/event/chant-pour-tous-angers/
END:VEVENT
BEGIN:VEVENT
DTSTART;TZID=Europe/Paris:20250201T140000
DTEND;TZID=Europe/Paris:20250201T170000
DTSTAMP:20260423T075519
CREATED:20241106T131651Z
LAST-MODIFIED:20250129T133551Z
UID:6596-1738418400-1738429200@orangeplatine.fr
SUMMARY:Alternances & Indépendances [STAGE] @Le Quart'Ney - Angers
DESCRIPTION:ALTERNANCES & INDÉPENDANCES\n\n\n\nStage de dextérité et mouvement • avec Georges Le Sayah\n\n\n\n\nCOMPLET\n\n\n\n\nLa dextérité corporelle est une clé essentielle\, qui s’exprime dans l’art\, le sport\, l’industrie\, la musique ou une quête personnelle. \n\n\n\n\n\nParticipez à 3 heures de jeux collectifs\, axés sur la coordination et les mouvements géométriques\, pour relier vos perceptions. Cet accessible challenge déconstruit les habitudes pour cultiver une pensée et un geste lucide. \n\n\n\nBody coordination devient ici un processus d’intégration sensorimotrice\, où le corps interagit avec des outils simples (cordes\, balles\, objets légers…) stimulant notre neuroplasticité dans un équilibre mieux adapté. \n\n\n\nLa limite est une question de temps – Georges Le SAYAH \n\n\n\n\n\nSamedi 01 février 202514:00 > 17:00LieuLe Quart’Ney 5 – 9 rue Ernest Eugène Duboys49100 ANGERSTarif : 40€ / 35€**adhérents à l’association Orange Platine \n\n\n\n\n\nL’intervenant\n\n\n\n\n\n\n\n\n\n\n\nGeorges Le Sayah Batteur/percussionniste hybride \n\n\n\nCoach de ‘Body Coordination’ une innovante discipline de dextérité corporelle\, présentée en atelier et en masterclasse dans divers établissements (conservatoire\, université\, entreprises\, club artistique et sportif).Il enseigne la Batterie depuis 2008\, actuellement professeur au conservatoire. Il dirige divers ateliers de percussions et un cercle de tambours méditatif. Actif sur des scènes musicales à travers des groupes de fusion progressive\, musique du monde\, électro et de l’expérimentale…
URL:https://orangeplatine.fr/event/alternances-independances-stage-le-quartney-angers-2/
LOCATION:Le Quart’Ney\, 5-9 Rue Duboys\, Angers\, 49100\, France
END:VEVENT
BEGIN:VEVENT
DTSTART;TZID=Europe/Paris:20250208T183000
DTEND;TZID=Europe/Paris:20250208T230000
DTSTAMP:20260423T075519
CREATED:20250115T143926Z
LAST-MODIFIED:20250115T144106Z
UID:6874-1739039400-1739055600@orangeplatine.fr
SUMMARY:JAM impro libre et Rythme Signé @ Le Pub 651 - Chemillé
DESCRIPTION:JAM IMPRO LIBRE & RYTHME SIGNÉ\n\n\n\nDévoile-nous tes talents d’improvisateur.ice !\n\n\n\n\n\nLes chemillois te proposent une nouvelle Jam avec Le Pub 651 ! \n\n\n\nLes jams sont des espaces de jeu où des musiciens venus d’univers différents se rassemblent pour partager leur passion sur scène et improviser de la musique ensemble. On vous propose de pimenter un peu ce concept à la sauce Rythme Signé ! \n\n\n\nIci\, l’improvisation est dirigée par un chef d’orchestre à l’aide d’un langage de gestes (le fameux Rythme Signé). Tous les musiciens connaissent le langage et suivent les indications du directeur qui va faire évoluer la musique et donner à chaque musicien son espace d’expression.Le rendu musical\, souvent très rythmique\, invite les têtes à se dandiner et les pieds à battre la mesure si ce n’est plus ! \n\n\n\n\n\nSamedi 08 février 202518:30 • initiation au Rythme Signé20:00 • JAMLe Pub 6513 ter rue Robert d’Arbrisse 49120 – ChemilléPas de réservationEntrée à prix libreBar et tapas sur place  \n\n\n\n\n\n\n\n\n\n\n\nUne initiation au Rythme Signé pour bien démarrer\n\n\n\nCette histoire de Rythme Signé t’interroge ? Tu voudrais monter sur scène lors de la JAM mais tu ne connais pas le langage ? Pas de panique : on te propose une initiation dès 18:30 pour te mettre dans le bain. Avec les percussions mises à disposition\, tu pourras créer de la musique en collectif en un rien de temps\, que tu sois déjà musicien.ne ou non ! \n\n\n\nInfos : 06 86 77 63 74
URL:https://orangeplatine.fr/event/jam-impro-libre-et-rythme-signe-le-pub-651-chemille/
LOCATION:Le Pub 651\, 3 ter rue Robert d'Arbrisse\, Chemillé 49120\, France
END:VEVENT
END:VCALENDAR