BEGIN:VCALENDAR
VERSION:2.0
PRODID:-//Orange Platine - ECPv6.15.20//NONSGML v1.0//EN
CALSCALE:GREGORIAN
METHOD:PUBLISH
X-WR-CALNAME:Orange Platine
X-ORIGINAL-URL:https://orangeplatine.fr
X-WR-CALDESC:Évènements pour Orange Platine
REFRESH-INTERVAL;VALUE=DURATION:PT1H
X-Robots-Tag:noindex
X-PUBLISHED-TTL:PT1H
BEGIN:VTIMEZONE
TZID:Europe/Paris
BEGIN:DAYLIGHT
TZOFFSETFROM:+0100
TZOFFSETTO:+0200
TZNAME:CEST
DTSTART:20230326T010000
END:DAYLIGHT
BEGIN:STANDARD
TZOFFSETFROM:+0200
TZOFFSETTO:+0100
TZNAME:CET
DTSTART:20231029T010000
END:STANDARD
BEGIN:DAYLIGHT
TZOFFSETFROM:+0100
TZOFFSETTO:+0200
TZNAME:CEST
DTSTART:20240331T010000
END:DAYLIGHT
BEGIN:STANDARD
TZOFFSETFROM:+0200
TZOFFSETTO:+0100
TZNAME:CET
DTSTART:20241027T010000
END:STANDARD
BEGIN:DAYLIGHT
TZOFFSETFROM:+0100
TZOFFSETTO:+0200
TZNAME:CEST
DTSTART:20250330T010000
END:DAYLIGHT
BEGIN:STANDARD
TZOFFSETFROM:+0200
TZOFFSETTO:+0100
TZNAME:CET
DTSTART:20251026T010000
END:STANDARD
END:VTIMEZONE
BEGIN:VEVENT
DTSTART;TZID=Europe/Paris:20240923T184500
DTEND;TZID=Europe/Paris:20240923T214500
DTSTAMP:20260425T135427
CREATED:20240918T144046Z
LAST-MODIFIED:20240920T103809Z
UID:6369-1727117100-1727127900@orangeplatine.fr
SUMMARY:Portes ouvertes - Cours Chants du Monde Improvisés du lundi
DESCRIPTION:Découvrez des sonorités venues d’ailleurs\nVenez profiter d’une séance d’essai pour débuter la saison de cours de Chants du Monde Improvisés 2024-2025. \nAiguisez bien vos cordes vocales car nous partons à la découverte de territoires encore vierges\, où l’improvisation se mêle à de foisonnants répertoires de chants traditionnels et modernes du monde entier. Un voyage qui nous fera passer à travers l’écoute\, le ressenti\, le lâcher-prise vocal et la parole chantée débridée ! \n\n\n\n\nNiveau avancé 18h45 > 20h15 Niveau débutant 20h15 > 21h45 MPT Monplaisir\, ANGERS \n\n\n\n\n\nPLUS D’INFOS
URL:https://orangeplatine.fr/event/portes-ouvertes-cours-chants-du-monde-improvises-du-lundi/
END:VEVENT
BEGIN:VEVENT
DTSTART;TZID=Europe/Paris:20240926T184500
DTEND;TZID=Europe/Paris:20240926T201500
DTSTAMP:20260425T135427
CREATED:20240918T150816Z
LAST-MODIFIED:20240918T154155Z
UID:6372-1727376300-1727381700@orangeplatine.fr
SUMMARY:Portes ouvertes - Labo d'Improvisations Musicales
DESCRIPTION:Expérimenter l’improvisation multi-instrumentale en groupe\nVenez avec votre instrument profiter d’une séance d’essai et apprendre à améliorer votre capacité à improviser et jouer en groupe.Au « labo d’improvisations musicales » enfants et adultes sont les bienvenus. \nPrérequis : 1 à 2 ans de pratique instrumentale minimum \n18h45 > 20h15 Centre Jean Vilar\, ANGERS \nPLUS D’INFOS
URL:https://orangeplatine.fr/event/portes-ouvertes-labo-dimprovisations-musicales/
END:VEVENT
BEGIN:VEVENT
DTSTART;TZID=Europe/Paris:20240926T190000
DTEND;TZID=Europe/Paris:20240926T203000
DTSTAMP:20260425T135427
CREATED:20240918T142856Z
LAST-MODIFIED:20240918T153743Z
UID:6362-1727377200-1727382600@orangeplatine.fr
SUMMARY:Portes ouvertes - Cours Chants du Monde Improvisés
DESCRIPTION:Découvrez des sonorités venues d’ailleurs\nVenez profiter d’une séance d’essai pour débuter la saison de cours de Chants du Monde Improvisés 2024-2025. \nAiguisez bien vos cordes vocales car nous partons à la découverte de territoires encore vierges\, où l’improvisation se mêle à de foisonnants répertoires de chants traditionnels et modernes du monde entier. Un voyage qui nous fera passer à travers l’écoute\, le ressenti\, le lâcher-prise vocal et la parole chantée débridée ! \n \n \n \n \n \n \n \nTous niveaux 19h > 20h30 MPT Monplaisir\, ANGERS \n \n \n \n \nPLUS D’INFOS
URL:https://orangeplatine.fr/event/portes-ouvertes-cours-chants-du-monde-improvises-2/
END:VEVENT
BEGIN:VEVENT
DTSTART;TZID=Europe/Paris:20240927T200000
DTEND;TZID=Europe/Paris:20240927T220000
DTSTAMP:20260425T135427
CREATED:20240918T152819Z
LAST-MODIFIED:20240920T100439Z
UID:6380-1727467200-1727474400@orangeplatine.fr
SUMMARY:Concert de Bardane - Les Ponts-de-Cé
DESCRIPTION:La ville des Ponts-de-Cé lance sa saison culturelle par un concert de Bardane avec la participation des élèves de l’école de musique Henri-Dutilleux. \n\n\nGRATUITThéâtre des Dames\, 4 Rue des Dames\, LES PONTS-DE-CÉ \nPLUS D’INFOS
URL:https://orangeplatine.fr/event/concert-de-bardane-les-ponts-de-ce/
LOCATION:Théâtre des Dames 4 Rue des Dames Les Ponts-de-Cé
END:VEVENT
BEGIN:VEVENT
DTSTART;TZID=Europe/Paris:20240928T150000
DTEND;TZID=Europe/Paris:20240928T200000
DTSTAMP:20260425T135427
CREATED:20240918T154529Z
LAST-MODIFIED:20240920T100121Z
UID:6388-1727535600-1727553600@orangeplatine.fr
SUMMARY:Baraketu - MPT Monplaisir
DESCRIPTION:Pour la rentrée et l’ouverture de sa saison la MPT propose une journée festive avec cirque\, danse et la batucada de Baraketu ! \nGRATUITMPT Monplaisir\, ANGERS \nPLUS D’INFOS
URL:https://orangeplatine.fr/event/baraketu-mpt-monplaisir/
END:VEVENT
BEGIN:VEVENT
DTSTART;TZID=Europe/Paris:20240928T160000
DTEND;TZID=Europe/Paris:20240928T235900
DTSTAMP:20260425T135427
CREATED:20240918T155819Z
LAST-MODIFIED:20240920T095432Z
UID:6399-1727539200-1727567940@orangeplatine.fr
SUMMARY:Soirée de clôture d'Un Pas de Côté
DESCRIPTION:Pour sa dernière bamboche n°2 Un Pas de Côté donne carte blanche à Orange Platine.Au programme atelier\, spectacle… et surtout une belle journée en perspective ! \nPRIX LIBRE (Prix conseillé : 10€)Domaine Culturel\, SAINT LÉZIN \nPLUS D’INFOS
URL:https://orangeplatine.fr/event/soiree-de-cloture-dun-pas-de-cote/
END:VEVENT
END:VCALENDAR