BEGIN:VCALENDAR
VERSION:2.0
PRODID:-//Orange Platine - ECPv6.15.20//NONSGML v1.0//EN
CALSCALE:GREGORIAN
METHOD:PUBLISH
X-ORIGINAL-URL:https://orangeplatine.fr
X-WR-CALDESC:Évènements pour Orange Platine
REFRESH-INTERVAL;VALUE=DURATION:PT1H
X-Robots-Tag:noindex
X-PUBLISHED-TTL:PT1H
BEGIN:VTIMEZONE
TZID:Europe/Paris
BEGIN:DAYLIGHT
TZOFFSETFROM:+0100
TZOFFSETTO:+0200
TZNAME:CEST
DTSTART:20230326T010000
END:DAYLIGHT
BEGIN:STANDARD
TZOFFSETFROM:+0200
TZOFFSETTO:+0100
TZNAME:CET
DTSTART:20231029T010000
END:STANDARD
BEGIN:DAYLIGHT
TZOFFSETFROM:+0100
TZOFFSETTO:+0200
TZNAME:CEST
DTSTART:20240331T010000
END:DAYLIGHT
BEGIN:STANDARD
TZOFFSETFROM:+0200
TZOFFSETTO:+0100
TZNAME:CET
DTSTART:20241027T010000
END:STANDARD
BEGIN:DAYLIGHT
TZOFFSETFROM:+0100
TZOFFSETTO:+0200
TZNAME:CEST
DTSTART:20250330T010000
END:DAYLIGHT
BEGIN:STANDARD
TZOFFSETFROM:+0200
TZOFFSETTO:+0100
TZNAME:CET
DTSTART:20251026T010000
END:STANDARD
END:VTIMEZONE
BEGIN:VEVENT
DTSTART;TZID=Europe/Paris:20240517T140000
DTEND;TZID=Europe/Paris:20240517T150000
DTSTAMP:20260425T213917
CREATED:20240426T144130Z
LAST-MODIFIED:20240506T080146Z
UID:6156-1715954400-1715958000@orangeplatine.fr
SUMMARY:Finale Régionale Pays de la Loire 2024 - Trophée d'impro Culture & Diversité
DESCRIPTION:Finale Régionale Pays de la Loire 2024\n\n\n\nTrophée d’impro Culture & Diversité\n\n\n\n\n\nOrange Platine et sa sélection de Maine et Loire reçoit la Cie de l’ARTeM et sa sélection de Loire Atlantique pour un match d’improvisation de jeunes pratiquant l’improvisation théâtrale toute l’année dans leur collège. \n\n\n\nLes 6 joueuses et joueurs de chacune de ces équipes ont été sélectionnés parmi les 7 collèges de Maine et Loire et les 2 collèges de Loire Atlantique participant au Trophée d’impro Culture & Diversité. \n\n\n\nUn spectacle au cours duquel les deux équipes vont devoir collaborer pour créer sur l’instant des personnages et des histoires incroyables et que vous aurez la lourde tache de départager par votre vote pour désigner le champion régional ! \n\n\n\n\n\nVendredi 17 mai14:00 > 15:15THV33 place Jean XXIIISaint Barthélémy d’AnjouTarifEntrée gratuite dans la limite des places disponibles \n\n\n\n\n\n\nRÉSERVER MA PLACE\n\n\n\n\nLe Trophée d’Impro Culture & Diversité :Trophée National inter-Collège de match d’improvisation théâtrale\n\n\n\n\n\n\n\n\n\n\n\nLe Trophée d’Impro Culture & Diversité a pour mission de favoriser\, pour les collégiens issus de milieux modestes\, l’accès à la culture et aux pratiques artistiques. Cette initiative parrainée par Jamel Debbouze aspire à une meilleure cohésion sociale et promeut l’égalité des chances chez les jeunes. Le Trophée d’Impro Culture & Diversité est développé au niveau national par la Fondation Culture & Diversité\, avec le soutien du groupe ID Logistics. \n\n\n\nPour la 14e édition de 2023/2024\, le Trophée rassemble une 30aine de compagnies réparties sur l’ensemble du territoire français. Chacune de ces compagnies organise des ateliers d’improvisation auprès des collégiens de sa région et amène ces jeunes à avoir une vraie expérience de match d’improvisation en salle de spectacle.
URL:https://orangeplatine.fr/event/finale-regionale-pays-de-la-loire-2024-culture-diversite/
LOCATION:THV\, 33 place Jean XXIII\, Saint Barthélémy d'Anjou\, France
CATEGORIES:Match d'impro
ATTACH;FMTTYPE=image/jpeg:https://orangeplatine.fr/wp-content/uploads/2023/07/IMG_6155-1.jpg
ORGANIZER;CN="Orange Platine":MAILTO:contact@orangeplatine.fr
END:VEVENT
BEGIN:VEVENT
DTSTART;TZID=Europe/Paris:20240519T120000
DTEND;TZID=Europe/Paris:20240519T163000
DTSTAMP:20260425T213917
CREATED:20240426T152931Z
LAST-MODIFIED:20240506T083917Z
UID:6162-1716120000-1716136200@orangeplatine.fr
SUMMARY:Jam impro libre et Rythme Signé @Le Cercle Pointu - Chemillé
DESCRIPTION:JAM IMPRO LIBRE & RYTHME SIGNÉ\n\n\n\nDévoile-nous tes talents d’improvisateur.ice !\n\n\n\n\n\nOrange Platine en partenariat avec NotSo Brasil et Le Cercle Pointu te propose une après-midi sous le signe de l’improvisation musicale ! \n\n\n\nLes jams sont des espaces de jeu où des musiciens venus d’univers différents se rassemblent pour partager leur passion sur scène et improviser de la musique ensemble. On vous propose de pimenter un peu ce concept à la sauce Rythme Signé ! \n\n\n\nIci\, l’improvisation est dirigée par un chef d’orchestre à l’aide d’un langage de gestes (le fameux Rythme Signé). Tous les musiciens connaissent le langage et suivent les indications du directeur qui va faire évoluer la musique et donner à chaque musicien son espace d’expression.Le rendu musical\, souvent très rythmique\, invite les têtes à se dandiner et les pieds à battre la mesure si ce n’est plus ! \n\n\n\n\n\nDimanche 19 mai 202412:00 • ouverture des portes12:30 > 13:30 • initiation au Rythme Signé14:00 > 16:00 • JAMLe Cercle Pointu28 Bis Rue de la Broderie49120 – ChemilléEntrée à prix libre(conseillé 5 €)Sans réservation \n\n\n\n\n\nUne initiation au Rythme Signé pour bien démarrer\n\n\n\nCette histoire de Rythme Signé t’interroge ? Tu voudrais monter sur scène lors de la JAM mais tu ne connais pas le langage ? Pas de panique : on te propose une initiation dès 12:30 pour te mettre dans le bain. Avec les percussions mises à disposition\, tu pourras créer de la musique en collectif en un rien de temps\, que tu sois déjà musicien.ne ou non !Prix libre / sans inscription
URL:https://orangeplatine.fr/event/jam-impro-libre-et-rythme-signe-le-cercle-pointu-chemille/
LOCATION:Le Cercle Pointu\, 28 Bis Rue de la Broderie\, Chemillé en Anjou\, France
ATTACH;FMTTYPE=image/jpeg:https://orangeplatine.fr/wp-content/uploads/2024/04/JAM-220211-74.jpg
ORGANIZER;CN="Orange Platine":MAILTO:contact@orangeplatine.fr
END:VEVENT
BEGIN:VEVENT
DTSTART;TZID=Europe/Paris:20240525T093000
DTEND;TZID=Europe/Paris:20240526T170000
DTSTAMP:20260425T213917
CREATED:20240130T161948Z
LAST-MODIFIED:20240130T162754Z
UID:6118-1716629400-1716742800@orangeplatine.fr
SUMMARY:Stage d'impro #Musique • Circlesongs et impro vocale avec Gaël Aubrit @Centre Jacques Tati - Angers
DESCRIPTION:CIRCLESONGS ET IMPRO VOCALE\n\n\n\nSTAGE DE CHANT • avec Gaël Aubrit\n\n\n\n\n\nLes Circlesongs sont une forme de chant a cappella où une personne conduit un cercle de choristes en leur attribuant des “boucle“ mélodiques\, harmoniques\, rythmiques ou autres\, et en improvisant par dessus.  \n\n\n\nPopularisée par Bobby McFerrin\, cette forme est en plein développement en France. Elle rassemble des chanteurs aussi bien débutants qu’expérimentés\, le temps d’une expérience collective toujours unique. \n\n\n\n\n\nSamedi 25 et Dimanche 26 mai9:30 > 17:00Centre Jacques Tati5 rue Eugénie Mansion49000 AngersTarifs140 € – tarif plein130 € – adhérents à Orange Platine \n\n\n\n\n\n\nJE M’INSCRIS\n\n\n\n\n\n\n\n\nL’intervenant \n\n\n\n\nGaël Aubrit \n\n\n\nGaël Aubrit a découvert Bobby McFerrin en 2010\, suite à quoi l’improvisation a cappella s’est installée au centre de sa vie et n’a plus cessé de le passionner. En 2012 il a co-fondé le projet Chant Pour Tous\, inspirant la naissance d’une centaine de cercles réguliers de chant improvisé gratuits et ouverts à tous en Europe.  \n\n\n\nCette vision d’une pratique simple\, accessible et populaire a toujours cohabité avec le désir de développer et affiner la dimension artistique des circlesongs et de la co-improvisation.  \n\n\n\nIl a dirigé un cursus de formation en co-improvisation sur trois ans\, formé des chanteurs de tous niveaux\, ainsi que des professeurs ou facilitateurs d’impro vocale\, des musiciens intervenants en milieu scolaire et autres professionnels de la musique.  \n\n\n\nEn 2019 il a rejoint les intervenants du stage annuel de Circlesongs de Bobby McFerrin aux Etats-Unis. Il est en lien avec de nombreux collègues et structures en France et à l’étranger dans le but de contribuer autant que possible au développement communautaire\, pédagogique\, artistique et populaire de ces merveilleuses pratiques. \n\n\n\n\n\n\nLe lieu \n\n\n\n\n\n\n\nL’organisateur
URL:https://orangeplatine.fr/event/stage-dimpro-musique-circlesongs-et-impro-vocale-avec-gael-aubrit-centre-jacques-tati-angers/
LOCATION:Centre Jacques Tati\, 5 rue Eugénie Mansion\, Angers\, 49000
ATTACH;FMTTYPE=image/jpeg:https://orangeplatine.fr/wp-content/uploads/2024/01/OP-stages-240525-GaelAubrit-indiv.jpg
END:VEVENT
END:VCALENDAR