BEGIN:VCALENDAR
VERSION:2.0
PRODID:-//Orange Platine - ECPv6.15.20//NONSGML v1.0//EN
CALSCALE:GREGORIAN
METHOD:PUBLISH
X-ORIGINAL-URL:https://orangeplatine.fr
X-WR-CALDESC:Évènements pour Orange Platine
REFRESH-INTERVAL;VALUE=DURATION:PT1H
X-Robots-Tag:noindex
X-PUBLISHED-TTL:PT1H
BEGIN:VTIMEZONE
TZID:Europe/Paris
BEGIN:DAYLIGHT
TZOFFSETFROM:+0100
TZOFFSETTO:+0200
TZNAME:CEST
DTSTART:20230326T010000
END:DAYLIGHT
BEGIN:STANDARD
TZOFFSETFROM:+0200
TZOFFSETTO:+0100
TZNAME:CET
DTSTART:20231029T010000
END:STANDARD
BEGIN:DAYLIGHT
TZOFFSETFROM:+0100
TZOFFSETTO:+0200
TZNAME:CEST
DTSTART:20240331T010000
END:DAYLIGHT
BEGIN:STANDARD
TZOFFSETFROM:+0200
TZOFFSETTO:+0100
TZNAME:CET
DTSTART:20241027T010000
END:STANDARD
BEGIN:DAYLIGHT
TZOFFSETFROM:+0100
TZOFFSETTO:+0200
TZNAME:CEST
DTSTART:20250330T010000
END:DAYLIGHT
BEGIN:STANDARD
TZOFFSETFROM:+0200
TZOFFSETTO:+0100
TZNAME:CET
DTSTART:20251026T010000
END:STANDARD
END:VTIMEZONE
BEGIN:VEVENT
DTSTART;TZID=Europe/Paris:20240210T093000
DTEND;TZID=Europe/Paris:20240211T170000
DTSTAMP:20260422T043340
CREATED:20231130T092438Z
LAST-MODIFIED:20231130T092441Z
UID:5987-1707557400-1707670800@orangeplatine.fr
SUMMARY:Intensif d'hiver de Rythme Signé @La Galerie Sonore - Angers
DESCRIPTION:Intensif d’hiver de Rythme Signé\n\n\n\n\n\nPour te réchauffer les mains et l’esprit cet hiver\, Orange Platine te propose un week-end intensif autour du Rythme Signé !  \n\n\n\nMais qu’est-ce que c’est\, au juste ? Le Rythme Signé est un langage de direction en temps réel originaire d’Argentine\, se prêtant tout particulièrement aux instruments de percussions. Le directeur communique avec ses musiciens grâce à des signes facilement compréhensibles et assimilables. Ainsi débutants et experts peuvent jouer ensemble\, en toute simplicité ! \n\n\n\n\n\nSam. 10 et dim. 11 février 2024de 9h30 à 17h00La Galerie Sonore1 rue du pin49000 AngersTarifs2 jours : 140€1 jour : 75€ \n\n\n\n\n\n\nJE M’INSCRIS\n\n\n\n\nLe programme\n\n\n\n\n\n\n\nLes bases du Rythme Signé :Tout ce qu’il te faut pour découvrir et comprendre les bases du langage. C’est ton meilleur échauffement pour jouer tout le week-end ! \n\n\n\nTechnique de direction :Pour apprendre les techniques de bases de la direction par le Rythme Signé !  \n\n\n\nAutour des musiques du monde :Pars à la découverte d’instruments venus des quatre coins du globe. \n\n\n\nLes signes intermédiaires :Maintenant qu’on connaît les signes de bases\, on avance dans la connaissance du langage ! \n\n\n\nEnsemble vocal et Rythme Signé :On improvise et on joue avec le langage… en chantant !  \n\n\n\nLes cycles dans la musiqueIntro\, build-up\, breaks n’auront plus de secret pour toi ! Apprends à composer des morceaux selon une structure qui a du sens. \n\n\n\nSamba ReggaeIci\, la Samba-Reggae part à la rencontre du Rythme Signé\, et vice-versa ! \n\n\n\nLes intervenants\n\n\n\n\n\n\nMichele Braguti \n\n\n\n\n\n\nMichele Braguti \n\n\n\nMichele a baigné dans la musique dès son plus jeune âge. Après une dizaine d’années de pratique de la batterie\, sa curiosité l’a mené vers d’autres instruments de percussions\, venus du monde entier. Au cours de ses voyages et de ses études il a exploré les traditions rythmiques méditerranéennes\, africaines et latino-américaines. Il s’intéresse également à la musque d’un point de vue anthropologique\, relationnel et communautaire. \n\n\n\nAprès un passage au CERPS (le Centre d’Étude des Rythmes et des Percussions Signées créé par Santiago Vazquez où il enseigne le Rythme Signé)\, il a fondé à son retour en Italie le collectif « Combo Suonda« . Il est également aujourd’hui le directeur artistique des Rencontres Italiennes du Rythme Signé et a édité l’édition anglo-italienne du manuel Ritmo con Segni. \n\n\n\n\n\n\n\nPierre Charrier \n\n\n\nRiche de ses rencontres avec des musicien.ne.s Malien.ne.s et Français.es\, Pierre vit de sa passion pour les percussions depuis 15 ans maintenant. C’est avec la même passion qu’il aime transmettre et faire découvrir ce monde incroyable des tambours. Le Rythme Signé a changé sa vie de musicien et d’enseignant\, intuitif et très rythmique\, c’est son outil de composition et de pratique collective n°1. Pierre est percussionniste et directeur dans le groupe Café Frappé. \n\n\n\nAntoine Aupetit \n\n\n\nAntoine est percussionniste\, intervenant musical\, directeur en Rythme Signé et co-fondateur de l’association Orange Platine. Il a découvert le Rythme Signé lors d’un long séjour en Argentine\, et a continué à se former à son retour en France en constituant un groupe de travail sur Angers\, qui deviendra par la suite le premier orchestre de percussions à utiliser le Rythme Signé en France : Café Frappé. \n\n\n\n\n\nClément Pineau \n\n\n\nClément fait partie de l’équipe d’Orange Platine depuis deux ans\, il est musicien intervenant\, formé au CFMI de Tours. Clément dirige de nombreux ateliers de Rythme Signé en tant que directeur pour de nombreux publics. Il est aussi musicien professionnel\, notamment batteur du groupe Gondhawa et percussionniste et directeur au sein de Café Frappé. \n\n\n\nMathias Van Ceulen \n\n\n\nMathias pratique les percussions depuis une quinzaine d’années au sein d’associations\, de groupes de spectacles de rue\, de cours de danse mandingue\, et a enseigné régulièrement sur des cours ou des stages. Il s’est formé au Rythme Signé sur plusieurs stages en France\, mais aussi à Buenos Aires (Argentine) où il a étudié dans l’école fondée par le créateur de cette pratique. Aujourd’hui Mathias est directeur confirmé et musicien dans le groupe Café Frappé\, et il enseigne le Rythme Signé au sein d’Orange Platine en dirigeant le groupe Baraketu. \n\n\n\n\n\n\n\n\n\n\nJE M’INSCRIS\n\n\n\n\n\n\n\n\n\n\nLe lieu \n\n\n\n\n\n\n\nL’organisateur
URL:https://orangeplatine.fr/event/intensif-rs-hiver24/
LOCATION:La Galerie Sonore\, 1 rue du Pin\, Angers\, 49000
CATEGORIES:Ateliers et stages
ATTACH;FMTTYPE=image/jpeg:https://orangeplatine.fr/wp-content/uploads/2023/11/intensif-hiver24-banner-min.jpg
ORGANIZER;CN="Orange Platine":MAILTO:contact@orangeplatine.fr
END:VEVENT
END:VCALENDAR