BEGIN:VCALENDAR
VERSION:2.0
PRODID:-//Orange Platine - ECPv6.15.20//NONSGML v1.0//EN
CALSCALE:GREGORIAN
METHOD:PUBLISH
X-WR-CALNAME:Orange Platine
X-ORIGINAL-URL:https://orangeplatine.fr
X-WR-CALDESC:Évènements pour Orange Platine
REFRESH-INTERVAL;VALUE=DURATION:PT1H
X-Robots-Tag:noindex
X-PUBLISHED-TTL:PT1H
BEGIN:VTIMEZONE
TZID:Europe/Paris
BEGIN:DAYLIGHT
TZOFFSETFROM:+0100
TZOFFSETTO:+0200
TZNAME:CEST
DTSTART:20220327T010000
END:DAYLIGHT
BEGIN:STANDARD
TZOFFSETFROM:+0200
TZOFFSETTO:+0100
TZNAME:CET
DTSTART:20221030T010000
END:STANDARD
BEGIN:DAYLIGHT
TZOFFSETFROM:+0100
TZOFFSETTO:+0200
TZNAME:CEST
DTSTART:20230326T010000
END:DAYLIGHT
BEGIN:STANDARD
TZOFFSETFROM:+0200
TZOFFSETTO:+0100
TZNAME:CET
DTSTART:20231029T010000
END:STANDARD
BEGIN:DAYLIGHT
TZOFFSETFROM:+0100
TZOFFSETTO:+0200
TZNAME:CEST
DTSTART:20240331T010000
END:DAYLIGHT
BEGIN:STANDARD
TZOFFSETFROM:+0200
TZOFFSETTO:+0100
TZNAME:CET
DTSTART:20241027T010000
END:STANDARD
END:VTIMEZONE
BEGIN:VEVENT
DTSTART;TZID=Europe/Paris:20231118T093000
DTEND;TZID=Europe/Paris:20231118T170000
DTSTAMP:20260422T084826
CREATED:20231030T114739Z
LAST-MODIFIED:20231116T133415Z
UID:5941-1700299800-1700326800@orangeplatine.fr
SUMMARY:STAGE D'IMPRO #THÉÂTRE • Peu mais assez ! @Le Quart'Ney - Angers
DESCRIPTION:PEU MAIS ASSEZ !\n\n\n\nSTAGE DE THÉÂTRE • avec Gilles Simonin\n\n\n\n\n\nEn théâtre – qu’il soit à texte\, improvisé ou encore en danse théâtralisée\, l’identité d’un personnage se dessine au travers de son expression corporelle. \n\n\n\nAu travers d’exercices sur l’approche du corps\, du mime et des intentions de jeu en silence\, viens t’entraîner à donner vie à des personnages et des situations qui sonnent justes. Le tout sera mis en situation pour travailler sur scène et sera adapté selon les niveaux de chacun.e et vos envies d’aller vers un travail improvisé ou écrit. \n\n\n\n\n\n\n\n\nJE M’INSCRIS\n\n\n\n\n\n\nSamedi 18 novembre 20239:30 > 17:00Le Quart’Ney5-9 rue Ernest Eugène Duboys49100 AngersTarifs75€ – plein tarif70€ – adhérents à Orange Platine \n\n\n\n\n\nL’intervenant\n\n\n\n\n\n\nGilles Simonin \n\n\n\n\n\n\nAu début des années 2000\, Gilles a commencé par le café-théâtre\, arpentant les plateaux de sketchs et d’improvisation\, puis s’est rapidement essayé à la direction d’acteurs dans des pièces classiques au TAUST : Théâtre Amateur Universitaire des Sciences et Techniques à Montpellier. Chaque discipline était alors portée par un professionnel expert de ces domaines. Gilles s’est essayé à un peu tout : à la radio\, aux courts et moyens métrages\, le clown et cherche à mixer les différentes disciplines dans le théâtre classique et surtout en improvisation. Il développe sa vision du jeu basé sur les fondements du clown tout en restant dans un théâtre classique ou d’improvisation. Depuis sept ans Gilles joue à Nantes dans la troupe des Lutins Givrés\, et a été formé et dirigé par Agnès Joubert (ils créent une Cie ensemble en 2023). Il donne également plusieurs formations et a participé à plusieurs créations de formats longs (DuoSolo\, Cross\, Cookie\, Nemesis\, Capsules …) dont un spécialement tournée autour du clown pour le CITO en 2018. \n\n\n\n\n\n\n\n\n\n\n\nLe lieu \n\n\n\n\n\n\n\nL’organisateur
URL:https://orangeplatine.fr/event/stage-theatre-2324/
LOCATION:Le Quart’Ney\, 5-9 Rue Duboys\, Angers\, 49100\, France
CATEGORIES:Ateliers et stages
ATTACH;FMTTYPE=image/jpeg:https://orangeplatine.fr/wp-content/uploads/2023/10/stage2324-theatre-GS2.jpg
ORGANIZER;CN="Orange Platine":MAILTO:contact@orangeplatine.fr
END:VEVENT
END:VCALENDAR