BEGIN:VCALENDAR
VERSION:2.0
PRODID:-//Orange Platine - ECPv6.15.20//NONSGML v1.0//EN
CALSCALE:GREGORIAN
METHOD:PUBLISH
X-WR-CALNAME:Orange Platine
X-ORIGINAL-URL:https://orangeplatine.fr
X-WR-CALDESC:Évènements pour Orange Platine
REFRESH-INTERVAL;VALUE=DURATION:PT1H
X-Robots-Tag:noindex
X-PUBLISHED-TTL:PT1H
BEGIN:VTIMEZONE
TZID:Europe/Paris
BEGIN:DAYLIGHT
TZOFFSETFROM:+0100
TZOFFSETTO:+0200
TZNAME:CEST
DTSTART:20220327T010000
END:DAYLIGHT
BEGIN:STANDARD
TZOFFSETFROM:+0200
TZOFFSETTO:+0100
TZNAME:CET
DTSTART:20221030T010000
END:STANDARD
BEGIN:DAYLIGHT
TZOFFSETFROM:+0100
TZOFFSETTO:+0200
TZNAME:CEST
DTSTART:20230326T010000
END:DAYLIGHT
BEGIN:STANDARD
TZOFFSETFROM:+0200
TZOFFSETTO:+0100
TZNAME:CET
DTSTART:20231029T010000
END:STANDARD
BEGIN:DAYLIGHT
TZOFFSETFROM:+0100
TZOFFSETTO:+0200
TZNAME:CEST
DTSTART:20240331T010000
END:DAYLIGHT
BEGIN:STANDARD
TZOFFSETFROM:+0200
TZOFFSETTO:+0100
TZNAME:CET
DTSTART:20241027T010000
END:STANDARD
END:VTIMEZONE
BEGIN:VEVENT
DTSTART;TZID=Europe/Paris:20230914T093000
DTEND;TZID=Europe/Paris:20230914T170000
DTSTAMP:20260422T111550
CREATED:20230705T130000Z
LAST-MODIFIED:20230831T155059Z
UID:5608-1694683800-1694710800@orangeplatine.fr
SUMMARY:Stage pour musicien.nes pro avec Santiago Vazquez | Premières rencontres françaises du Rythme Signé
DESCRIPTION:Stage pour musicien.nes professionnel.les avec Santiago Vazquez\n\n\n\nDans le cadre des Premières rencontres françaises du Rythme Signé du 14 au 17 septembre 2023 à Angers. \n\n\n\n\n\nCe stage ne se résume pas à emmagasiner des connaissances théoriques\, c’est un véritable atelier expérientiel. Les participants pourront acquérir progressivement les gestes du langage et leurs applications lors d’exercices de jeu en groupe ainsi que s’essayer à la direction d’ensemble. Le but est de s’approprier le Rythme Signé en avançant par étapes successives pour finalement arriver à en faire un outil commun d’expression artistique et de création. \n\n\n\nÀ qui s’adresse ce stage ? Aux musiciens professionnels\, aux chefs d’orchestre\, aux directeurs d’ensemble\, aux musiciens intervenants\, aux professeurs de musique\, aux étudiants en musique\, … \n\n\n\n\n\nStage pour musicien.nes professionnel.lesAvec Santiago VazquezJeudi 14 septembre 20239:30 > 17:00Studios Tostaky56 bld. du Doyenné – AngersTarifs120€ \n\n\n\n\n\n\nJE M’INSCRIS\n\n\n\n\n\n\n\n\nSantiago Vazquez\, inventeur du Rythme Signé\n\n\n\n\nGrand génie musical\, Santiago Vazquez a développé le langage du Rythme Signé en 2006. Pour sa mise en pratique\, il a monté plusieurs ensembles musicaux devenus de véritables institutions en Argentine tels que La Bomba de Tiempo\, La Grande\, Pan ou plus récemment ÑU. Face à l’engouement entourant ce phénomène musical\, Santiago a fondé l’école du CERPS (Centre d’Études de Rythmes et de Percussions Signées) dédiée à l’étude du langage et aux techniques de composition en temps réel. \n\n\n\n\n\n\n\n\n\n\nLe lieu \n\n\n\n\n\n\n\nL’organisateur
URL:https://orangeplatine.fr/event/1eres-rencontres-rs-stage-pro/
LOCATION:Studios Tostaky – Le Chabada\, 56 bd du Doyenné\, Angers\, 49100\, France
CATEGORIES:Ateliers et stages
ATTACH;FMTTYPE=image/jpeg:https://orangeplatine.fr/wp-content/uploads/2023/08/OP_rencontresRS23-stagepro-scaled.jpg
ORGANIZER;CN="Orange Platine":MAILTO:contact@orangeplatine.fr
END:VEVENT
END:VCALENDAR