BEGIN:VCALENDAR
VERSION:2.0
PRODID:-//Orange Platine - ECPv6.15.20//NONSGML v1.0//EN
CALSCALE:GREGORIAN
METHOD:PUBLISH
X-ORIGINAL-URL:https://orangeplatine.fr
X-WR-CALDESC:Évènements pour Orange Platine
REFRESH-INTERVAL;VALUE=DURATION:PT1H
X-Robots-Tag:noindex
X-PUBLISHED-TTL:PT1H
BEGIN:VTIMEZONE
TZID:Europe/Paris
BEGIN:DAYLIGHT
TZOFFSETFROM:+0100
TZOFFSETTO:+0200
TZNAME:CEST
DTSTART:20230326T010000
END:DAYLIGHT
BEGIN:STANDARD
TZOFFSETFROM:+0200
TZOFFSETTO:+0100
TZNAME:CET
DTSTART:20231029T010000
END:STANDARD
BEGIN:DAYLIGHT
TZOFFSETFROM:+0100
TZOFFSETTO:+0200
TZNAME:CEST
DTSTART:20240331T010000
END:DAYLIGHT
BEGIN:STANDARD
TZOFFSETFROM:+0200
TZOFFSETTO:+0100
TZNAME:CET
DTSTART:20241027T010000
END:STANDARD
BEGIN:DAYLIGHT
TZOFFSETFROM:+0100
TZOFFSETTO:+0200
TZNAME:CEST
DTSTART:20250330T010000
END:DAYLIGHT
BEGIN:STANDARD
TZOFFSETFROM:+0200
TZOFFSETTO:+0100
TZNAME:CET
DTSTART:20251026T010000
END:STANDARD
END:VTIMEZONE
BEGIN:VEVENT
DTSTART;TZID=Europe/Paris:20240406T140000
DTEND;TZID=Europe/Paris:20240406T170000
DTSTAMP:20260421T234657
CREATED:20231204T135919Z
LAST-MODIFIED:20231204T135922Z
UID:6053-1712412000-1712422800@orangeplatine.fr
SUMMARY:Stage d'impro #Danse • Composer individuellement ou en collectif @Le Quart'Ney - Angers
DESCRIPTION:COMPOSER INDIVIDUELLEMENT OU EN COLLECTIF\n\n\n\nSTAGE DE DANSE • avec Élodie Gallez\n\n\n\n\n\nQuelle joie de sentir une impro danse se « composer toute seule » ! Constater et reconnaître que l’équilibre fonctionne\, que l’on passe de soi au groupe avec aisance et évidence\, et que cette fluidité compose une improvisation riche et visuelle ! \n\n\n\nEt pourtant… Il en faut de l’expérimentation pour que cette facilité se dessine et se mette en œuvre dans l’instantané\, en pleine danse ! Dessiner une impro pour soi\, en construire une à plusieurs\, et même imbriquer les deux\, demande une grande attention\, et l’ouverture des capteurs sensitifs ! \n\n\n\n\n\nSamedi 6 avril14:00 > 17:00Le Quart’Ney5-9 rue Ernest Eugène Duboys49100 AngersTarifs40€ – tarif plein35€ – tarif réduit \n\n\n\n\n\nExplorons ensemble quelques-uns des outils\, concrets et sensoriels\, qui peuvent guider et accompagner la composition de l’impro dansée. Des ressources pratiques et corporelles à mettre en place seul.e et à plusieurs\, dans la danse\, pour enrichir l’impro individuelle\, affermir l’impro collective\, et favoriser le mouvement et l’harmonie entre les deux ! \n\n\n\n\n\n\n\n\nJE M’INSCRIS\n\n\n\n\n\n\n\n\nL’intervenante \n\n\n\n\nÉlodie Gallez \n\n\n\nÉlodie est danseuse et professeure de danse improvisée au sein d’Orange Platine\, où elle a créé la LADI – Ligue Angevine de Danse Improvisée. Elle propose de nombreux cours et ateliers auprès de publics variés\, de tous âges et de tous horizons\, amateurs et professionnels. Elle privilégie une approche dynamique du système corporel et moteur\, et s’attache à en comprendre et en développer le rôle et l’impact dans l’expression et le mouvement\, tout en favorisant le déploiement de la créativité propre à chacun. \n\n\n\n\n\n\n\n\n\n\nLe lieu \n\n\n\n\n\n\n\nL’organisateur
URL:https://orangeplatine.fr/event/stagedanse-0424/
LOCATION:Le Quart’Ney\, 5-9 Rue Duboys\, Angers\, 49100\, France
CATEGORIES:Ateliers et stages
ATTACH;FMTTYPE=image/jpeg:https://orangeplatine.fr/wp-content/uploads/2023/10/stage2324-danse-EG.jpg
ORGANIZER;CN="Orange Platine":MAILTO:contact@orangeplatine.fr
END:VEVENT
END:VCALENDAR