BEGIN:VCALENDAR
VERSION:2.0
PRODID:-//Orange Platine - ECPv6.15.20//NONSGML v1.0//EN
CALSCALE:GREGORIAN
METHOD:PUBLISH
X-ORIGINAL-URL:https://orangeplatine.fr
X-WR-CALDESC:Évènements pour Orange Platine
REFRESH-INTERVAL;VALUE=DURATION:PT1H
X-Robots-Tag:noindex
X-PUBLISHED-TTL:PT1H
BEGIN:VTIMEZONE
TZID:Europe/Paris
BEGIN:DAYLIGHT
TZOFFSETFROM:+0100
TZOFFSETTO:+0200
TZNAME:CEST
DTSTART:20220327T010000
END:DAYLIGHT
BEGIN:STANDARD
TZOFFSETFROM:+0200
TZOFFSETTO:+0100
TZNAME:CET
DTSTART:20221030T010000
END:STANDARD
BEGIN:DAYLIGHT
TZOFFSETFROM:+0100
TZOFFSETTO:+0200
TZNAME:CEST
DTSTART:20230326T010000
END:DAYLIGHT
BEGIN:STANDARD
TZOFFSETFROM:+0200
TZOFFSETTO:+0100
TZNAME:CET
DTSTART:20231029T010000
END:STANDARD
BEGIN:DAYLIGHT
TZOFFSETFROM:+0100
TZOFFSETTO:+0200
TZNAME:CEST
DTSTART:20240331T010000
END:DAYLIGHT
BEGIN:STANDARD
TZOFFSETFROM:+0200
TZOFFSETTO:+0100
TZNAME:CET
DTSTART:20241027T010000
END:STANDARD
END:VTIMEZONE
BEGIN:VEVENT
DTSTART;TZID=Europe/Paris:20231118T200000
DTEND;TZID=Europe/Paris:20231118T220000
DTSTAMP:20260426T051718
CREATED:20231013T093448Z
LAST-MODIFIED:20231013T095014Z
UID:5939-1700337600-1700344800@orangeplatine.fr
SUMMARY:Match d'impro danse • LADI S07E01 @MPT Monplaisir - Angers
DESCRIPTION:Premier match de la saison !\n\n\n\n\n\nLes entraînements ont repris il y a peu de temps pour les danseurs et danseuses de la LADI – Ligue Angevine de Danse Improvisée\, et iels ont déjà hâte de retrouver la scène ! \n\n\n\nLe match d’impro danse\n\n\n\nUn arbitre\, assisté d’un MC (maître de cérémonie)\, impose à deux équipes de danseur.euses des thématiques et des catégories sur lesquelles iels vont devoir improviser de leur mieux. Les improvisations peuvent être mixtes (les deux équipes jouent ensemble)\, ou comparées (les deux équipes jouent l’une après l’autre).  \n\n\n\nDans tous les cas\, c’est au public de voter afin de départager les deux équipes ! \n\n\n\n\n\nSamedi 18 novembre 202320:00 – ouverture des portes20:30 – début du spectacleMPT Monplaisir3 rue de l’écriture49100 AngersTarifs4€ > 9€ \n\n\n\n\n\nTarif en prévente : 7€ / 6€ pour les groupes\, les inscrits à Pôle Emploi et les -24 ans / 4€ pour les -12 ansTarif sur place : 9€ / 7€ pour les groupes\, les inscrits à Pôle Emploi et les -24 ans / 4€ pour les -12 ans \n\n\n\n\n\n\n\n\nJE RÉSERVE MA PLACE\n\n\n\n\n\n\n\n\n\n\n\n\n\n\n\n\n\n\n\n\nLe lieu \n\n\n\n\n\n\n\nL’organisateur
URL:https://orangeplatine.fr/event/ladi-s07e01/
LOCATION:MPT Monplaisir\, 3 rue de l'Écriture\, Angers\, 49100\, France
CATEGORIES:LADI,Spectacle
ATTACH;FMTTYPE=image/jpeg:https://orangeplatine.fr/wp-content/uploads/2023/10/S07E01-banner.jpg
ORGANIZER;CN="Orange Platine":MAILTO:contact@orangeplatine.fr
END:VEVENT
END:VCALENDAR