BEGIN:VCALENDAR
VERSION:2.0
PRODID:-//Orange Platine - ECPv6.15.20//NONSGML v1.0//EN
CALSCALE:GREGORIAN
METHOD:PUBLISH
X-ORIGINAL-URL:https://orangeplatine.fr
X-WR-CALDESC:Évènements pour Orange Platine
REFRESH-INTERVAL;VALUE=DURATION:PT1H
X-Robots-Tag:noindex
X-PUBLISHED-TTL:PT1H
BEGIN:VTIMEZONE
TZID:Europe/Paris
BEGIN:DAYLIGHT
TZOFFSETFROM:+0100
TZOFFSETTO:+0200
TZNAME:CEST
DTSTART:20220327T010000
END:DAYLIGHT
BEGIN:STANDARD
TZOFFSETFROM:+0200
TZOFFSETTO:+0100
TZNAME:CET
DTSTART:20221030T010000
END:STANDARD
BEGIN:DAYLIGHT
TZOFFSETFROM:+0100
TZOFFSETTO:+0200
TZNAME:CEST
DTSTART:20230326T010000
END:DAYLIGHT
BEGIN:STANDARD
TZOFFSETFROM:+0200
TZOFFSETTO:+0100
TZNAME:CET
DTSTART:20231029T010000
END:STANDARD
BEGIN:DAYLIGHT
TZOFFSETFROM:+0100
TZOFFSETTO:+0200
TZNAME:CEST
DTSTART:20240331T010000
END:DAYLIGHT
BEGIN:STANDARD
TZOFFSETFROM:+0200
TZOFFSETTO:+0100
TZNAME:CET
DTSTART:20241027T010000
END:STANDARD
END:VTIMEZONE
BEGIN:VEVENT
DTSTART;TZID=Europe/Paris:20231117T180000
DTEND;TZID=Europe/Paris:20231117T220000
DTSTAMP:20260424T090005
CREATED:20231018T092530Z
LAST-MODIFIED:20231018T092531Z
UID:5961-1700244000-1700258400@orangeplatine.fr
SUMMARY:Jam impro libre & Rythme Signé @Le 122 - Angers
DESCRIPTION:JAM IMPRO LIBRE & RYTHME SIGNÉ\n\n\n\nDévoile-nous tes talents d’improvisateur.ice !\n\n\n\n\n\nOrange Platine et La Fabrique Musicale Angevine te propose une soirée sous le signe de l’improvisation musicale ! \n\n\n\nLes jams sont des espaces de jeu où des musiciens venus d’univers différents se rassemblent pour partager leur passion sur scène et improviser de la musique ensemble. On vous propose de pimenter un peu ce concept à la sauce Rythme Signé ! \n\n\n\nIci\, l’improvisation est dirigée par un chef d’orchestre à l’aide d’un langage de gestes (le fameux Rythme Signé). Tous les musiciens connaissent le langage et suivent les indications du directeur qui va faire évoluer la musique et donner à chaque musicien son espace d’expression.Le rendu musical\, souvent très rythmique\, invite les têtes à se dandiner et les pieds à battre la mesure si ce n’est plus !  \n\n\n\n\n\nVendredi 17 novembre 202318:30 • initiation au Rythme Signé20:00 • JAMLe 122 – Terrain de jeu culturel138 rue de la chalouère49100 – AngersEntrée à prix libreSans réservation \n\n\n\n\n\nUne initiation au Rythme Signé pour bien démarrer la soirée\n\n\n\nCette histoire de Rythme Signé t’interroge ? Tu voudrais monter sur scène lors de la JAM mais tu ne connais pas le langage ? Pas de panique : on te propose une initiation dès 18:30 pour te mettre dans le bain. Avec les percussions mises à disposition\, tu pourras créer de la musique en collectif en un rien de temps\, que tu sois déjà musicien.ne ou non !Prix libre / sans inscription \n\n\n\n\n\n\n\n\n\nLe lieu \n\n\n\n\n\n\n\nLes organisateurs
URL:https://orangeplatine.fr/event/jam-1123/
LOCATION:Le 122\, 122 rue de la Chalouère\, Angers\, 49100\, France
CATEGORIES:Ateliers et stages,Spectacle
ATTACH;FMTTYPE=image/png:https://orangeplatine.fr/wp-content/uploads/2023/10/POST-FB-jam.png
END:VEVENT
END:VCALENDAR