BEGIN:VCALENDAR
VERSION:2.0
PRODID:-//Orange Platine - ECPv6.15.20//NONSGML v1.0//EN
CALSCALE:GREGORIAN
METHOD:PUBLISH
X-WR-CALNAME:Orange Platine
X-ORIGINAL-URL:https://orangeplatine.fr
X-WR-CALDESC:Évènements pour Orange Platine
REFRESH-INTERVAL;VALUE=DURATION:PT1H
X-Robots-Tag:noindex
X-PUBLISHED-TTL:PT1H
BEGIN:VTIMEZONE
TZID:Europe/Paris
BEGIN:DAYLIGHT
TZOFFSETFROM:+0100
TZOFFSETTO:+0200
TZNAME:CEST
DTSTART:20220327T010000
END:DAYLIGHT
BEGIN:STANDARD
TZOFFSETFROM:+0200
TZOFFSETTO:+0100
TZNAME:CET
DTSTART:20221030T010000
END:STANDARD
BEGIN:DAYLIGHT
TZOFFSETFROM:+0100
TZOFFSETTO:+0200
TZNAME:CEST
DTSTART:20230326T010000
END:DAYLIGHT
BEGIN:STANDARD
TZOFFSETFROM:+0200
TZOFFSETTO:+0100
TZNAME:CET
DTSTART:20231029T010000
END:STANDARD
BEGIN:DAYLIGHT
TZOFFSETFROM:+0100
TZOFFSETTO:+0200
TZNAME:CEST
DTSTART:20240331T010000
END:DAYLIGHT
BEGIN:STANDARD
TZOFFSETFROM:+0200
TZOFFSETTO:+0100
TZNAME:CET
DTSTART:20241027T010000
END:STANDARD
END:VTIMEZONE
BEGIN:VEVENT
DTSTART;TZID=Europe/Paris:20230914T093000
DTEND;TZID=Europe/Paris:20230914T170000
DTSTAMP:20260424T103101
CREATED:20230705T130000Z
LAST-MODIFIED:20230831T155059Z
UID:5608-1694683800-1694710800@orangeplatine.fr
SUMMARY:Stage pour musicien.nes pro avec Santiago Vazquez | Premières rencontres françaises du Rythme Signé
DESCRIPTION:Stage pour musicien.nes professionnel.les avec Santiago Vazquez\n\n\n\nDans le cadre des Premières rencontres françaises du Rythme Signé du 14 au 17 septembre 2023 à Angers. \n\n\n\n\n\nCe stage ne se résume pas à emmagasiner des connaissances théoriques\, c’est un véritable atelier expérientiel. Les participants pourront acquérir progressivement les gestes du langage et leurs applications lors d’exercices de jeu en groupe ainsi que s’essayer à la direction d’ensemble. Le but est de s’approprier le Rythme Signé en avançant par étapes successives pour finalement arriver à en faire un outil commun d’expression artistique et de création. \n\n\n\nÀ qui s’adresse ce stage ? Aux musiciens professionnels\, aux chefs d’orchestre\, aux directeurs d’ensemble\, aux musiciens intervenants\, aux professeurs de musique\, aux étudiants en musique\, … \n\n\n\n\n\nStage pour musicien.nes professionnel.lesAvec Santiago VazquezJeudi 14 septembre 20239:30 > 17:00Studios Tostaky56 bld. du Doyenné – AngersTarifs120€ \n\n\n\n\n\n\nJE M’INSCRIS\n\n\n\n\n\n\n\n\nSantiago Vazquez\, inventeur du Rythme Signé\n\n\n\n\nGrand génie musical\, Santiago Vazquez a développé le langage du Rythme Signé en 2006. Pour sa mise en pratique\, il a monté plusieurs ensembles musicaux devenus de véritables institutions en Argentine tels que La Bomba de Tiempo\, La Grande\, Pan ou plus récemment ÑU. Face à l’engouement entourant ce phénomène musical\, Santiago a fondé l’école du CERPS (Centre d’Études de Rythmes et de Percussions Signées) dédiée à l’étude du langage et aux techniques de composition en temps réel. \n\n\n\n\n\n\n\n\n\n\nLe lieu \n\n\n\n\n\n\n\nL’organisateur
URL:https://orangeplatine.fr/event/1eres-rencontres-rs-stage-pro/
LOCATION:Studios Tostaky – Le Chabada\, 56 bd du Doyenné\, Angers\, 49100\, France
CATEGORIES:Ateliers et stages
ATTACH;FMTTYPE=image/jpeg:https://orangeplatine.fr/wp-content/uploads/2023/08/OP_rencontresRS23-stagepro-scaled.jpg
ORGANIZER;CN="Orange Platine":MAILTO:contact@orangeplatine.fr
END:VEVENT
BEGIN:VEVENT
DTSTART;TZID=Europe/Paris:20230914T180000
DTEND;TZID=Europe/Paris:20230914T200000
DTSTAMP:20260424T103101
CREATED:20230705T130000Z
LAST-MODIFIED:20230831T155122Z
UID:5621-1694714400-1694721600@orangeplatine.fr
SUMMARY:Table ronde et projection au 122 | Premières rencontres françaises du Rythme Signé
DESCRIPTION:Table ronde et projection de documentaire au 122\n\n\n\nDans le cadre des premières rencontres françaises du Rythme Signé du 14 au 17 septembre 2023 à Angers. \n\n\n\n\n\nTable ronde | Quelle place pour l’improvisation dans les musiques actuelles ? En musique\, l’improvisation est souvent associée au jazz. Mais qu’en est-il de sa place et de son rôle dans les autres genres musicaux ? Est-elle une simple étape dans le processus créatif des musicien.nes ou peut-elle effectivement être mise en spectacle ? Peut-elle trouver sa place dans une industrie musicale centrée sur l’enregistrement ? \n\n\n\nProjection | Épisode 3 de la série documentaire « Ritmo con Señas » du collectif MicroPolisAprès la diffusion des deux premiers épisodes de leur série documentaire en juin dernier\, le collectif MicroPolis revient à Angers pour nous en dévoiler la suite !  \n\n\n\n\n\nTable ronde + projection de documentaireJeudi 14 septembre 202318:00Le 122 – Terrain de jeu culturel138 rue de la chalouère – AngersGratuitSans réservation \n\n\n\n\n\n\n\n\n\n\n\n\n\n\n\n\n\n\n\n\n\n\n\n\n\nLe lieu \n\n\n\n\n\n\n\nL’organisateur
URL:https://orangeplatine.fr/event/1eres-rencontres-rs-table-ronde/
LOCATION:Le 122\, 122 rue de la Chalouère\, Angers\, 49100\, France
CATEGORIES:Conférence
ATTACH;FMTTYPE=image/jpeg:https://orangeplatine.fr/wp-content/uploads/2023/08/OP_rencontresRS23-tableronde-scaled.jpg
ORGANIZER;CN="Orange Platine":MAILTO:contact@orangeplatine.fr
END:VEVENT
BEGIN:VEVENT
DTSTART;TZID=Europe/Paris:20230915T203000
DTEND;TZID=Europe/Paris:20230915T230000
DTSTAMP:20260424T103101
CREATED:20230705T130000Z
LAST-MODIFIED:20230831T155150Z
UID:5636-1694809800-1694818800@orangeplatine.fr
SUMMARY:Café Frappé feat. Santiago Vazquez | Premières rencontres françaises du Rythme Signé
DESCRIPTION:Café Frappé feat. Santiago Vazquez en concert\n\n\n\nDans le cadre des premières rencontres françaises du Rythme Signé du 14 au 17 septembre 2023 à Angers. \n\n\n\n\n\nPour la toute première fois\, Orange Platine investi Le Chabada pour vous proposer une soirée exceptionnelle. Premier groupe français à s’être emparé du langage du Rythme Signé pour faire danser la foule\, Café Frappé en sera la star.  \n\n\n\nCorsée\, intense\, hyper rythmée et surtout improvisée\, la musique de Café Frappé est toujours dans le groove et à la limite de la transe avec son habileté à mêler musiques traditionnelles et actuelles. \n\n\n\nÀ soirée exceptionnelle\, invité exceptionnel : Santiago Vazquez accompagnera nos musiciens sur scène. En provenance directe d’Argentine\, ce multi-instrumentiste et compositeur de génie n’est autre que le créateur du langage lui-même ! Un véritable honneur pour les musiciens mais surtout pour le public de voir le maestro à l’œuvre. \n\n\n\nLa première partie de ce concert sera quant à elle assurée par les musiciens improvisateurs d’un groupe tout beau tout neuf : Bardane ! \n\n\n\n\n\nCafé Frappé feat. Santiago Vazquez+ Bardane en première partieVendredi 15 septembre 202320:30 – Bardane21:30 – Café Frappé feat. Santiago VazquezLe Chabada – Scènes de Musiques Actuelles56 bd. du Doyenne – AngersTarifsCarte Chabada 10€Pré-vente 13€Sur place 15€ \n\n\n\n\n\n\n\n\n\n\nJE RÉSERVE MA PLACE\n\n\n\n\n\n\n\n\n\n\n\n\n\nBardane \n\n\n\nAvec ses influences variées et ses grooves mutltiformes : pop\, soul\, funk\, world\, afro-jazz et peut-être même un peu rock\, tout peut sortir de cet orchestre d’un nouveau genre dont la spécialité est la composition en temps réelle. Une musique ludique\, originale et accrocheuse pour inviter le public à la danse !Bardane n.f. : plante commune qui s’accroche aux vêtements. \n\n\n\n\n\nCafé Frappé \n\n\n\nCafé Frappé est le premier groupe en France à utiliser le Rythme Signé pour diriger et composer sa musique. Les 12 percussionnistes sur scène se laissent guider par les indications d’un chef d’orchestre et improvisent chacun des boucles qui en se superposant les unes aux autres créent une symphonie dansante aux saveurs de musiques du monde.  \n\n\n\n\n\nSantiago Vazquez \n\n\n\nGrand génie musical\, Santiago Vazquez a développé le langage du Rythme Signé en 2006. Pour sa mise en pratique\, il a monté plusieurs ensembles musicaux devenus de véritables institutions en Argentine tels que La Bomba de Tiempo\, La Grande\, Pan ou plus récemment ÑU. Face à l’engouement entourant ce phénomène musical\, Santiago a fondé l’école du CERPS (Centre d’Études de Rythmes et de Percussions Signées) dédiée à l’étude du langage et aux techniques de composition en temps réel. \n\n\n\n\n\n\n\n\n\nJE RÉSERVE MA PLACE\n\n\n\n\n\n\n\n\n\n\nLe lieu \n\n\n\n\n\n\n\nL’organisateur
URL:https://orangeplatine.fr/event/1eres-rencontres-rs-cf-feat-sv/
LOCATION:Le Chabada\, 56 bld. du Doyenné\, Angers\, 49100
CATEGORIES:Café Frappé
ATTACH;FMTTYPE=image/jpeg:https://orangeplatine.fr/wp-content/uploads/2023/08/OP_rencontresRS23-concertCF-scaled.jpg
ORGANIZER;CN="Orange Platine":MAILTO:contact@orangeplatine.fr
END:VEVENT
BEGIN:VEVENT
DTSTART;TZID=Europe/Paris:20230916T093000
DTEND;TZID=Europe/Paris:20230917T170000
DTSTAMP:20260424T103101
CREATED:20230705T130000Z
LAST-MODIFIED:20230831T155212Z
UID:5573-1694856600-1694970000@orangeplatine.fr
SUMMARY:Master Classe de Santiago Vazquez | Premières rencontres françaises de Rythme Signé
DESCRIPTION:Master classe | Réinventer l’improvisation musicale collective\n\n\n\nDans le cadre des Premières rencontres françaises du Rythme Signé du 14 au 17 septembre 2023. \n\n\n\n\n\n« L’improvisation\, c’est l’art de jouer avec le hasard. » – Santiago Vazquez  \n\n\n\nLe langage du Rythme Signé est un outil novateur en matière de composition collective en temps réel. Avec un répertoire restreint de signes\, un directeur peut venir influer sur tous les aspects de la musique : le tempo et la dynamique bien sûr mais aussi les mesures\, les subdivisions\, la mélodie\, les harmonies et les formes d’improvisation. \n\n\n\nAu cours de cette master classe de deux jours\, menée par Santiago Vazquez – le créateur du langage\, vous serez introduit aux signes de bases du Rythme Signé vous permettant en très peu de temps d’improviser à plusieurs ! \n\n\n\n\n\nMaster classe Réinventer l’improvisation musicale collectiveAvec Santiago VazquezSamedi 16 et dimanche 17 septembre 20239:30 > 17:00La Galerie Sonore1 rue du pin – AngersTarif140€ les 2 jours \n\n\n\n\n\nLa master classe sera assurée en espagnol et traduite en français. \n\n\n\n\nJE M’INSCRIS\n\n\n\n\n\n\n\n\nSantiago Vazquez\, inventeur du Rythme Signé\n\n\n\n\nGrand génie musical\, Santiago Vazquez a développé le langage du Rythme Signé en 2006. Pour sa mise en pratique\, il a monté plusieurs ensembles musicaux devenus de véritables institutions en Argentine tels que La Bomba de Tiempo\, La Grande\, Pan ou plus récemment ÑU. Face à l’engouement entourant ce phénomène musical\, Santiago a fondé l’école du CERPS (Centre d’Études de Rythmes et de Percussions Signées) dédiée à l’étude du langage et aux techniques de composition en temps réel. \n\n\n\n\n\n\n\n\n\n\nLe lieu \n\n\n\n\n\n\n\nL’organisateur
URL:https://orangeplatine.fr/event/1eres-rencontres-rs-master-classe/
LOCATION:La Galerie Sonore\, 1 rue du Pin\, Angers\, 49000
CATEGORIES:Ateliers et stages
ATTACH;FMTTYPE=image/jpeg:https://orangeplatine.fr/wp-content/uploads/2023/08/OP_rencontresRS23-masterclasse-scaled.jpg
ORGANIZER;CN="Orange Platine":MAILTO:contact@orangeplatine.fr
END:VEVENT
BEGIN:VEVENT
DTSTART;TZID=Europe/Paris:20230916T190000
DTEND;TZID=Europe/Paris:20230916T210000
DTSTAMP:20260424T103101
CREATED:20230705T130000Z
LAST-MODIFIED:20230831T155231Z
UID:5628-1694890800-1694898000@orangeplatine.fr
SUMMARY:Santiago Vazquez en concert | Premières rencontres françaises du Rythme Signé
DESCRIPTION:Santiago Vazquez en concert\n\n\n\nDans le cadre des premières rencontres françaises du Rythme Signé du 14 au 17 septembre 2023 à Angers. \n\n\n\n\n\nPour célébrer la journée du patrimoine Orange Platine et La Galerie Sonore s’associent pour vous proposer un concert de Santiago Vazquez qui s’inscrit également dans les premières rencontres françaises du Rythme Signé. Son répertoire des musiques du monde saura vous faire voyager au quatre coins du globe et vous faire danser selon les sonorités de chacun des continents qu’il représentera musicalement. \n\n\n\nUn Orchestre Éphémère sera également de la partie ! C’est un ensemble à variables complexes qui ne se compose jamais des mêmes instruments ni des mêmes musicien.nes. Avec le Rythme Signé comme dénominateur commun\, ils construisent et déconstruisent les morceaux en y faisant varier les genres musicaux pour en créer un nouveau : un véritable hybride d’improvisation. \n\n\n\n\n\nConcert solo de Santiago Vazquezsuivi d’un Orchestre ÉphémèreSamedi 16 septembre 202319:00 – Concert de Santiago Vazquez20:00 – Concert de l’Orchestre ÉphémèreParc du PinParc du pin – AngersGratuit – sans réservation \n\n\n\n\n\n\n\n\n\nSantiago Vazquez\, inventeur du Rythme Signé\n\n\n\n\nGrand génie musical\, Santiago Vazquez a développé le langage du Rythme Signé en 2006. Pour sa mise en pratique\, il a monté plusieurs ensembles musicaux devenus de véritables institutions en Argentine tels que La Bomba de Tiempo\, La Grande\, Pan ou plus récemment ÑU. Face à l’engouement entourant ce phénomène musical\, Santiago a fondé l’école du CERPS (Centre d’Études de Rythmes et de Percussions Signées) dédiée à l’étude du langage et aux techniques de composition en temps réel. \n\n\n\n\n\n\n\n\n\n\nLe lieu \n\n\n\n\n\n\n\nLes organisateurs
URL:https://orangeplatine.fr/event/1eres-rencontres-rs-concert-sv/
LOCATION:Parc du pin\, Parc du pin\, Angers\, 49000
CATEGORIES:Spectacle
ATTACH;FMTTYPE=image/jpeg:https://orangeplatine.fr/wp-content/uploads/2023/08/OP_rencontresRS23-concertSV-scaled.jpg
ORGANIZER;CN="Orange Platine":MAILTO:contact@orangeplatine.fr
END:VEVENT
END:VCALENDAR