BEGIN:VCALENDAR
VERSION:2.0
PRODID:-//Orange Platine - ECPv6.15.20//NONSGML v1.0//EN
CALSCALE:GREGORIAN
METHOD:PUBLISH
X-ORIGINAL-URL:https://orangeplatine.fr
X-WR-CALDESC:Évènements pour Orange Platine
REFRESH-INTERVAL;VALUE=DURATION:PT1H
X-Robots-Tag:noindex
X-PUBLISHED-TTL:PT1H
BEGIN:VTIMEZONE
TZID:Europe/Paris
BEGIN:DAYLIGHT
TZOFFSETFROM:+0100
TZOFFSETTO:+0200
TZNAME:CEST
DTSTART:20220327T010000
END:DAYLIGHT
BEGIN:STANDARD
TZOFFSETFROM:+0200
TZOFFSETTO:+0100
TZNAME:CET
DTSTART:20221030T010000
END:STANDARD
BEGIN:DAYLIGHT
TZOFFSETFROM:+0100
TZOFFSETTO:+0200
TZNAME:CEST
DTSTART:20230326T010000
END:DAYLIGHT
BEGIN:STANDARD
TZOFFSETFROM:+0200
TZOFFSETTO:+0100
TZNAME:CET
DTSTART:20231029T010000
END:STANDARD
BEGIN:DAYLIGHT
TZOFFSETFROM:+0100
TZOFFSETTO:+0200
TZNAME:CEST
DTSTART:20240331T010000
END:DAYLIGHT
BEGIN:STANDARD
TZOFFSETFROM:+0200
TZOFFSETTO:+0100
TZNAME:CET
DTSTART:20241027T010000
END:STANDARD
END:VTIMEZONE
BEGIN:VEVENT
DTSTART;TZID=Europe/Paris:20230602T173000
DTEND;TZID=Europe/Paris:20230602T200000
DTSTAMP:20260424T144129
CREATED:20230511T121114Z
LAST-MODIFIED:20230511T121116Z
UID:5460-1685727000-1685736000@orangeplatine.fr
SUMMARY:JAM IMPRO LIBRE & RYTHME SIGNÉ @LE 122 – ANGERS
DESCRIPTION:Dernière JAM de la saison\n\n\n\n\n\nLa dernière JAM de la saison est arrivée et elle va être pleine de surprises !  \n\n\n\nTout d’abord\, qu’est-ce qu’une JAM ? C’est un espace de jeu où des musiciens venus d’univers différents se rassemblent pour partager leur passion sur scène et improviser de la musique ensemble. On vous propose de pimenter un peu ce concept à la sauce Rythme Signé !Ici\, l’improvisation est dirigée par un chef d’orchestre à l’aide d’un langage de gestes (le fameux Rythme Signé). Tous les musiciens connaissent le langage et suivent les indications du directeur qui va faire évoluer la musique et donner à chaque musicien son espace d’expression. \n\n\n\n\n\nVendredi 2 juinInitiation : 18:30Projection épisode 1 : 19:30JAM : 20:00Projection épisode 2 : 22:00Le 122 – Terrain de jeu culturel138 rue de la chalouère49100 AngersTarifsInitiation : 5 €JAM et projections : Prix libre \n\n\n\n\n\nLe rendu musical\, souvent très rythmique\, invite inexorablement les têtes à se dandiner et les pieds à battre la mesure si ce n’est plus ! Si votre désir est de simplement siroter un verre en écoutant de la bonne musique\, vous êtes aussi au bon endroit. \n\n\n\nProjection de Ritmo con Señas\n\n\n\nPratiquer le Rythme Signé\, en découvrir sa force sur scène est une expérience passionnante\, mais quelle histoire se cache derrière celui-ci ? C’est ce qu’on vous propose de découvrir exceptionnellement avec la projection des deux premiers épisodes de Ritmo con Señas\, un documentaire du collectif MicroPolis. En 2020 ils se sont rendus en Argentine pour filmer ce phénomène qui bouleverse et passionne ceux qui font et aiment la musique improvisée. Une aventure humaine et palpitante ! \n\n\n\n\n\n\n\n\n\nInitiation au Rythme Signé\n\n\n\nPour ceux qui souhaiteraient également découvrir ce langage\, une initiation est possible ! Le rendez-vous est donné de 18:30 à 19:30\, un moment où vous pourrez créer de la musique en collectif\, que vous soyez déjà musicien ou non avec les percussions mises à disposition.Sans inscription / Tarif : 5 € à régler sur place \n\n\n\n\n\nLe lieu \n\n\n\n\n\n\n\nLes organisateurs
URL:https://orangeplatine.fr/event/jam-06-23/
LOCATION:Le 122\, 122 rue de la Chalouère\, Angers\, 49100\, France
CATEGORIES:Spectacle
ATTACH;FMTTYPE=image/png:https://orangeplatine.fr/wp-content/uploads/2023/05/POST-FB-jam.png
ORGANIZER;CN="Orange Platine":MAILTO:contact@orangeplatine.fr
END:VEVENT
BEGIN:VEVENT
DTSTART;TZID=Europe/Paris:20230603T093000
DTEND;TZID=Europe/Paris:20230603T123000
DTSTAMP:20260424T144129
CREATED:20230511T151947Z
LAST-MODIFIED:20230512T133413Z
UID:5456-1685784600-1685795400@orangeplatine.fr
SUMMARY:[STAGE] Chant improvisé et Rythme Signé avec Aixa Figini
DESCRIPTION:Embarquez pour un voyage musical le temps d’une demi-journée aux côtés d’Aixa Figini\, chanteuse et improvisatrice argentine. Une invitation à faire partie d’un chœur improvisé\, où la musique\, le chant et les percussions corporelles sont utilisés comme outils d’expression et de création collective. \n\n\n\nEn impro on danse parfois\, on bouge souvent et on chante beaucoup ! Ici le chant improvisé est mêlé au Rythme Signé\, un savant langage de composition en temps réel\, faisant émerger des compositions musicales et des paysages sonores inédits de manière ludique et créative. \n\n\n\nCette forme de chant a capella est conduite par un.e directeur.rice qui attribue à un groupe choristes des boucles mélodiques\, harmoniques et rythmiques sur lesquelles improviser. \n\n\n\n\n\nSamedi 3 juin9:30 > 12:30Maison du projet33 av. Notre-Dame du Lac | 49000 AngersTarifs45€ – tarif plein40€ – tarif réduit réservé aux adhérents de l’association Orange Platine \n\n\n\n\n\nCe stage sera donné en espagnol par Aixa Figini et traduit en français par Margaux Bellanger du collectif Micropolis. \n\n\n\n\nJe réserve ma place !\n\n\n\n\n\n\n\n\nL’intervenante \n\n\n\n\n\n\nAixa Figini \n\n\n\n\n\n\nAixa Figini est une chanteuse\, musicologue\, productrice et formatrice argentine. Entre Buenos Aires\, Londres\, Lisbonne et aujourd’hui Angers elle a enseigné le chant et la technique vocale et participé à de nombreux projets en tant que chanteuse de tango\, de folklore argentin\, de musique latino-américaine et d’improvisation vocale.Depuis 2018\, elle dirige l’ensemble féminin d’improvisation vocale CIRCULAR\, au Portugal. \n\n\n\n\n\n\n\nLe lieu \n\n\n\n\n\n\n\nLes organisateurs
URL:https://orangeplatine.fr/event/stage-aixa-23/
LOCATION:Maison du projet\, 33 av. Notre-Dame du Lac\, Angers\, 49000
CATEGORIES:Ateliers et stages
ATTACH;FMTTYPE=image/jpeg:https://orangeplatine.fr/wp-content/uploads/2023/05/stage-aixa-1.jpg
ORGANIZER;CN="Micropolis":MAILTO:micropolis.contact@gmail.com
END:VEVENT
END:VCALENDAR