BEGIN:VCALENDAR
VERSION:2.0
PRODID:-//Orange Platine - ECPv6.15.20//NONSGML v1.0//EN
CALSCALE:GREGORIAN
METHOD:PUBLISH
X-ORIGINAL-URL:https://orangeplatine.fr
X-WR-CALDESC:Évènements pour Orange Platine
REFRESH-INTERVAL;VALUE=DURATION:PT1H
X-Robots-Tag:noindex
X-PUBLISHED-TTL:PT1H
BEGIN:VTIMEZONE
TZID:Europe/Paris
BEGIN:DAYLIGHT
TZOFFSETFROM:+0100
TZOFFSETTO:+0200
TZNAME:CEST
DTSTART:20220327T010000
END:DAYLIGHT
BEGIN:STANDARD
TZOFFSETFROM:+0200
TZOFFSETTO:+0100
TZNAME:CET
DTSTART:20221030T010000
END:STANDARD
BEGIN:DAYLIGHT
TZOFFSETFROM:+0100
TZOFFSETTO:+0200
TZNAME:CEST
DTSTART:20230326T010000
END:DAYLIGHT
BEGIN:STANDARD
TZOFFSETFROM:+0200
TZOFFSETTO:+0100
TZNAME:CET
DTSTART:20231029T010000
END:STANDARD
BEGIN:DAYLIGHT
TZOFFSETFROM:+0100
TZOFFSETTO:+0200
TZNAME:CEST
DTSTART:20240331T010000
END:DAYLIGHT
BEGIN:STANDARD
TZOFFSETFROM:+0200
TZOFFSETTO:+0100
TZNAME:CET
DTSTART:20241027T010000
END:STANDARD
END:VTIMEZONE
BEGIN:VEVENT
DTSTART;TZID=Europe/Paris:20230304T090000
DTEND;TZID=Europe/Paris:20230305T170000
DTSTAMP:20260424T193602
CREATED:20220908T124337Z
LAST-MODIFIED:20230210T111536Z
UID:4912-1677920400-1678035600@orangeplatine.fr
SUMMARY:Découverte des circlesongs et de l'impro vocale [MASTER CLASSE] @Centre Jacques Tati - Angers
DESCRIPTION:DÉCOUVERTE DES CIRCLESONGSET DE L’IMPRO VOCALE\n\n\n\nMASTER CLASSE DE CHANT • avec Gaël Aubrit\n\n\n\n\n\nLes Circlesongs sont une forme de chant a cappella où une personne conduit un cercle de choristes en leur attribuant des “boucle“ mélodiques\, harmoniques\, rythmiques ou autres\, et en improvisant par dessus. Popularisée par Bobby McFerrin\, cette forme est en plein développement en France. Elle rassemble des chanteurs aussi bien débutants qu’expérimentés\, le temps d’une expérience collective toujours unique. \n\n\n\nCe stage propose une découverte de cette pratique. Sans nécessairement aller soi-même au centre\, ni en apprendre les ficelles\, on se laisse porter par la musique\, par le jeu et l’exploration du rythme\, de l’écoute\, du plaisir\, de la cohésion des voix. \n\n\n\n\n\nSamedi 4 et dimanche 5 mars 20239:00 > 17:00Nombre de place limitéà 30 personnesLieuCentre Jacques TatiTarif : 120€110€ pour les adhérents à l’association Orange Platine \n\n\n\n\n\nUn bon sens du rythme et de l’expérience en polyphonie sont recommandés (mais pas obligatoires) pour pleinement profiter de l’expérience. Dans tous les cas\, il est probable qu’on sorte de sa zone de confort à un moment ou à un autre. Parfois des boucles sont répétées longtemps\, parfois tout change très vite et ça demande de l’attention et de la réactivité. Parfois on improvise devant tout le monde (si on le souhaite)\, parfois on est frustré de ne pas avoir plus d’espace pour le faire. On danse parfois\, on bouge souvent\, on chante beaucoup\, on connecte avec les autres\, on passe par toutes sortes de dispositifs et d’atmosphères. \n\n\n\n\nJE M’INSCRIS\n\n\n\n\nL’intervenant\n\n\n\n\n\n\nGaël AUBRIT\n\n\n\n\n\n\nGaël Aubrit est tombé amoureux de l’improvisation vocale et des Circlesongs quand il a découvert Bobby McFerrin en 2010. S’écartant petit à petit de ses autres activités comme l’écriture de chansons et la technique vocale\, il s’est concentré sur la pratique\, l’apprentissage\, l’enseignement et le partage de cette nouvelle forme d’art. Ces dix dernières années\, il a eu l’honneur de former des centaines de professeurs de musique\, des milliers de chanteurs\, de collaborer avec de nombreuses écoles de musique et structures diverses.  \n\n\n\nIl a initié le projet « Chant Pour Tous« \, inspirant la naissance de cercles d’improvisation vocale gratuits et ouverts à tous un peu partout en France et en Belgique. Il valorise la multiplicité des approches et essaye d’équilibrer les aspects musicaux\, sociaux\, spirituels\, guérisseurs et divertissants de l’improvisation vocale.
URL:https://orangeplatine.fr/event/masterclasse-circlesongs-2223/
LOCATION:Centre Jacques Tati\, 5 rue Eugénie Mansion\, Angers\, 49000
CATEGORIES:Ateliers et stages
ATTACH;FMTTYPE=image/jpeg:https://orangeplatine.fr/wp-content/uploads/2022/09/OP-masterclasse-banner-GA.jpg
ORGANIZER;CN="Orange Platine":MAILTO:contact@orangeplatine.fr
END:VEVENT
BEGIN:VEVENT
DTSTART;TZID=Europe/Paris:20230318T140000
DTEND;TZID=Europe/Paris:20230318T170000
DTSTAMP:20260424T193602
CREATED:20220908T123133Z
LAST-MODIFIED:20220908T123135Z
UID:4908-1679148000-1679158800@orangeplatine.fr
SUMMARY:Opening number [STAGE] @Le 122 - Angers
DESCRIPTION:OPENING NUMBER\n\n\n\nSTAGE DE COMÉDIE MUSICALE • avec Déborah Heurtematte\n\n\n\n\n\nTu as toujours rêvé de jouer dans la scène d’ouverture de La La Land mais… en chantant d’autres chansons\, en créant tes propres chorégraphies et en racontant une histoire différente à chaque fois ?! \n\n\n\nAlors bienvenue à ce stage ! \n\n\n\nL’improvisation y sera utilisée comme un outil pour explorer la voix\, le corps et les éléments de dramaturgie nécessaires à la construction d’une forme particulière : la toute première scène d’une comédie musicale… 100% improvisée ! \n\n\n\n\n\nSamedi 18 mars 202314:00 > 17:00Nombre de place limitéà 15 personnesLieuLe 122 – Terrain de jeu culturelTarif  : 45€40€ pour les adhérents à l’association Orange Platine \n\n\n\n\n\n\nJE M’INSCRIS\n\n\n\n\nL’intervenante\n\n\n\n\n\n\nDéborah HEURTEMATTE\n\n\n\n\n\n\nArtiste-interprète pluridisciplinaire (corps\, voix\, musique\, théâtre\, improvisation)\, comédienne\, chanteuse\, metteure en scène\, fondatrice et directrice artistique de la compagnie de comédie musicale nantaise La Troupe Permanantes\, Déborah Heurteumatte suis tombée dans la joyeuse marmite du musical il y a plus de vingt ans. \n\n\n\nDepuis\, son objectif est simple : conquérir le monde par la comédie musicale !
URL:https://orangeplatine.fr/event/stage-comediemusicale-2223/
LOCATION:Le 122\, 122 rue de la Chalouère\, Angers\, 49100\, France
CATEGORIES:Ateliers et stages
ATTACH;FMTTYPE=image/jpeg:https://orangeplatine.fr/wp-content/uploads/2022/09/OP-stage-banner-DH.jpg
ORGANIZER;CN="Orange Platine":MAILTO:contact@orangeplatine.fr
END:VEVENT
END:VCALENDAR