BEGIN:VCALENDAR
VERSION:2.0
PRODID:-//Orange Platine - ECPv6.15.20//NONSGML v1.0//EN
CALSCALE:GREGORIAN
METHOD:PUBLISH
X-WR-CALNAME:Orange Platine
X-ORIGINAL-URL:https://orangeplatine.fr
X-WR-CALDESC:Évènements pour Orange Platine
REFRESH-INTERVAL;VALUE=DURATION:PT1H
X-Robots-Tag:noindex
X-PUBLISHED-TTL:PT1H
BEGIN:VTIMEZONE
TZID:Europe/Paris
BEGIN:DAYLIGHT
TZOFFSETFROM:+0100
TZOFFSETTO:+0200
TZNAME:CEST
DTSTART:20210328T010000
END:DAYLIGHT
BEGIN:STANDARD
TZOFFSETFROM:+0200
TZOFFSETTO:+0100
TZNAME:CET
DTSTART:20211031T010000
END:STANDARD
BEGIN:DAYLIGHT
TZOFFSETFROM:+0100
TZOFFSETTO:+0200
TZNAME:CEST
DTSTART:20220327T010000
END:DAYLIGHT
BEGIN:STANDARD
TZOFFSETFROM:+0200
TZOFFSETTO:+0100
TZNAME:CET
DTSTART:20221030T010000
END:STANDARD
BEGIN:DAYLIGHT
TZOFFSETFROM:+0100
TZOFFSETTO:+0200
TZNAME:CEST
DTSTART:20230326T010000
END:DAYLIGHT
BEGIN:STANDARD
TZOFFSETFROM:+0200
TZOFFSETTO:+0100
TZNAME:CET
DTSTART:20231029T010000
END:STANDARD
END:VTIMEZONE
BEGIN:VEVENT
DTSTART;TZID=Europe/Paris:20221014T203000
DTEND;TZID=Europe/Paris:20221014T233000
DTSTAMP:20260425T040417
CREATED:20220930T142738Z
LAST-MODIFIED:20220930T142739Z
UID:5089-1665779400-1665790200@orangeplatine.fr
SUMMARY:Match d'Impro Musique @Les Folies Angevines
DESCRIPTION:Match d’Impro Musique\n\n\n\nDeux équipes de musiciens s’affrontent pour remporter le vote du public !\n\n\n\n\n\nDans ce spectacle adapté du concept théâtral du match d’improvisation\, ce seront non pas des comédiens mais bel et bien des musiciens qui s’affronteront sur scène !  \n\n\n\nUn arbitre\, assisté d’un MC (maître de cérémonie)\, impose à deux équipes de musiciens/chanteurs des thématiques et des catégories sur lesquelles ils vont devoir improviser de leur mieux. \n\n\n\n\n\nVendredi 14 octobre 2022Spectacle 20:30DJ set 23:00LieuLes Folies AngevinesTarif unique8€ \n\n\n\n\n\nLes musiciens amateurs venus d’horizons variés (percussionnistes\, guitaristes\, violonistes\, pianistes\, bassistes\, saxophonistes\, etc.) devront compter sur leur polyvalence\, leur dextérité et la force de leur groupe pour relever les défis d’improvisation donnés par l’arbitre. Les deux équipes devront savoir composer l’une contre l’autre mais aussi ensemble. Dans tous les cas\, c’est au public de voter afin de départager les deux équipes ! \n\n\n\nLe spectacle sera suivi d’un DJ Set d’Eddy Sco pour danser jusqu’au bout de la nuit dans la salle de spectacles des Folies Angevines ! \n\n\n\n\nJe réserve ma place !\n\n\n\n\n\n\n\n\n\n\nLe lieu \n\n\n\n\n\n\n\nLes organisateurs
URL:https://orangeplatine.fr/event/match-impro-musique/
LOCATION:Les Folies Angevines\, 6 avenue Montaigne\, Angers\, 49000
CATEGORIES:Spectacle
ATTACH;FMTTYPE=image/jpeg:https://orangeplatine.fr/wp-content/uploads/2022/09/MIZ-banner.jpg
ORGANIZER;CN="Orange Platine":MAILTO:contact@orangeplatine.fr
END:VEVENT
BEGIN:VEVENT
DTSTART;TZID=Europe/Paris:20221015T140000
DTEND;TZID=Europe/Paris:20221015T170000
DTSTAMP:20260425T040417
CREATED:20220908T101447Z
LAST-MODIFIED:20220914T143051Z
UID:4805-1665842400-1665853200@orangeplatine.fr
SUMMARY:À corps chanté ! [STAGE] @Le 122 - Angers
DESCRIPTION:À CORPS CHANTÉ !\n\n\n\nSTAGE DE CHANT • avec Zékira Yassa\n\n\n\n\n\nChanter\, c’est découvrir son instrument\, explorer son potentiel vocal et son intuition musicale dans le plaisir d’un chant spontané naturellement présent en chacun de nous au travers du jazz.  \n\n\n\nCe stage est ouvert à toute personne souhaitant découvrir ou approfondir ses connaissances dans un genre musical qui s’inscrit dans la tradition de la transmission orale. Il n’est donc pas nécessaire de savoir lire la musique. Après une mise en activation corporelle et quelques jeux vocaux\, nous aborderons l’improvisation  rythmique\, mélodique en s’appuyant sur deux standards. \n\n\n\n\n\n Samedi 15 octobre 202214:00 > 17:00Nombre de place limitéà 15 personnesLieuLe 122 – Terrain de jeu culturelTarif : 45€40€ pour les adhérents à l’association Orange Platine  \n\n\n\n\n\n\nJE M’INSCRIS\n\n\n\n\nL’intervenante\n\n\n\n\n\n\nZékira YASSA\n\n\n\n\n\n\nArtiste interprète depuis 30 ans\, Zékira fonde le « Jazz A Zek » avec lequel elle voyage jusqu’en Afrique et officie comme chanteuse depuis 20 ans au sein de formations musicales aux influences multiculturelles.  \n\n\n\nRiche de son expérience aux univers divers\, cette nomade installée en Anjou en 2016\, fait une rencontre déterminante avec deux autres amoureux du swing et de la langue française. Elle enregistre en 2019 l’album CH’AZZ «Chanson et Jazz» avec le contrebassiste Michel SAULNIER et Stan LAFERRIERE multi-instrumentiste\, directeur artistique\, arrangeur de renom international. \n\n\n\nÉlevée dans la tradition de l’oralité\, formée à l’enseignement du chant dans les musiques actuelles amplifiées et à la Psychophonie Marie-Louise AUCHER©\, Zékira vous propose d’explorer votre potentiel vocal et votre intuition musicale dans le plaisir d’un chant spontané naturellement présent en chacun de nous.
URL:https://orangeplatine.fr/event/stage-chant-2223/
LOCATION:Le 122\, 122 rue de la Chalouère\, Angers\, 49100\, France
CATEGORIES:Ateliers et stages
ATTACH;FMTTYPE=image/jpeg:https://orangeplatine.fr/wp-content/uploads/2022/09/OP-stage-banner-ZY-2.jpg
ORGANIZER;CN="Orange Platine":MAILTO:contact@orangeplatine.fr
END:VEVENT
BEGIN:VEVENT
DTSTART;TZID=Europe/Paris:20221028T183000
DTEND;TZID=Europe/Paris:20221028T233000
DTSTAMP:20260425T040417
CREATED:20221013T133451Z
LAST-MODIFIED:20221020T081351Z
UID:5107-1666981800-1666999800@orangeplatine.fr
SUMMARY:JAM IMPRO LIBRE & RYTHME SIGNÉ @Le 122 - Angers
DESCRIPTION:JAM IMPRO LIBRE & RYTHME SIGNÉ\n\n\n\nC’est le retour des JAM au 122 !\n\n\n\nComme l’année dernière\, on se retrouve un vendredi soir\, une fois tous les deux mois\, pour faire de la musique tous ensemble !  \n\n\n\n\n\nLes jams sont des espaces de jeu où des musiciens venus d’univers différents se rassemblent pour partager leur passion sur scène et improviser de la musique ensemble. On vous propose de pimenter un peu ce concept à la sauce Rythme Signé ! \n\n\n\nIci\, l’improvisation est dirigée par un chef d’orchestre à l’aide d’un langage de gestes (le fameux Rythme Signé). Tous les musiciens connaissent le langage et suivent les indications du directeur qui va faire évoluer la musique et donner à chaque musicien son espace d’expression.Le rendu musical\, souvent très rythmique\, invite inexorablement les têtes à se dandiner et les pieds à battre la mesure si ce n’est plus ! Si votre désir est de simplement siroter un verre en écoutant de la bonne musique\, vous êtes aussi au bon endroit. \n\n\n\n\n\nVendredi 28 octobre 2022Initiation : 18:30JAM : 20:30LieuLe 122 – Terrain de jeu culturel138 rue de la chalouère49100 AngersTarifsInitiation : 5€JAM : gratuit \n\n\n\n\n\nUne initiation au Rythme Signé pour bien démarrer la JAM !\n\n\n\nCette histoire de Rythme Signé vous interroge et vous avez parfaitement raison. Quoi de mieux pour comprendre le concept que de l’expérimenter par soi-même ?C’est pourquoi nous vous proposons un stage d’initiation au Rythme Signé à partir de 18:30 jusqu’à 19:30. Avec les percussions mises à disposition\, vous créerez de la musique\, en collectif\, que vous soyez déjà musicien ou non. \n\n\n\nSans inscription / Tarif : 5 € à régler sur place \n\n\n\n\n\n\n\n\n\nLe lieu \n\n\n\n\n\n\n\nLes organisateurs
URL:https://orangeplatine.fr/event/jam-122-10-22/
LOCATION:Le 122\, 122 rue de la Chalouère\, Angers\, 49100\, France
CATEGORIES:Ateliers et stages
ATTACH;FMTTYPE=image/png:https://orangeplatine.fr/wp-content/uploads/2022/10/JAM-OCT-FB.png
END:VEVENT
END:VCALENDAR