BEGIN:VCALENDAR
VERSION:2.0
PRODID:-//Orange Platine - ECPv6.15.20//NONSGML v1.0//EN
CALSCALE:GREGORIAN
METHOD:PUBLISH
X-WR-CALNAME:Orange Platine
X-ORIGINAL-URL:https://orangeplatine.fr
X-WR-CALDESC:Évènements pour Orange Platine
REFRESH-INTERVAL;VALUE=DURATION:PT1H
X-Robots-Tag:noindex
X-PUBLISHED-TTL:PT1H
BEGIN:VTIMEZONE
TZID:Europe/Paris
BEGIN:DAYLIGHT
TZOFFSETFROM:+0100
TZOFFSETTO:+0200
TZNAME:CEST
DTSTART:20160327T010000
END:DAYLIGHT
BEGIN:STANDARD
TZOFFSETFROM:+0200
TZOFFSETTO:+0100
TZNAME:CET
DTSTART:20161030T010000
END:STANDARD
BEGIN:DAYLIGHT
TZOFFSETFROM:+0100
TZOFFSETTO:+0200
TZNAME:CEST
DTSTART:20170326T010000
END:DAYLIGHT
BEGIN:STANDARD
TZOFFSETFROM:+0200
TZOFFSETTO:+0100
TZNAME:CET
DTSTART:20171029T010000
END:STANDARD
BEGIN:DAYLIGHT
TZOFFSETFROM:+0100
TZOFFSETTO:+0200
TZNAME:CEST
DTSTART:20180325T010000
END:DAYLIGHT
BEGIN:STANDARD
TZOFFSETFROM:+0200
TZOFFSETTO:+0100
TZNAME:CET
DTSTART:20181028T010000
END:STANDARD
BEGIN:DAYLIGHT
TZOFFSETFROM:+0100
TZOFFSETTO:+0200
TZNAME:CEST
DTSTART:20190331T010000
END:DAYLIGHT
BEGIN:STANDARD
TZOFFSETFROM:+0200
TZOFFSETTO:+0100
TZNAME:CET
DTSTART:20191027T010000
END:STANDARD
END:VTIMEZONE
BEGIN:VEVENT
DTSTART;TZID=Europe/Paris:20180317T193000
DTEND;TZID=Europe/Paris:20180317T213000
DTSTAMP:20260422T215345
CREATED:20180207T151815Z
LAST-MODIFIED:20180207T151815Z
UID:1325-1521315000-1521322200@orangeplatine.fr
SUMMARY:Match d'Impro Danse - LADI s01e03
DESCRIPTION:LADI saison 1 épisode 3 : avant dernier match de la saison\nOrange Platine et le Bar du Quai sont heureux de vous présenter le troisième et avant-dernier match d’impro danse de la saison de la LADI (Ligue Angevine de Danse Improvisée). \nLe concept est simple. Si vous aimez les matches d’improvisation théâtre\, vous aimerez très certainement les matches d’improvisation danse. Sur le même principe\, deux équipes de danseurs vont devoir improviser sur des thématiques et contraintes imposées par un arbitre tatillon et sans état d’âme. Après chaque improvisation\, ce sera au public de choisir quelle équipe a le mieux réussi à relever le défi. \nDanses multiples\, créativité\, prise de risque et rires seront au programme. Un spectacle toujours différent et qui se renouvelle sans cesse faisant figurer des danseurs amateurs. \nPour cette édition nous attendons des SPECIAL GUESTS qui viendront se frotter au concept du match d’impro de danse. Nous vous dévoilerons leurs identités très bientôt 😉 \nLa soirée continuera avec 3 artistes sélectionnés par La Caverne Sensorielle. Que du bon son jusqu’à 2h00 du mat avec Wilfried\, STOJ\, Yan Hart-Lemonnier et Armando. \nLimité à 70 places\nTarif en prévente : 5€ / 3€ pour les -18 ans\nTarif sur place : 6€ / 4€ pour les -18 ans \n\n Acheter ma place
URL:https://orangeplatine.fr/event/match-dimpro-danse-ladi-s01e03/
LOCATION:Le Bar du Quai\, Cale de la Savatte\, ANGERS\, 49100\, France
CATEGORIES:Match d'impro
ATTACH;FMTTYPE=image/jpeg:https://orangeplatine.fr/wp-content/uploads/2018/02/LADIs01e03_banner.jpg
ORGANIZER;CN="Orange Platine":MAILTO:contact@orangeplatine.fr
END:VEVENT
BEGIN:VEVENT
DTSTART;TZID=Europe/Paris:20180218T100000
DTEND;TZID=Europe/Paris:20180218T170000
DTSTAMP:20260422T215345
CREATED:20170914T002652Z
LAST-MODIFIED:20171106T104955Z
UID:1169-1518948000-1518973200@orangeplatine.fr
SUMMARY:Stage de Danse Contact Improvisation #3 - Orientation et désorientation
DESCRIPTION:Orientation et désorientation\navec Noëlle Dalsace\nLorsque l’on pratique le contact\, il peut arriver que l’on se retrouve désorienté dans le contact avec l’autre. Nous verrons ensemble les différentes situations qui mènent naturellement à ces états de désorientation (sensations de vide\, de risque\, de perte des repères habituels\, etc.) et comment faire pour les contrer.\nPar le déplacement du regard\, les changements de niveaux\, les rotations\, la stimulation des sens et les sensations issues de la projection du mouvement vers l’extérieur nous développerons un nouveau système d’orientation plus aiguisé.\nUne à une\, nous expérimenterons ces notions en contact avec un ou plusieurs partenaires puis nous finirons par les partager au sein d’une jam. \n\nPour les adultes ! Tout public\, tous niveaux\n(du niveau 0 au niveau expert)\n \nNOMBRE DE PLACES LIMITÉ de 6 à 14 personnes. \n\n  \n\n Inscription\n\nNoëlle Dalsace – Cie d’Un jour for Rêveur\nNoëlle Dalsace est chorégraphe\, danseuse contemporaine et praticienne du Contact Improvisation depuis plus d’une 20aine d’années. Elle s’est formée en France et à l’étranger\, auprès de différents chorégraphes et chercheurs au sujet du mouvement : D. Petit\, P. Doussaint\, P. Kuypers\, R.Chung\, J. Hamilton\, I. Usky\, N. Stark Smith\, D. Lepkof\, C. Filmon\, …\nElle participe ainsi à de nombreuses performances en danse\, en salle et en rue\, parfois avec des musiciens. Passionnée par l’art du mouvement\, elle prolonge sa recherche en s’imprégnant de pratiques somatiques\, Feldenkreis\, de la fasciathérapie et du yoga.\nDepuis trois ans\, elle danse en duo avec Youri Perrut\, danseur et contacteur\, pour amener le contact improvisation dans les espaces publics. Elle a crée la Cie d’Un jour for Rêveur pour porter ces projets et les ouvrir à d’autres artistes.\n www.ciedunjourforeveur.fr/ \nLa Danse Contact / Contact Improvisation qu’est-ce que c’est ?\nDéveloppée en 1972 aux États-Unis par Steve Paxton\, le Contact Improvisation est une forme de danse improvisée et collective dont le nœud central est de garder un contact physique avec les autres danseurs. Cette discipline très accessible est souvent le premier contact de débutants avec la danse contemporaine. Lire la suite… \nOrange Platine se réserve le droit d’annuler le stage en cas de nombre insuffisant de stagiaires ou d’indisponibilité impérative de l’intervenant(e). Les stagiaires seront prévenus dans la semaine précédant le stage et seront intégralement remboursés.
URL:https://orangeplatine.fr/event/stage-contact-3-orientation-desorientation/
LOCATION:Salle de danse de l’Arceau\, rue Guillaume Lequeu\, Angers\, 49100\, France
CATEGORIES:Ateliers et stages
ATTACH;FMTTYPE=image/jpeg:https://orangeplatine.fr/wp-content/uploads/2017/09/ContactImproStage3_Banner.jpg
ORGANIZER;CN="Orange Platine":MAILTO:contact@orangeplatine.fr
END:VEVENT
BEGIN:VEVENT
DTSTART;TZID=Europe/Paris:20171216T140000
DTEND;TZID=Europe/Paris:20171216T170000
DTSTAMP:20260422T215345
CREATED:20171113T114800Z
LAST-MODIFIED:20220303T091059Z
UID:1271-1513432800-1513443600@orangeplatine.fr
SUMMARY:Stage d'initiation au match d'impro Danse
DESCRIPTION:Faire de la danse improvisée dans le contexte ludique d’un match !\nDurant cet atelier\, vous allez faire partie intégrante d’une équipe de danseurs qui devront coopérer et tirer le meilleur parti de leurs forces pour proposer une improvisation. Mais pas n’importe quelle improvisation. Une improvisation qui devra respecter plusieurs règles et contraintes qui sont celles du match d’impro.\n\nParfois vous devrez faire mieux que l’équipe adverse ou parfois composer avec elle. Parfois on vous empêchera d’utiliser votre bras gauche ou on vous demandera de représenter l’immensité d’un lac gelé pendant la seconde guerre mondiale.\n\nCe stage est avant tout l’occasion d’utiliser son corps comme moyen d’expression à travers la danse et dans le contexte ludique d’un match. Mais c’est aussi un moyen d’ouvrir son esprit et de mettre au défi son sens de l’adaptabilité\, de la créativité et de la coopération. Le tout dans une ambiance bienveillante : on est avant tout ici pour se faire plaisir !\n\nStage pour les adultes – Tout public et tous niveaux\n \nNOMBRE DE PLACES LIMITÉ de 8 à 16 personnes. \n\n\n \n\n Inscription\n\nUn match d’impro danse c’est quoi ?\nSi vous aimez déjà les matches d’improvisation théâtre\, vous devriez très certainement aimer les matches d’improvisation danse. Sur le même principe\, deux équipes de danseurs vont devoir improviser sur des thématiques et contraintes imposées par un arbitre. En temps normal\, c’est au public de décider quelle équipe à le mieux réussi en votant pour la meilleure improvisation. Là\, en ce qui nous concerne\, il n’y aura pas de public.\n\nÀ Angers\, c’est la LADI (Ligue Angevine de Danse Improvisée) qui propose des entrainements hebdomadaires et organise plusieurs matches au cours de l’année.\n\nQue vous pratiquiez déjà la danse ou non et quel que soit votre style\, ce stage vous est ouvert.
URL:https://orangeplatine.fr/event/stage-de-match-impro-danse/
LOCATION:MPT Monplaisir\, 3 rue de l'Écriture\, Angers\, 49100\, France
CATEGORIES:Ateliers et stages
ATTACH;FMTTYPE=image/jpeg:https://orangeplatine.fr/wp-content/uploads/2017/11/Stage-MI-Danse_171216_event-01-01.jpg
ORGANIZER;CN="Orange Platine":MAILTO:contact@orangeplatine.fr
END:VEVENT
BEGIN:VEVENT
DTSTART;TZID=Europe/Paris:20171210T100000
DTEND;TZID=Europe/Paris:20171210T173000
DTSTAMP:20260422T215345
CREATED:20170914T002618Z
LAST-MODIFIED:20171106T102959Z
UID:1155-1512900000-1512927000@orangeplatine.fr
SUMMARY:Stage de Danse Contact Improvisation #2 - Jouer avec les forces sans force
DESCRIPTION:Jouer avec les forces sans force\navec Laure Peyramayou\nNous commencerons classiquement avec un cercle des personnes en présence pour glisser vers une entrée en contact avec soi\, l’espace et les autres.\nL’approche pédagogique tisse des liens entre la perception/compréhension des lois physiques avec lesquelles nous jouerons (gravité\, pression\, friction et inertie) en portant une attention toute particulière à l’écoute de soi et de l’autre.\nQuels que soient les niveaux de pratique\, il s’agira parfois d’expérimenter des jeux ludiques et créatifs\, parfois de reproduire une interaction pour en saisir les invariables à réinvestir dans la pratique libre. Des moments d’improvisation et d’échanges en petits groupes parsèmeront l’atelier.\nL’intention qui traverse toutes les propositions est la recherche du plaisir à se transformer avec l’autre\, dans la fluidité et sans force. \n\nPour les adultes ! Tout public\, tous niveaux\n(du niveau 0 au niveau expert)\n \nNOMBRE DE PLACES LIMITÉ de 6 à 14 personnes. \n\n  \n\n Inscription\n\nLaure Peyramayou\nLe Contact Improvisation accompagne le chemin de vie de Laure Peyramayou depuis environ 15 années. Nancy Strack Smith\, Nina Little\, Andrew Hardwood\, Kirstie SIMPSON\, Isabelle USKI ont notamment influencé son parcours.\nToujours aussi ravie des potentiels qu’il révèle (ludique\, créatif\, sensoriel\, relationnel\, pédagogique…)\, Laure Peyramayou aime faire vivre le Contact Improvisation en animant des ateliers/jams régulier(e)s (Orléans / Tours) et en participant à des rencontres d’enseignant(e)s ainsi qu’à des festivals. Enseignante à l’Université\, ses recherches sont principalement liées à la pédagogie.\nwww.2droles2danses.fr/ \nLa Danse Contact / Contact Improvisation qu’est-ce que c’est ?\nLe Contact Improvisation à été développé en 1972 aux États-Unis par Steve Paxton. C’est une forme de danse improvisée et collective dont le nœud central est de garder un contact physique avec les autres danseurs. Cette discipline très accessible est souvent le premier contact de débutants avec la danse contemporaine. Lire la suite… \nOrange Platine se réserve le droit d’annuler le stage en cas de nombre insuffisant de stagiaires ou d’indisponibilité impérative de l’intervenant(e). Les stagiaires seront prévenus dans la semaine précédant le stage et seront intégralement remboursés.
URL:https://orangeplatine.fr/event/stage-contact-2-jouer-forces-sans-force/
LOCATION:Salle de danse de l’Arceau\, rue Guillaume Lequeu\, Angers\, 49100\, France
CATEGORIES:Ateliers et stages
ATTACH;FMTTYPE=image/jpeg:https://orangeplatine.fr/wp-content/uploads/2017/09/ContactImproStage2_Banner.jpg
ORGANIZER;CN="Orange Platine":MAILTO:contact@orangeplatine.fr
END:VEVENT
BEGIN:VEVENT
DTSTART;TZID=Europe/Paris:20171202T210000
DTEND;TZID=Europe/Paris:20171202T230000
DTSTAMP:20260422T215345
CREATED:20171102T062639Z
LAST-MODIFIED:20171102T062639Z
UID:1259-1512248400-1512255600@orangeplatine.fr
SUMMARY:Match d'Impro Danse - LADI s01e02
DESCRIPTION:Nouveau match d’impro danse de la LADI : épisode 2\nOrange Platine et le Bar du Quai sont heureux de vous présenter le second match d’impro danse de la saison de la LADI (Ligue Angevine de Danse Improvisée). \nLe concept est simple. Si vous aimez les matches d’improvisation théâtre\, vous aimerez très certainement les matches d’improvisation danse. Sur le même principe\, deux équipes de danseurs vont devoir improviser sur des thématiques et contraintes imposées par un arbitre tatillon et sans état d’âme. Après chaque improvisation\, ce sera au public de choisir quelle  équipe a le mieux réussi à relever le défi. \nDanses multiples\, créativité\, prise de risque et rires seront au programme. Un spectacle toujours différent et qui se renouvelle sans cesse faisant figurer des danseurs amateurs. \nVenez passer la soirée avec nous au BDQ\, boisson et petite restauration sur place. \nLimité à 70 places\nTarif en prévente : 5€ / 3€ pour les -18 ans\nTarif sur place : 6€ / 4€ pour les -18 ans \n\n Acheter ma place
URL:https://orangeplatine.fr/event/match-dimpro-danse-ladi-s01e02/
LOCATION:Le Bar du Quai\, Cale de la Savatte\, ANGERS\, 49100\, France
CATEGORIES:Match d'impro
ATTACH;FMTTYPE=image/jpeg:https://orangeplatine.fr/wp-content/uploads/2017/11/MI-Danse_171202_Banner.jpg
ORGANIZER;CN="Orange Platine":MAILTO:contact@orangeplatine.fr
END:VEVENT
BEGIN:VEVENT
DTSTART;TZID=Europe/Paris:20171008T100000
DTEND;TZID=Europe/Paris:20171008T170000
DTSTAMP:20260422T215345
CREATED:20170914T002602Z
LAST-MODIFIED:20170929T150751Z
UID:1153-1507456800-1507482000@orangeplatine.fr
SUMMARY:Stage de Danse Contact Improvisation #1 - Corps sensibles
DESCRIPTION:Corps sensibles\navec Mélanie Jolly\nEn guise d’ouverture de cette saison de stages\, il sera question de rentrer d’abord en relation avec son propre corps. Un corps perçu\, ressenti\, grâce à la présence du sol et des autres. \nIl s’agira d’explorer son propre corps\, sa réalité anatomique sentie\, ses capacités organiques et économiques à se mouvoir\, à répondre aux sollicitations extérieures et ce que ça fait. Être touché\, sentir le poids\, nous permettra enfin d’entrer en relation\, dans cette forme de mouvement si particulière du Contact Improvisation où il est bon de se laisser surprendre par ce qui vient et de goûter aux sensations et émotions que cela nous procure. \n\nPour les adultes ! Tout public\, tous niveaux\n(du niveau 0 au niveau expert)\n \nNOMBRE DE PLACES LIMITÉ de 6 à 14 personnes. \n\n  \n\n Inscription\n\nMélanie Jolly – Collectif Zone d’Appui Provisoire\nMélanie Jolly est danseuse et pédagogue au sein du Collectif Zone d’Appui Provisoire. Elle est passionnée par l’improvisation et le Contact Improvisation depuis 15 ans. Mais aussi par la recherche du mouvement libre et spontané\, la relation aux autres. Elle est en formation professionnelle en Eutonie Gerda Alexander® depuis 2013.\nhttp://www.collectifzap.fr/ \nLa Danse Contact / Contact Improvisation qu’est-ce que c’est ?\nDéveloppée en 1972 aux États-Unis par Steve Paxton\, le Contact Improvisation est une forme de danse improvisée et collective dont le nœud central est de garder un contact physique avec les autres danseurs. Cette discipline très accessible est souvent le premier contact de débutants avec la danse contemporaine. Lire la suite… \nOrange Platine se réserve le droit d’annuler le stage en cas de nombre insuffisant de stagiaires ou d’indisponibilité impérative de l’intervenant(e). Les stagiaires seront prévenus dans la semaine précédant le stage et seront intégralement remboursés.
URL:https://orangeplatine.fr/event/stage-contact-1-corps-sensibles/
LOCATION:MPT Monplaisir\, 3 rue de l'Écriture\, Angers\, 49100\, France
CATEGORIES:Ateliers et stages
ATTACH;FMTTYPE=image/jpeg:https://orangeplatine.fr/wp-content/uploads/2017/09/ContactImproStage1_Banner.jpg
ORGANIZER;CN="Orange Platine":MAILTO:contact@orangeplatine.fr
END:VEVENT
BEGIN:VEVENT
DTSTART;TZID=Europe/Paris:20170930T210000
DTEND;TZID=Europe/Paris:20170930T230000
DTSTAMP:20260422T215345
CREATED:20170914T004925Z
LAST-MODIFIED:20170928T140920Z
UID:1219-1506805200-1506812400@orangeplatine.fr
SUMMARY:Match d'Impro Danse - LADI s01e01
DESCRIPTION:La LADI s’officialise : Match d’impro Danse saison 1 épisode 1\nOrange Platine et le Bar du Quai sont heureux de vous présenter le premier match d’impro danse de la saison de la LADI (Ligue Angevine de Danse Improvisée). \nLe concept est simple. Si vous aimez les matches d’improvisation théâtre\, vous aimerez très certainement les matches d’improvisation danse. Sur le même principe\, deux équipes de danseurs vont devoir improviser sur des thématiques et contraintes imposées par un arbitre tatillon et sans état d’âme. Après chaque improvisation\, ce sera au public de choisir quelle  équipe a le mieux réussi à relever le défi. \nDanses multiples\, créativité\, prise de risque et rires seront au programme. Un spectacle encore inédit en France et faisant figurer des danseurs amateurs. \nVenez passer la soirée avec nous au BDQ\, boisson et petite restauration sur place. \nLimité à 70 places \n\n Acheter ma place\n\n 
URL:https://orangeplatine.fr/event/match-dimpro-danse-ladi-s01e01/
LOCATION:Le Bar du Quai\, Cale de la Savatte\, ANGERS\, 49100\, France
CATEGORIES:Match d'impro
ATTACH;FMTTYPE=image/jpeg:https://orangeplatine.fr/wp-content/uploads/2017/09/MI-Danse_170930_Banner.jpg
ORGANIZER;CN="Orange Platine":MAILTO:contact@orangeplatine.fr
END:VEVENT
BEGIN:VEVENT
DTSTART;TZID=Europe/Paris:20170720T200000
DTEND;TZID=Europe/Paris:20170720T220000
DTSTAMP:20260422T215345
CREATED:20170620T142417Z
LAST-MODIFIED:20170620T162349Z
UID:1072-1500580800-1500588000@orangeplatine.fr
SUMMARY:Match d'Impro Danse - le Héron Carré
DESCRIPTION:Le Match d’impro Danse à Angers : deuxième !\nOrange Platine et Le Héron Carré – Guinguette angevine sont heureux de vous présenter le match d’impro danse ! \nAprès une première édition au Bar du Quai le 22 avril dernier qui a attiré quelques 200 personnes\, c’est au Héron Carré d’accueillir ce concept original autour de la danse. \nSi vous aimez les matches d’improvisation théâtre\, vous aimerez très certainement les matches d’improvisation danse. \nSur le même principe\, deux équipes de danseurs vont devoir improviser sur des thématiques et contraintes imposées par un arbitre tatillon et sans état d’âme. \nAprès chaque improvisation\, ce sera au public de choisir laquelle des deux équipes a le mieux réussi à relever le défi. \nDanses multiples\, créativité\, prise de risque et rires seront au programme de ce spectacle inédit en France.
URL:https://orangeplatine.fr/event/match-impro-danse-3/
LOCATION:Le Héron Carré\, Parc Balzac\, Angers\, 49100\, France
CATEGORIES:Match d'impro
ATTACH;FMTTYPE=image/jpeg:https://orangeplatine.fr/wp-content/uploads/2017/06/MIDanse_Angers_2-event-01-1.jpg
ORGANIZER;CN="Orange Platine":MAILTO:contact@orangeplatine.fr
END:VEVENT
BEGIN:VEVENT
DTSTART;TZID=Europe/Paris:20170616T210000
DTEND;TZID=Europe/Paris:20170616T230000
DTSTAMP:20260422T215345
CREATED:20170601T080030Z
LAST-MODIFIED:20170601T085715Z
UID:1030-1497646800-1497654000@orangeplatine.fr
SUMMARY:Match d'Impro Danse
DESCRIPTION:Le Match d’impro Danse débarque à Poitiers !\nOrange Platine et Le Plan B Poitiers sont heureux de vous présenter le match d’impro danse ! \nAprès une première édition à Angers le 22 avril dernier qui a attiré quelques 200 personnes\, c’est à Poitiers d’accueillir ce concept original autour de la danse. \nSi vous aimez les matches d’improvisation théâtre\, vous aimerez très certainement les matches d’improvisation danse. \nSur le même principe\, deux équipes de danseurs vont devoir improviser sur des thématiques et contraintes imposées par un arbitre tatillon et sans état d’âme. \nAprès chaque improvisation\, ce sera au public de choisir laquelle des deux équipes a le mieux réussi à relever le défi. \nDanses multiples\, créativité\, prise de risque et rires seront au programme de ce spectacle inédit en France.
URL:https://orangeplatine.fr/event/match-impro-danse-2/
LOCATION:Bar le Plan B\, 30 boulevard du Grand Cerf\, Poitiers\, 86000\, France
CATEGORIES:Match d'impro
ATTACH;FMTTYPE=image/jpeg:https://orangeplatine.fr/wp-content/uploads/2017/06/MIDanse_Poitiers_1-event-01.jpg
ORGANIZER;CN="Orange Platine":MAILTO:contact@orangeplatine.fr
END:VEVENT
BEGIN:VEVENT
DTSTART;TZID=Europe/Paris:20170422T210000
DTEND;TZID=Europe/Paris:20170422T230000
DTSTAMP:20260422T215345
CREATED:20170323T132404Z
LAST-MODIFIED:20170413T150040Z
UID:975-1492894800-1492902000@orangeplatine.fr
SUMMARY:Match d'Impro Danse
DESCRIPTION:Le match d’impro danse : une première en France qui aura lieu à Angers !\nSi vous aimez les matches d’improvisation théâtre\, vous aimerez très certainement les matches d’improvisation danse. \nSur le même principe\, deux équipes de danseurs vont devoir improviser sur des thématiques et contraintes imposées par un arbitre tatillon et sans état d’âme. \nAprès chaque improvisation\, ce sera au public de choisir laquelle des deux équipes a le mieux réussi à relever le défi. \nDanses multiples\, créativité\, prise de risque et rires seront au programme de ce spectacle inédit en France.
URL:https://orangeplatine.fr/event/match-impro-danse-1/
LOCATION:Le Bar du Quai\, Cale de la Savatte\, ANGERS\, 49100\, France
CATEGORIES:Match d'impro
ATTACH;FMTTYPE=image/jpeg:https://orangeplatine.fr/wp-content/uploads/2017/03/Affiche-fly_final-01.jpg
ORGANIZER;CN="Orange Platine":MAILTO:contact@orangeplatine.fr
END:VEVENT
END:VCALENDAR