BEGIN:VCALENDAR
VERSION:2.0
PRODID:-//Orange Platine - ECPv6.15.20//NONSGML v1.0//EN
CALSCALE:GREGORIAN
METHOD:PUBLISH
X-ORIGINAL-URL:https://orangeplatine.fr
X-WR-CALDESC:Évènements pour Orange Platine
REFRESH-INTERVAL;VALUE=DURATION:PT1H
X-Robots-Tag:noindex
X-PUBLISHED-TTL:PT1H
BEGIN:VTIMEZONE
TZID:Europe/Paris
BEGIN:DAYLIGHT
TZOFFSETFROM:+0100
TZOFFSETTO:+0200
TZNAME:CEST
DTSTART:20230326T010000
END:DAYLIGHT
BEGIN:STANDARD
TZOFFSETFROM:+0200
TZOFFSETTO:+0100
TZNAME:CET
DTSTART:20231029T010000
END:STANDARD
BEGIN:DAYLIGHT
TZOFFSETFROM:+0100
TZOFFSETTO:+0200
TZNAME:CEST
DTSTART:20240331T010000
END:DAYLIGHT
BEGIN:STANDARD
TZOFFSETFROM:+0200
TZOFFSETTO:+0100
TZNAME:CET
DTSTART:20241027T010000
END:STANDARD
BEGIN:DAYLIGHT
TZOFFSETFROM:+0100
TZOFFSETTO:+0200
TZNAME:CEST
DTSTART:20250330T010000
END:DAYLIGHT
BEGIN:STANDARD
TZOFFSETFROM:+0200
TZOFFSETTO:+0100
TZNAME:CET
DTSTART:20251026T010000
END:STANDARD
END:VTIMEZONE
BEGIN:VEVENT
DTSTART;TZID=Europe/Paris:20240323T203000
DTEND;TZID=Europe/Paris:20240323T220000
DTSTAMP:20260425T183638
CREATED:20231013T095748Z
LAST-MODIFIED:20231013T095749Z
UID:5951-1711225800-1711231200@orangeplatine.fr
SUMMARY:Match d'impro danse • LADI S07E02 @MPT Monplaisir - Angers
DESCRIPTION:À VOUS DE DÉPARTAGER LES DEUX ÉQUIPES !\n\n\n\n\n\nLes danseur.euses de la LADI fouleront à nouveau la scène de la MPT Monplaisir le samedi 23 mars 2024 pour leur second match de danse improvisée de la saison. \n\n\n\nCalqué sur le principe des matchs d’improvisation théâtral\, ce spectacle en reprend les codes en remplaçant les comédiens par des danseurs. L’arbitre et le maître de cérémonie sont quant à eux toujours de la partie\, et donnent les consignes nécessaires aux danseurs pour improviser en toute sérénité. \n\n\n\nUn spectacle unique qui change à chaque fois et dans tous les cas\, c’est au public de voter afin de départager les deux équipes ! \n\n\n\n\n\nSamedi 23 mars 202420:00 – ouverture des portes20:30 – début du spectacleMPT Monplaisir3 rue de l’écriture49100 AngersTarifs4€ > 9€ \n\n\n\n\n\nTarif en prévente : 7€ / 6€ pour les groupes\, les inscrits à Pôle Emploi et les -24 ans / 4€ pour les -12 ansTarif sur place : 9€ / 7€ pour les groupes\, les inscrits à Pôle Emploi et les -24 ans / 4€ pour les -12 ans \n\n\n\n\n\n\n\n\nJE RÉSERVE MA PLACE\n\n\n\n\n\n\n\n\n\n\n\n\n\n\n\n\n\n\n\n\nLe lieu \n\n\n\n\n\n\n\nL’organisateur
URL:https://orangeplatine.fr/event/ladi-s07e02/
LOCATION:MPT Monplaisir\, 3 rue de l'Écriture\, Angers\, 49100\, France
CATEGORIES:LADI,Spectacle
ATTACH;FMTTYPE=image/jpeg:https://orangeplatine.fr/wp-content/uploads/2023/10/S07E02-banner.jpg
ORGANIZER;CN="Orange Platine":MAILTO:contact@orangeplatine.fr
END:VEVENT
END:VCALENDAR