BEGIN:VCALENDAR
VERSION:2.0
PRODID:-//Orange Platine - ECPv6.15.20//NONSGML v1.0//EN
CALSCALE:GREGORIAN
METHOD:PUBLISH
X-ORIGINAL-URL:https://orangeplatine.fr
X-WR-CALDESC:Évènements pour Orange Platine
REFRESH-INTERVAL;VALUE=DURATION:PT1H
X-Robots-Tag:noindex
X-PUBLISHED-TTL:PT1H
BEGIN:VTIMEZONE
TZID:Europe/Paris
BEGIN:DAYLIGHT
TZOFFSETFROM:+0100
TZOFFSETTO:+0200
TZNAME:CEST
DTSTART:20210328T010000
END:DAYLIGHT
BEGIN:STANDARD
TZOFFSETFROM:+0200
TZOFFSETTO:+0100
TZNAME:CET
DTSTART:20211031T010000
END:STANDARD
BEGIN:DAYLIGHT
TZOFFSETFROM:+0100
TZOFFSETTO:+0200
TZNAME:CEST
DTSTART:20220327T010000
END:DAYLIGHT
BEGIN:STANDARD
TZOFFSETFROM:+0200
TZOFFSETTO:+0100
TZNAME:CET
DTSTART:20221030T010000
END:STANDARD
BEGIN:DAYLIGHT
TZOFFSETFROM:+0100
TZOFFSETTO:+0200
TZNAME:CEST
DTSTART:20230326T010000
END:DAYLIGHT
BEGIN:STANDARD
TZOFFSETFROM:+0200
TZOFFSETTO:+0100
TZNAME:CET
DTSTART:20231029T010000
END:STANDARD
END:VTIMEZONE
BEGIN:VEVENT
DTSTART;TZID=Europe/Paris:20221014T203000
DTEND;TZID=Europe/Paris:20221014T233000
DTSTAMP:20260425T132417
CREATED:20220930T142738Z
LAST-MODIFIED:20220930T142739Z
UID:5089-1665779400-1665790200@orangeplatine.fr
SUMMARY:Match d'Impro Musique @Les Folies Angevines
DESCRIPTION:Match d’Impro Musique\n\n\n\nDeux équipes de musiciens s’affrontent pour remporter le vote du public !\n\n\n\n\n\nDans ce spectacle adapté du concept théâtral du match d’improvisation\, ce seront non pas des comédiens mais bel et bien des musiciens qui s’affronteront sur scène !  \n\n\n\nUn arbitre\, assisté d’un MC (maître de cérémonie)\, impose à deux équipes de musiciens/chanteurs des thématiques et des catégories sur lesquelles ils vont devoir improviser de leur mieux. \n\n\n\n\n\nVendredi 14 octobre 2022Spectacle 20:30DJ set 23:00LieuLes Folies AngevinesTarif unique8€ \n\n\n\n\n\nLes musiciens amateurs venus d’horizons variés (percussionnistes\, guitaristes\, violonistes\, pianistes\, bassistes\, saxophonistes\, etc.) devront compter sur leur polyvalence\, leur dextérité et la force de leur groupe pour relever les défis d’improvisation donnés par l’arbitre. Les deux équipes devront savoir composer l’une contre l’autre mais aussi ensemble. Dans tous les cas\, c’est au public de voter afin de départager les deux équipes ! \n\n\n\nLe spectacle sera suivi d’un DJ Set d’Eddy Sco pour danser jusqu’au bout de la nuit dans la salle de spectacles des Folies Angevines ! \n\n\n\n\nJe réserve ma place !\n\n\n\n\n\n\n\n\n\n\nLe lieu \n\n\n\n\n\n\n\nLes organisateurs
URL:https://orangeplatine.fr/event/match-impro-musique/
LOCATION:Les Folies Angevines\, 6 avenue Montaigne\, Angers\, 49000
CATEGORIES:Spectacle
ATTACH;FMTTYPE=image/jpeg:https://orangeplatine.fr/wp-content/uploads/2022/09/MIZ-banner.jpg
ORGANIZER;CN="Orange Platine":MAILTO:contact@orangeplatine.fr
END:VEVENT
END:VCALENDAR