BEGIN:VCALENDAR
VERSION:2.0
PRODID:-//Orange Platine - ECPv6.15.20//NONSGML v1.0//EN
CALSCALE:GREGORIAN
METHOD:PUBLISH
X-WR-CALNAME:Orange Platine
X-ORIGINAL-URL:https://orangeplatine.fr
X-WR-CALDESC:Évènements pour Orange Platine
REFRESH-INTERVAL;VALUE=DURATION:PT1H
X-Robots-Tag:noindex
X-PUBLISHED-TTL:PT1H
BEGIN:VTIMEZONE
TZID:Europe/Paris
BEGIN:DAYLIGHT
TZOFFSETFROM:+0100
TZOFFSETTO:+0200
TZNAME:CEST
DTSTART:20220327T010000
END:DAYLIGHT
BEGIN:STANDARD
TZOFFSETFROM:+0200
TZOFFSETTO:+0100
TZNAME:CET
DTSTART:20221030T010000
END:STANDARD
BEGIN:DAYLIGHT
TZOFFSETFROM:+0100
TZOFFSETTO:+0200
TZNAME:CEST
DTSTART:20230326T010000
END:DAYLIGHT
BEGIN:STANDARD
TZOFFSETFROM:+0200
TZOFFSETTO:+0100
TZNAME:CET
DTSTART:20231029T010000
END:STANDARD
BEGIN:DAYLIGHT
TZOFFSETFROM:+0100
TZOFFSETTO:+0200
TZNAME:CEST
DTSTART:20240331T010000
END:DAYLIGHT
BEGIN:STANDARD
TZOFFSETFROM:+0200
TZOFFSETTO:+0100
TZNAME:CET
DTSTART:20241027T010000
END:STANDARD
END:VTIMEZONE
BEGIN:VEVENT
DTSTART;TZID=Europe/Paris:20230215T183000
DTEND;TZID=Europe/Paris:20230215T203000
DTSTAMP:20260425T050013
CREATED:20230123T143348Z
LAST-MODIFIED:20230126T091422Z
UID:5253-1676485800-1676493000@orangeplatine.fr
SUMMARY:SINGING POOL avec 2HOMS | Festival Boule de Gomme
DESCRIPTION:UN CONCERT DANS LA PISCINE !\n\n\n\n\n\n2HOMS débarque à la piscine de La Roseraie avec leurs reprises musicales loufoques à l’occasion de la 19ème édition du Festival Boule de Gomme ! \n\n\n\nAccompagnés de quelques Musiciens Improvisateurs Tout-Terrain\, ils déconstruiront certains airs bien connus pour les remixer à leur sauce. Selon des consignes de jeux bien précises et des thèmes issus du public\, parviendront-ils à s’accorder pour faire vibrer la piscine ? \n\n\n\nEt vous\, aurez-vous l’audace de chanter avec eux pendant que vous barbotez dans le grand bassin ? \n\n\n\nUn événement plein de surprises à vivre en famille et entre amis ! \n\n\n\n\n\nMercredi 15 février18:30 > 20:30Piscine de La Roseraie3 rue Henri Bergson 49000 AngersTarifs habituels de la piscine \n\n\n\n\n\n\nFestival Boule de Gomme\n\n\n\nLe festival jeune public Boule de Gomme aura lieu pour sa 19ème édition du 10 au 17 février 2023 dans le quartier de La Roseraie à Angers. Des spectacles et des ateliers seront à découvrir en famille tout au long de la semaine ! \n\n\n\nLe programme complet du festival est à découvrir juste ici. \n\n\n\n\n\n\n\n\n\n\nLe lieu \n\n\n\n\n\n\n\nLes organisateurs
URL:https://orangeplatine.fr/event/singing-pool/
LOCATION:Piscine de La Roseraie\, Rue Henri Bergson\, Angers\, 49100\, France
CATEGORIES:2HOMS,Spectacle
ATTACH;FMTTYPE=image/jpeg:https://orangeplatine.fr/wp-content/uploads/2023/01/SingingPool.jpg
ORGANIZER;CN="Orange Platine":MAILTO:contact@orangeplatine.fr
END:VEVENT
END:VCALENDAR