BEGIN:VCALENDAR
VERSION:2.0
PRODID:-//Orange Platine - ECPv6.15.20//NONSGML v1.0//EN
CALSCALE:GREGORIAN
METHOD:PUBLISH
X-ORIGINAL-URL:https://orangeplatine.fr
X-WR-CALDESC:Évènements pour Orange Platine
REFRESH-INTERVAL;VALUE=DURATION:PT1H
X-Robots-Tag:noindex
X-PUBLISHED-TTL:PT1H
BEGIN:VTIMEZONE
TZID:Europe/Paris
BEGIN:DAYLIGHT
TZOFFSETFROM:+0100
TZOFFSETTO:+0200
TZNAME:CEST
DTSTART:20200329T010000
END:DAYLIGHT
BEGIN:STANDARD
TZOFFSETFROM:+0200
TZOFFSETTO:+0100
TZNAME:CET
DTSTART:20201025T010000
END:STANDARD
BEGIN:DAYLIGHT
TZOFFSETFROM:+0100
TZOFFSETTO:+0200
TZNAME:CEST
DTSTART:20210328T010000
END:DAYLIGHT
BEGIN:STANDARD
TZOFFSETFROM:+0200
TZOFFSETTO:+0100
TZNAME:CET
DTSTART:20211031T010000
END:STANDARD
BEGIN:DAYLIGHT
TZOFFSETFROM:+0100
TZOFFSETTO:+0200
TZNAME:CEST
DTSTART:20220327T010000
END:DAYLIGHT
BEGIN:STANDARD
TZOFFSETFROM:+0200
TZOFFSETTO:+0100
TZNAME:CET
DTSTART:20221030T010000
END:STANDARD
END:VTIMEZONE
BEGIN:VEVENT
DTSTART;TZID=Europe/Paris:20210710T140000
DTEND;TZID=Europe/Paris:20210711T170000
DTSTAMP:20260425T161604
CREATED:20210604T145225Z
LAST-MODIFIED:20210604T145225Z
UID:3322-1625925600-1626022800@orangeplatine.fr
SUMMARY:Stage de chant et Rythme Signé
DESCRIPTION:Stage de chant et Rythme Signé\n\n\n\nEt si on utilisait l’instrument qu’on a toujours sur nous pour apprendre ce langage ? Grâce au stage de chant et Rythme Signé partagez un moment musical et convivial. Improvisez avec votre propre voix\, et prenez le risque de passer par la suite tout votre temps à chantonner un répertoire de chants du monde partout où vous irez !\n\nSamedi 10 et dimanche 11 juillet 2021\n14:00 > 17:00 \nNombre de places limité\nà 20 personnes \nLieu\nLe Petit Faiteau\n49 170 Saint-Georges-sur-Loire \nTarif : 50€ \n\n\n\n\n\nLes intervenants\nMarine Recotillon \nÀ l’issue d’un parcours d’études du chant de près de 20 ans au conservatoire de Cholet\, elle s’est spécialisée dans les chants du monde. Ses expériences au sein de groupes de musiques aux influences éclectiques ( chansons françaises\, pop rock\, percussions brésiliennes\, musiques de l’est\, musiques celtiques…)\, l’ont introduite à de nombreuses voies/voix\, notamment celle de l’improvisation. \n  \n Antoine Aupetit\nAntoine est percussionniste\, intervenant musical\, directeur en Rythme Signé et co-fondateur de l’association Orange Platine. Il a découvert le Rythme Signé lors d’un long séjour en Argentine\, et a continué à se former à son retour en France en constituant un groupe de travail sur Angers\, qui deviendra par la suite le premier orchestre de percussions à utiliser le Rythme Signé en France : Café Frappé. \n  \n\n Inscription \n\n  \nDÉCOUVREZ L’ENSEMBLE DES STAGES DE CETTE SEMAINE D’IMPROVISATION
URL:https://orangeplatine.fr/event/stage-de-chant-et-rythme-signe/
LOCATION:Ferme du Petit Faiteau\, Le Petit Faiteau\, Saint-Georges-sur-Loire\, 49170\, France
CATEGORIES:Ateliers et stages
ATTACH;FMTTYPE=image/jpeg:https://orangeplatine.fr/wp-content/uploads/2021/06/event_chant-1-scaled.jpg
ORGANIZER;CN="Bonjour Bonsoir":MAILTO:bonjourbonsoirproductions@gmail.com
END:VEVENT
END:VCALENDAR