BEGIN:VCALENDAR
VERSION:2.0
PRODID:-//Orange Platine - ECPv6.15.20//NONSGML v1.0//EN
CALSCALE:GREGORIAN
METHOD:PUBLISH
X-WR-CALNAME:Orange Platine
X-ORIGINAL-URL:https://orangeplatine.fr
X-WR-CALDESC:Évènements pour Orange Platine
REFRESH-INTERVAL;VALUE=DURATION:PT1H
X-Robots-Tag:noindex
X-PUBLISHED-TTL:PT1H
BEGIN:VTIMEZONE
TZID:Europe/Paris
BEGIN:DAYLIGHT
TZOFFSETFROM:+0100
TZOFFSETTO:+0200
TZNAME:CEST
DTSTART:20200329T010000
END:DAYLIGHT
BEGIN:STANDARD
TZOFFSETFROM:+0200
TZOFFSETTO:+0100
TZNAME:CET
DTSTART:20201025T010000
END:STANDARD
BEGIN:DAYLIGHT
TZOFFSETFROM:+0100
TZOFFSETTO:+0200
TZNAME:CEST
DTSTART:20210328T010000
END:DAYLIGHT
BEGIN:STANDARD
TZOFFSETFROM:+0200
TZOFFSETTO:+0100
TZNAME:CET
DTSTART:20211031T010000
END:STANDARD
BEGIN:DAYLIGHT
TZOFFSETFROM:+0100
TZOFFSETTO:+0200
TZNAME:CEST
DTSTART:20220327T010000
END:DAYLIGHT
BEGIN:STANDARD
TZOFFSETFROM:+0200
TZOFFSETTO:+0100
TZNAME:CET
DTSTART:20221030T010000
END:STANDARD
END:VTIMEZONE
BEGIN:VEVENT
DTSTART;TZID=Europe/Paris:20211016T140000
DTEND;TZID=Europe/Paris:20211016T170000
DTSTAMP:20260423T093424
CREATED:20210928T131838Z
LAST-MODIFIED:20220907T095121Z
UID:3659-1634392800-1634403600@orangeplatine.fr
SUMMARY:Chant improvisé et polyphonies occitanes [stage] @Le 122 - Angers
DESCRIPTION:Chant improvisé et polyphonies occitanes\n\nStage chant / avec Marine Recotillon\n \n\n\n\n \n\nAiguisez bien vos cordes vocales car nous partons à la découverte de territoires encore vierges\, où l’improvisation se mêle à de foisonnants répertoires de chants traditionnels et modernes occitans.\n\nUn voyage qui nous fera passer à travers l’écoute\, le ressenti\, le lâcher-prise vocal et la parole chantée débridée ! À la manière de Bobby McFerrin ou de Camille\, nous utiliserons les Circle Songs et le Rythme Signé pour élaborer une création collective à notre image.\n\n \n\n \n\nSamedi 16 octobre 2021\n14:00 > 17:00 \nNombre de places limité\nà 15 personnes \nLieu\nLe 122 – Tiers lieu culturel\n122 rue de la Chalouère\n49 000 Angers \nTarif : 40 €\n35 € pour les adhérents à l’association Orange Platine \n\n\n\n\nL’intervenante\n \nRiche d’un parcours d’études du chant de près de 20 ans au conservatoire de Cholet\, Marine Recotillon s’est spécialisée dans les chants du monde auprès de plusieurs professeurs particuliers. Ses expériences au sein de groupes de musiques aux influences éclectiques (chansons françaises\, pop rock\, percussions brésiliennes\, musiques de l’est\, musiques celtiques…)\, l’ont introduite à de nombreuses voies/voix.\n\nLa passion pour cet instrument intime l’a poussée à transmettre à son tour au sein de chorales\, et autres cours particuliers.\n\nGrâce à Orange Platine et son implication dans le groupe Café Frappé\, elle a développé une autre dimension musicale : l’improvisation. Férue de circle songs\, elle les mêle maintenant au Rythme Signé qui permet d’amener les participants au lâcher prise\, jusqu’à l’improvisation\, tout en simplicité.\n\nINSCRIPTION >>\n \n\nPour découvrir l’ensemble des stages d’improvisation de la saison\, c’est par ici.
URL:https://orangeplatine.fr/event/chant-impro-122-2021/
LOCATION:Le 122\, 122 rue de la Chalouère\, Angers\, 49100\, France
CATEGORIES:Ateliers et stages
ATTACH;FMTTYPE=image/jpeg:https://orangeplatine.fr/wp-content/uploads/2021/09/event-1610-1.jpg
ORGANIZER;CN="Orange Platine":MAILTO:contact@orangeplatine.fr
END:VEVENT
END:VCALENDAR