BEGIN:VCALENDAR
VERSION:2.0
PRODID:-//Orange Platine - ECPv6.15.20//NONSGML v1.0//EN
CALSCALE:GREGORIAN
METHOD:PUBLISH
X-ORIGINAL-URL:https://orangeplatine.fr
X-WR-CALDESC:Évènements pour Orange Platine
REFRESH-INTERVAL;VALUE=DURATION:PT1H
X-Robots-Tag:noindex
X-PUBLISHED-TTL:PT1H
BEGIN:VTIMEZONE
TZID:Europe/Paris
BEGIN:DAYLIGHT
TZOFFSETFROM:+0100
TZOFFSETTO:+0200
TZNAME:CEST
DTSTART:20240331T010000
END:DAYLIGHT
BEGIN:STANDARD
TZOFFSETFROM:+0200
TZOFFSETTO:+0100
TZNAME:CET
DTSTART:20241027T010000
END:STANDARD
BEGIN:DAYLIGHT
TZOFFSETFROM:+0100
TZOFFSETTO:+0200
TZNAME:CEST
DTSTART:20250330T010000
END:DAYLIGHT
BEGIN:STANDARD
TZOFFSETFROM:+0200
TZOFFSETTO:+0100
TZNAME:CET
DTSTART:20251026T010000
END:STANDARD
BEGIN:DAYLIGHT
TZOFFSETFROM:+0100
TZOFFSETTO:+0200
TZNAME:CEST
DTSTART:20260329T010000
END:DAYLIGHT
BEGIN:STANDARD
TZOFFSETFROM:+0200
TZOFFSETTO:+0100
TZNAME:CET
DTSTART:20261025T010000
END:STANDARD
END:VTIMEZONE
BEGIN:VEVENT
DTSTART;TZID=Europe/Paris:20250711T140000
DTEND;TZID=Europe/Paris:20250714T170000
DTSTAMP:20260421T032938
CREATED:20250116T121302Z
LAST-MODIFIED:20250630T174134Z
UID:6890-1752242400-1752512400@orangeplatine.fr
SUMMARY:Intensif de Rythme Signé d'été 2025
DESCRIPTION:C’est parti pour 4 jours intensifs de Rythme Signé\n\n\n\n\n\nOrange Platine vous propose un week-end intensif pour découvrir ou améliorer votre pratique du Rythme Signé !Mais qu’est-ce que c’est\, au juste ? Le Rythme Signé est un langage de direction en temps réel originaire d’Argentine\, se prêtant tout particulièrement aux instruments de percussions. \nLe.la directeur.rice communique avec ses musicien.ne.s grâce à des signes facilement compréhensibles et assimilables. Ainsi débutant.e.s et expert.e.s peuvent jouer ensemble\, en toute simplicité !Durant les ateliers qui composeront le week-end\, le chant et vos instruments mélodiques personnels seront également de la partie. Les soirées laisseront place à des JAM endiablées ouvertes à tous.tes ! \n\n\n\n\nJE M’INSCRIS\n\n\n\n\n\n\nDu vendredi 11 – 14h au lundi 14 juillet 2025 – 17hADJOLOLOles Fromentinières – Freigné\, 44540 Vallons-de-L’ErdreTarifs4 jours « solidaire » | 130 €4 jours « base » | 180 €4 jours « soutien » | 210 €1 jour | 70 €Hébergement (3 nuits)Camping | 0 €Chambre simple | 48 €Chambre double | 75 € \n\n\n\n\n\nLe Programme\n\n\n\nTout au long du séjour\, vous pourrez naviguer entre 3 grandes thématiques d’ateliers : \n\n\n\n\nVoix et harmonie : Pour les mélodistes qui cherchent un espace d’expression. Que vous ayez un instrument ou votre voix\, vous apprendrez à utiliser le langage du Rythme Signé et les concepts d’improvisation pour le jeu collectif.\n\n\n\nFolklores et styles : Ce parcours vous invite au voyage. Explorez des rythmes venus des quatre coins du monde\, des genres musicaux qui vous sont inconnus ou que vous appréciez afin de nourrir vos futures improvisations.\n\n\n\nImprovisons ensemble : Des ateliers pour compléter votre boîte à outils d’improvisateur.rice. En tant que musicien.ne.s ou en prenant la direction\, venez apprivoiser et expérimenter différentes manières d’improviser en collectif.\n\n\n\n\nEn plus des ateliers on se retrouve les vendredi\, samedi et dimanche soirs pour des Jams !  \n\n\n\n\n\n\n\n\n\n\n\n\n\n\n\n\n\n\n\n\n\nTarifs\n\n\n\nNous avons mis en place différents tarifs afin de rendre ce week-end accessible au plus grand nombre. Ils comprennent l’accès à une zone “de camping” où il est possible de planter une tente\, garer un camping-car ou une voiture\, mais aussi un accès à des sanitaires de base et les repas qui seront préparés en collectif. \n\n\n\n– 4 jours « solidaire » | 130 €  – Destiné à celles.eux qui n’ont pas les moyens– 4 jours « base » | 180 € – 4 jours « soutien » | 210 € – Destiné à celles.eux qui souhaitent soutenir l’association et l’organisation de l’intensif– 1 jour | 70 € – Destiné à celles.eux qui veulent vivre l’expérience le temps d’une journée \n\n\n\nIl est possible en outre de prendre un hébergement sur place pour les trois nuits : \n\n\n\n– Chambre simple | 48 €– Chambre double | 75 € \n\n\n\n\nJE M’INSCRIS
URL:https://orangeplatine.fr/event/intensif-de-rythme-signe-dete-2025/
LOCATION:ADJOLOLO\, Fromentinières - Freigné\, Vallons-de-L'Erdre\, 44540\, France
ATTACH;FMTTYPE=image/jpeg:https://orangeplatine.fr/wp-content/uploads/2025/01/IMG_9246.jpg
END:VEVENT
END:VCALENDAR