BEGIN:VCALENDAR
VERSION:2.0
PRODID:-//Orange Platine - ECPv6.15.20//NONSGML v1.0//EN
CALSCALE:GREGORIAN
METHOD:PUBLISH
X-ORIGINAL-URL:https://orangeplatine.fr
X-WR-CALDESC:Évènements pour Orange Platine
REFRESH-INTERVAL;VALUE=DURATION:PT1H
X-Robots-Tag:noindex
X-PUBLISHED-TTL:PT1H
BEGIN:VTIMEZONE
TZID:Europe/Paris
BEGIN:DAYLIGHT
TZOFFSETFROM:+0100
TZOFFSETTO:+0200
TZNAME:CEST
DTSTART:20220327T010000
END:DAYLIGHT
BEGIN:STANDARD
TZOFFSETFROM:+0200
TZOFFSETTO:+0100
TZNAME:CET
DTSTART:20221030T010000
END:STANDARD
BEGIN:DAYLIGHT
TZOFFSETFROM:+0100
TZOFFSETTO:+0200
TZNAME:CEST
DTSTART:20230326T010000
END:DAYLIGHT
BEGIN:STANDARD
TZOFFSETFROM:+0200
TZOFFSETTO:+0100
TZNAME:CET
DTSTART:20231029T010000
END:STANDARD
BEGIN:DAYLIGHT
TZOFFSETFROM:+0100
TZOFFSETTO:+0200
TZNAME:CEST
DTSTART:20240331T010000
END:DAYLIGHT
BEGIN:STANDARD
TZOFFSETFROM:+0200
TZOFFSETTO:+0100
TZNAME:CET
DTSTART:20241027T010000
END:STANDARD
END:VTIMEZONE
BEGIN:VEVENT
DTSTART;TZID=Europe/Paris:20230513T140000
DTEND;TZID=Europe/Paris:20230513T170000
DTSTAMP:20260422T213855
CREATED:20230413T112701Z
LAST-MODIFIED:20230421T085412Z
UID:5344-1683986400-1683997200@orangeplatine.fr
SUMMARY:Tournoi départemental du Trophée d'Impro des Collèges
DESCRIPTION:Qui remportera le Trophée d’Impro des Collèges en Maine-et-Loire ?\n\n\n\nTout au long de l’année\, 66 collégiens sont partis à la découverte du théâtre d’improvisation au sein même de leurs établissements. Ils se sont durement entraînés pour aujourd’hui disputer un tournoi départemental et ainsi tenter de remporter le Trophée d’Impro des Collèges en Maine-et-Loire 2023 ! \n\n\n\nLes Pingouins du Feu – Vol. 3 du Collège St Jean de La Barre (Angers) remettront en jeu leur titre face à 3 autres équipes. Ils affronteront Les Olympros du Collège Saint Louis (Saumur)\, Les Lapimpro du Collège François Rabelais (Angers) et enfin Les Têtards Fêtards du Collège Honoré de Balzac (Saumur) ! \n\n\n\n\n\n\n\n\n\n\n\n\n\n\n\n\n\n\n\n\n\n\n\n\n\n\n\n\n\nUn spectacle ouvert au tout public\, gratuit pour les collégiens et pour les parents des jeunes qui se produiront sur la scène du Théâtre de l’Avant Scène de Trélazé. La réservation en ligne est obligatoire pour assister à ce spectacle. \n\n\n\n\n\n\n\nProgramme de la journée\n\n\n\n\n\nSi le match d’improvisation théâtrale emprunte son vocabulaire au sport ce n’est pas pour rien ! Car en effet\, comme dans toute rencontre sportive on y retrouve deux équipes qui se font face sous l’œil vigilant d’un arbitre. Sauf qu’ici pas de balle à faire rentrer dans un but\, mais des mots\, des phrases et des personnages pour construire à plusieurs la meilleure histoire possible ! Et c’est à vous de désigner\, à la fin de chaque improvisation\, quelle équipe a le mieux joué : en lui accordant ainsi un point décisif qui lui permettra peut-être de remporter le tournoi. \n\n\n\nVenez nombreux pour les soutenir ! \n\n\n\n\n\n13:30 – Ouverture de la billetterie sur place / 13:45 – ouverture des portesDEMI-FINALES14:00 – Les Olympros VS Les Pingouins du Feu Vol. 314:40 – Les Têtards Fêtards VS Les LapimproFINALES15:30 – Petite finale16:10 – Finale17:00 – Cérémonie de clôture \n\n\n\n\n\n\nJe réserve ma place !\n\n\n\n\n\n\n\n\nIMPORTANTLe théâtre de l’Avant Scène étant limité en places\, la réservation en ligne est obligatoire. Aussi\, afin de permettre au plus grand nombre d’assister au spectacle\, nous vous proposons de CHOISIR et d’assister SOIT aux demi-finales SOIT aux finales. Vous aurez ainsi la garantie de voir l’ensemble des équipes jouer.  \n\n\n\n\n\n\n\nLe Trophée d’Impro des Collèges\n\n\n\n\n\n\nLe Trophée d’Impro des Collèges en Maine-et-Loire est un programme pédagogique à dominante artistique et culturelle produit par Orange Platine en partenariat avec Les Expresso et la Cie L’Oiseau Moqueur. Ce dispositif bénéficie du soutien indispensable du Département de Maine-et-Loire. \n\n\n\nPlus d’infos sur le dispositif : https://orangeplatine.fr/ateliers/trophee-dimpro-49 \n\n\n\nEn 2021\, Orange Platine a rejoint le dispositif national du Trophée d’Impro Culture et Diversité développé par la Fondation Culture et Diversité avec le soutien des groupes ID Logistics et Casino. Il a pour mission de favoriser\, pour les collégiens issus de milieux modestes\, l’accès à la culture et aux pratiques artistiques. \n\n\n\nLes partenaires du spectacle\n\n\n\n\n\nCe tournoi est réalisé en partenariat avec l’association trélazéenne Matyhey Musik\, porteuse entre autres de la troupe junior d’improvisation L’Imaginoir. Il bénéficie également du soutien de la LIMA (Lige d’IMprovisation Angevine) qui prête sa patinoire. \n\n\n\n\n\n\n\n\n\n\n\n\n\n\n\n\n\nLe lieu \n\n\n\n\n\n\n\nLes organisateurs
URL:https://orangeplatine.fr/event/trophee-impro-49-2023/
LOCATION:Théâtre de l’Avant-Scène\, Chemin de la maraîchère\, Trélazé\, 49800
CATEGORIES:Match d'impro,Spectacle
ATTACH;FMTTYPE=image/jpeg:https://orangeplatine.fr/wp-content/uploads/2023/04/TropheeImpro_230513_banner-v2.jpg
END:VEVENT
END:VCALENDAR