BEGIN:VCALENDAR
VERSION:2.0
PRODID:-//Orange Platine - ECPv6.15.20//NONSGML v1.0//EN
CALSCALE:GREGORIAN
METHOD:PUBLISH
X-WR-CALNAME:Orange Platine
X-ORIGINAL-URL:https://orangeplatine.fr
X-WR-CALDESC:Évènements pour Orange Platine
REFRESH-INTERVAL;VALUE=DURATION:PT1H
X-Robots-Tag:noindex
X-PUBLISHED-TTL:PT1H
BEGIN:VTIMEZONE
TZID:Europe/Paris
BEGIN:DAYLIGHT
TZOFFSETFROM:+0100
TZOFFSETTO:+0200
TZNAME:CEST
DTSTART:20250330T010000
END:DAYLIGHT
BEGIN:STANDARD
TZOFFSETFROM:+0200
TZOFFSETTO:+0100
TZNAME:CET
DTSTART:20251026T010000
END:STANDARD
BEGIN:DAYLIGHT
TZOFFSETFROM:+0100
TZOFFSETTO:+0200
TZNAME:CEST
DTSTART:20260329T010000
END:DAYLIGHT
BEGIN:STANDARD
TZOFFSETFROM:+0200
TZOFFSETTO:+0100
TZNAME:CET
DTSTART:20261025T010000
END:STANDARD
BEGIN:DAYLIGHT
TZOFFSETFROM:+0100
TZOFFSETTO:+0200
TZNAME:CEST
DTSTART:20270328T010000
END:DAYLIGHT
BEGIN:STANDARD
TZOFFSETFROM:+0200
TZOFFSETTO:+0100
TZNAME:CET
DTSTART:20271031T010000
END:STANDARD
END:VTIMEZONE
BEGIN:VEVENT
DTSTART;TZID=Europe/Paris:20260425T103000
DTEND;TZID=Europe/Paris:20260425T123000
DTSTAMP:20260425T014628
CREATED:20260403T111655Z
LAST-MODIFIED:20260403T111656Z
UID:8163-1777113000-1777120200@orangeplatine.fr
SUMMARY:Baraketu @Carnaval de Thouarcé
DESCRIPTION:Baraketu animera de sa musique emblématique le carnaval de Thouarcé organisé par les Thouarçonautes. \n\n\n\n\n\nSamedi 25 avril 202610:30Maison de retraite Thouarcé \n\n\n\n\n\n\nPLUS D’INFOS
URL:https://orangeplatine.fr/event/baraketu-carnaval-de-thouarce/
END:VEVENT
END:VCALENDAR