BEGIN:VCALENDAR
VERSION:2.0
PRODID:-//Orange Platine - ECPv6.15.20//NONSGML v1.0//EN
CALSCALE:GREGORIAN
METHOD:PUBLISH
X-ORIGINAL-URL:https://orangeplatine.fr
X-WR-CALDESC:Évènements pour Orange Platine
REFRESH-INTERVAL;VALUE=DURATION:PT1H
X-Robots-Tag:noindex
X-PUBLISHED-TTL:PT1H
BEGIN:VTIMEZONE
TZID:Europe/Paris
BEGIN:DAYLIGHT
TZOFFSETFROM:+0100
TZOFFSETTO:+0200
TZNAME:CEST
DTSTART:20250330T010000
END:DAYLIGHT
BEGIN:STANDARD
TZOFFSETFROM:+0200
TZOFFSETTO:+0100
TZNAME:CET
DTSTART:20251026T010000
END:STANDARD
BEGIN:DAYLIGHT
TZOFFSETFROM:+0100
TZOFFSETTO:+0200
TZNAME:CEST
DTSTART:20260329T010000
END:DAYLIGHT
BEGIN:STANDARD
TZOFFSETFROM:+0200
TZOFFSETTO:+0100
TZNAME:CET
DTSTART:20261025T010000
END:STANDARD
BEGIN:DAYLIGHT
TZOFFSETFROM:+0100
TZOFFSETTO:+0200
TZNAME:CEST
DTSTART:20270328T010000
END:DAYLIGHT
BEGIN:STANDARD
TZOFFSETFROM:+0200
TZOFFSETTO:+0100
TZNAME:CET
DTSTART:20271031T010000
END:STANDARD
END:VTIMEZONE
BEGIN:VEVENT
DTSTART;TZID=Europe/Paris:20260328T090000
DTEND;TZID=Europe/Paris:20260328T170000
DTSTAMP:20260422T144551
CREATED:20251028T161105Z
LAST-MODIFIED:20251028T161116Z
UID:7736-1774688400-1774717200@orangeplatine.fr
SUMMARY:Initiation Percussions Rythme Signé avec Clément Pineau @Le Quart'Ney - Angers
DESCRIPTION:(Re)découvrez le Rythme Signé pour créer de la musique collectivement en instantané.\n\n\n\nAvec Clément Pineau\n\n\n\n\nINSCRIPTION\n\n\n\n\n\n\nUne expérience musicale accessible\, collective et décomplexée\, avec les percussions mises à disposition\, vous créerez de la musique\, en collectif\, que vous soyez déjà musicien ou non. Cela grâce au Rythme Signé\, un langage de composition musicale basée sur le tempo. \n\n\n\nAvec un répertoire restreint de signes\, le directeur peut influer sur tous les aspects de la musique : le rythme bien sûr mais aussi le ton\, le volume\, la hauteur des notes\, etc. Les musiciens\, peu importe leurs influences ou leur niveau de pratique\, peuvent ainsi collaborer de manière interactive. \n\n\n\n\n\nSamedi 28 mars 202609:00 > 17:00LieuLe Quart’Ney 5 – 9 rue Ernest Eugène Duboys49100 ANGERSTarif : 75€ / 70€**adhérents à l’association Orange Platine \n\n\n\n\n\nCet outil accessible et intuitif permet à toute personne de faire de la musique sans connaissances musicales et même de prendre la place de chef.fe d’orchestre et de diriger un groupe de manière complètement improvisée !
URL:https://orangeplatine.fr/event/initiation-percussions-rythme-signe-clement-pineau/
LOCATION:Le Quart’Ney\, 5-9 Rue Duboys\, Angers\, 49100\, France
END:VEVENT
END:VCALENDAR