BEGIN:VCALENDAR
VERSION:2.0
PRODID:-//Orange Platine - ECPv6.15.20//NONSGML v1.0//EN
CALSCALE:GREGORIAN
METHOD:PUBLISH
X-ORIGINAL-URL:https://orangeplatine.fr
X-WR-CALDESC:Évènements pour Orange Platine
REFRESH-INTERVAL;VALUE=DURATION:PT1H
X-Robots-Tag:noindex
X-PUBLISHED-TTL:PT1H
BEGIN:VTIMEZONE
TZID:Europe/Paris
BEGIN:DAYLIGHT
TZOFFSETFROM:+0100
TZOFFSETTO:+0200
TZNAME:CEST
DTSTART:20250330T010000
END:DAYLIGHT
BEGIN:STANDARD
TZOFFSETFROM:+0200
TZOFFSETTO:+0100
TZNAME:CET
DTSTART:20251026T010000
END:STANDARD
BEGIN:DAYLIGHT
TZOFFSETFROM:+0100
TZOFFSETTO:+0200
TZNAME:CEST
DTSTART:20260329T010000
END:DAYLIGHT
BEGIN:STANDARD
TZOFFSETFROM:+0200
TZOFFSETTO:+0100
TZNAME:CET
DTSTART:20261025T010000
END:STANDARD
BEGIN:DAYLIGHT
TZOFFSETFROM:+0100
TZOFFSETTO:+0200
TZNAME:CEST
DTSTART:20270328T010000
END:DAYLIGHT
BEGIN:STANDARD
TZOFFSETFROM:+0200
TZOFFSETTO:+0100
TZNAME:CET
DTSTART:20271031T010000
END:STANDARD
END:VTIMEZONE
BEGIN:VEVENT
DTSTART;TZID=Europe/Paris:20260323T090000
DTEND;TZID=Europe/Paris:20260324T170000
DTSTAMP:20260422T144551
CREATED:20260217T142302Z
LAST-MODIFIED:20260217T145940Z
UID:7926-1774256400-1774371600@orangeplatine.fr
SUMMARY:Formation Animer des temps musicaux collectifs @SDJES Pays de la Loire
DESCRIPTION:Formation sans prérequis\, menée par Antoine AUPETIT\, formateur en Rythme Signé. \n\n\n\nFormation pour : Animateur.rice.s socioculturel.le.s\, directeur.rice.s\, bénévoles associatifs\, agent.e.s des collectivités\, travailleur.euse.s sociaux.ales. \n\n\n\nAu travers de l’apprentissage du Rythme Signé et de jeux musicaux\, Antoine vous propose de vous initier à la pratique musicale collective. Aucun prérequis n’est demandé\, seulement votre envie de jouer et faire jouer de la musique. \n\n\n\n\n\nObjectifs :  \n\n\n\n\nDécouvrir la pratique musicale en collectif\n\n\n\nConnaître les bases du Rythme Signé (langage signé)\n\n\n\nMaîtriser quelques signes simples\n\n\n\nÊtre capable de diriger des jeux musicaux\n\n\n\n\nContenu : \n\n\n\n\nPratique du Rythme Signé en tant que joueur.se\n\n\n\nExpérimentation de la posture de chef.fe d’orchestre grâce à des outils accessibles à tous\n\n\n\nÉchanges sur la mise en place d’une activité musicale collective\n\n\n\n\nL’équipe pédagogique peut être contactée à l’adresse suivante : contact@orangeplatine.fr \n\n\n\n\n\nLundi 23 et mardi 24 mars 202609:00 > 17:00LieuLe Trois Mâts\, 42 Place des Justices\,49000 AngersGratuit sur inscription\, repas et transport à la charge des participants \n\n\n\n\n\n\nINSCRIPTION
URL:https://orangeplatine.fr/event/formation-animer-des-temps-musicaux-collectifs-sdjes-pays-de-la-loire/
LOCATION:Le Trois Mâts\, Place des Justices\, Angers\, 49000
ATTACH;FMTTYPE=image/jpeg:https://orangeplatine.fr/wp-content/uploads/2021/05/RS-TroisMats-26022020-31-1-scaled.jpg
END:VEVENT
END:VCALENDAR