BEGIN:VCALENDAR
VERSION:2.0
PRODID:-//Orange Platine - ECPv6.15.20//NONSGML v1.0//EN
CALSCALE:GREGORIAN
METHOD:PUBLISH
X-ORIGINAL-URL:https://orangeplatine.fr
X-WR-CALDESC:Évènements pour Orange Platine
REFRESH-INTERVAL;VALUE=DURATION:PT1H
X-Robots-Tag:noindex
X-PUBLISHED-TTL:PT1H
BEGIN:VTIMEZONE
TZID:Europe/Paris
BEGIN:DAYLIGHT
TZOFFSETFROM:+0100
TZOFFSETTO:+0200
TZNAME:CEST
DTSTART:20250330T010000
END:DAYLIGHT
BEGIN:STANDARD
TZOFFSETFROM:+0200
TZOFFSETTO:+0100
TZNAME:CET
DTSTART:20251026T010000
END:STANDARD
BEGIN:DAYLIGHT
TZOFFSETFROM:+0100
TZOFFSETTO:+0200
TZNAME:CEST
DTSTART:20260329T010000
END:DAYLIGHT
BEGIN:STANDARD
TZOFFSETFROM:+0200
TZOFFSETTO:+0100
TZNAME:CET
DTSTART:20261025T010000
END:STANDARD
BEGIN:DAYLIGHT
TZOFFSETFROM:+0100
TZOFFSETTO:+0200
TZNAME:CEST
DTSTART:20270328T010000
END:DAYLIGHT
BEGIN:STANDARD
TZOFFSETFROM:+0200
TZOFFSETTO:+0100
TZNAME:CET
DTSTART:20271031T010000
END:STANDARD
END:VTIMEZONE
BEGIN:VEVENT
DTSTART;TZID=Europe/Paris:20260314T090000
DTEND;TZID=Europe/Paris:20260315T170000
DTSTAMP:20260422T144550
CREATED:20251028T153635Z
LAST-MODIFIED:20251030T114103Z
UID:7719-1773478800-1773594000@orangeplatine.fr
SUMMARY:Body Percussion avec Perrine Camus @Le Quart'Ney - Angers
DESCRIPTION:Diversité et complémentarité des techniques\n\n\n\nAvec Perrine Camus\n\n\n\n\nINSCRIPTION\n\n\n\n\nUne immersion progressive dans l’univers du rythme à travers le corps\, la voix et le mouvement. \n\n\n\n\n\nLes participants découvriront les bases du langage rythmique\, développeront leur précision\, leur coordination et leur sens du groove grâce à des jeux\, des exercices et des créations collectives. \n\n\n\nIls exploreront également la dimension corporelle et spatiale du rythme — comment le mouvement et la musique s’entremêlent — tout en expérimentant la complémentarité entre voix et percussions corporelles.Un espace d’apprentissage vivant\, où l’écoute\, la créativité et le plaisir de jouer ensemble seront au cœur de la pratique. \n\n\n\n\n\nSamedi 14 et dimanche 15 mars 202609:00 > 17:00LieuLe Quart’Ney 5 – 9 rue Ernest Eugène Duboys49100 ANGERSTarif : 180€ / 170€**adhérents à l’association Orange Platine \n\n\n\n\n\nL’intervenante\n\n\n\n\n\n\n\n\n\n\n\nPerrine Camus \n\n\n\nPerrine Camus est pédagogue\, danseuse\, chorégraphe et “body-percussionist”. Après avoir joué dans un groupe de percussions et exploré divers styles de danse\, elle trouve dans la pratique de danses percussives telles que les claquettes\, le flamenco et les percussions corporelles\, la fusion idéale du mouvement et du rythme.  \n\n\n\n\n\nEn body percussion\, elle se forme auprès de Jep Meléndez\, Nestor Busquets\, Max Pollak\, Olivia Rosenkrantz\, Keith Terry\, Barbatuques\, ToK et d’autres. \n\n\n\nA Londres\, elle est profondément influencée par le travail de chorégraphes contemporains tels que l’approche sensorielle et musicale de Hofesh Shechter\, la fusion de la danse indienne et des arts martiaux d’Akram Khan\, le « Flamenco roots » de Jose Agudo…Au fil de ses rencontres\, elle aborde l’expression vocale\, explorant à la fois le répertoire et l’improvisation. L’ensemble vocal devient\, comme l’ensemble chorégraphique\, l’un de ses terrains de jeu préférés pour l’exploration de la musique corporelle. \n\n\n\nInspirée par toutes ces expériences\, elle développe son propre langage musical et chorégraphique\, une danse percussive et sensible pleine de groove !
URL:https://orangeplatine.fr/event/diversite-complementarite-des-techniques-perrine-camus/
LOCATION:Le Quart’Ney\, 5-9 Rue Duboys\, Angers\, 49100\, France
END:VEVENT
END:VCALENDAR