BEGIN:VCALENDAR
VERSION:2.0
PRODID:-//Orange Platine - ECPv6.15.20//NONSGML v1.0//EN
CALSCALE:GREGORIAN
METHOD:PUBLISH
X-WR-CALNAME:Orange Platine
X-ORIGINAL-URL:https://orangeplatine.fr
X-WR-CALDESC:Évènements pour Orange Platine
REFRESH-INTERVAL;VALUE=DURATION:PT1H
X-Robots-Tag:noindex
X-PUBLISHED-TTL:PT1H
BEGIN:VTIMEZONE
TZID:Europe/Paris
BEGIN:DAYLIGHT
TZOFFSETFROM:+0100
TZOFFSETTO:+0200
TZNAME:CEST
DTSTART:20240331T010000
END:DAYLIGHT
BEGIN:STANDARD
TZOFFSETFROM:+0200
TZOFFSETTO:+0100
TZNAME:CET
DTSTART:20241027T010000
END:STANDARD
BEGIN:DAYLIGHT
TZOFFSETFROM:+0100
TZOFFSETTO:+0200
TZNAME:CEST
DTSTART:20250330T010000
END:DAYLIGHT
BEGIN:STANDARD
TZOFFSETFROM:+0200
TZOFFSETTO:+0100
TZNAME:CET
DTSTART:20251026T010000
END:STANDARD
BEGIN:DAYLIGHT
TZOFFSETFROM:+0100
TZOFFSETTO:+0200
TZNAME:CEST
DTSTART:20260329T010000
END:DAYLIGHT
BEGIN:STANDARD
TZOFFSETFROM:+0200
TZOFFSETTO:+0100
TZNAME:CET
DTSTART:20261025T010000
END:STANDARD
END:VTIMEZONE
BEGIN:VEVENT
DTSTART;TZID=Europe/Paris:20251017T193000
DTEND;TZID=Europe/Paris:20251017T223000
DTSTAMP:20260422T221842
CREATED:20251003T105252Z
LAST-MODIFIED:20251003T110402Z
UID:7655-1760729400-1760740200@orangeplatine.fr
SUMMARY:Assemblée Générale d'Orange Platine & Jam @Digital Village | ANGERS
DESCRIPTION:L’assemblée générale d’Orange Platine sera l’occasion de vous proposer la première Jam de l’année !Munissez-vous de votre instrument préféré\, et venez embellir ce moment festif.La Jam est ouverte à tous.tes pas besoin d’être adhérent.e.Attention on a débuté une nouvelle saison culturelle le 1er septembre\, soyez à jour de votre cotisation pour pouvoir voter.On a hâte de vous retrouver lors de cette belle soirée !Le Bureau d’Orange Platine \n\n\n\n\nAdhérer\n\n\n\n\n\n\nVendredi 17 octobre 2025 19:30 : Assemblée Générale20:30 : Jam ouverte à tous.tes Digital Village12 Bd Jean Moulin49100 AngersBar et restauration sur placeGratuit
URL:https://orangeplatine.fr/event/assemblee-generale-jam/
END:VEVENT
END:VCALENDAR