BEGIN:VCALENDAR
VERSION:2.0
PRODID:-//Orange Platine - ECPv6.15.20//NONSGML v1.0//EN
CALSCALE:GREGORIAN
METHOD:PUBLISH
X-WR-CALNAME:Orange Platine
X-ORIGINAL-URL:https://orangeplatine.fr
X-WR-CALDESC:Évènements pour Orange Platine
REFRESH-INTERVAL;VALUE=DURATION:PT1H
X-Robots-Tag:noindex
X-PUBLISHED-TTL:PT1H
BEGIN:VTIMEZONE
TZID:Europe/Paris
BEGIN:DAYLIGHT
TZOFFSETFROM:+0100
TZOFFSETTO:+0200
TZNAME:CEST
DTSTART:20240331T010000
END:DAYLIGHT
BEGIN:STANDARD
TZOFFSETFROM:+0200
TZOFFSETTO:+0100
TZNAME:CET
DTSTART:20241027T010000
END:STANDARD
BEGIN:DAYLIGHT
TZOFFSETFROM:+0100
TZOFFSETTO:+0200
TZNAME:CEST
DTSTART:20250330T010000
END:DAYLIGHT
BEGIN:STANDARD
TZOFFSETFROM:+0200
TZOFFSETTO:+0100
TZNAME:CET
DTSTART:20251026T010000
END:STANDARD
BEGIN:DAYLIGHT
TZOFFSETFROM:+0100
TZOFFSETTO:+0200
TZNAME:CEST
DTSTART:20260329T010000
END:DAYLIGHT
BEGIN:STANDARD
TZOFFSETFROM:+0200
TZOFFSETTO:+0100
TZNAME:CET
DTSTART:20261025T010000
END:STANDARD
END:VTIMEZONE
BEGIN:VEVENT
DTSTART;TZID=Europe/Paris:20250922T180000
DTEND;TZID=Europe/Paris:20250922T210000
DTSTAMP:20260422T234230
CREATED:20250725T111506Z
LAST-MODIFIED:20250910T161941Z
UID:7581-1758564000-1758574800@orangeplatine.fr
SUMMARY:Conférence et concert de Santiago Vazquez à la Philharmonie de Paris
DESCRIPTION:Santiago Vazquez à la Philharmonie de Paris \n\n\n\nDans le cadre des Deuxièmes Rencontres Françaises du Rythme Signé du 16 au 22 septembre 2025. \n\n\n\n\n\nLa Philharmonie de Paris et l’association Orange Platine vous proposent de découvrir pour la première fois à Paris le Rythme Signé\, une technique d’improvisation musicale collective\, lors d’une conférence participative donnée par son créateur\, le compositeur argentin Santiago Vazquez.Cette initiation collective sera suivie d’un concert exceptionnel\, d’un cocktail\, et d’une séance de dédicace à l’occasion de la parution de la traduction française du Manuel de  Rythme Signé par Santiago Vazquez. \n\n\n\n\n\nLundi 22 septembre 202518:00 > 21:00Philharmonie de Paris – Salle de Conférence221 avenue Jean-Jaurès75019 – PARISGratuit sur inscription \n\n\n\n\n\n\n\n\n\nPour s’inscrire : Envoyer un mail à : concertsparticipatifs@cite-musique.frAvec pour objet : Confirmation | Le Rythme Signé : Improvisation dirigée et pédagogie musicale | Philharmonie de Paris | Lundi 22 septembre à 18h \n\n\n\n\n\n\n\nSantiago Vazquez\, inventeur du Rythme Signé\n\n\n\n\nGrand génie musical\, Santiago Vazquez a développé le langage du Rythme Signé en 2006. Pour sa mise en pratique\, il a monté plusieurs ensembles musicaux devenus de véritables institutions en Argentine tels que La Bomba de Tiempo\, La Grande\, Pan ou plus récemment ÑU. Face à l’engouement entourant ce phénomène musical\, Santiago a fondé l’école du CERPS (Centre d’Études de Rythmes et de Percussions Signées) dédiée à l’étude du langage et aux techniques de composition en temps réel. \n\n\n\n\n\n\n\n\n\n\nLe lieu \n\n\n\n\n\n\n\nOrganisateur
URL:https://orangeplatine.fr/event/conference-et-concert-de-santiago-vazquez-a-la-philharmonie-de-paris/
LOCATION:Philharmonie de Paris\, 221 avenue Jean-Jaurès\, Paris\, France
END:VEVENT
END:VCALENDAR