BEGIN:VCALENDAR
VERSION:2.0
PRODID:-//Orange Platine - ECPv6.15.20//NONSGML v1.0//EN
CALSCALE:GREGORIAN
METHOD:PUBLISH
X-WR-CALNAME:Orange Platine
X-ORIGINAL-URL:https://orangeplatine.fr
X-WR-CALDESC:Évènements pour Orange Platine
REFRESH-INTERVAL;VALUE=DURATION:PT1H
X-Robots-Tag:noindex
X-PUBLISHED-TTL:PT1H
BEGIN:VTIMEZONE
TZID:Europe/Paris
BEGIN:DAYLIGHT
TZOFFSETFROM:+0100
TZOFFSETTO:+0200
TZNAME:CEST
DTSTART:20240331T010000
END:DAYLIGHT
BEGIN:STANDARD
TZOFFSETFROM:+0200
TZOFFSETTO:+0100
TZNAME:CET
DTSTART:20241027T010000
END:STANDARD
BEGIN:DAYLIGHT
TZOFFSETFROM:+0100
TZOFFSETTO:+0200
TZNAME:CEST
DTSTART:20250330T010000
END:DAYLIGHT
BEGIN:STANDARD
TZOFFSETFROM:+0200
TZOFFSETTO:+0100
TZNAME:CET
DTSTART:20251026T010000
END:STANDARD
BEGIN:DAYLIGHT
TZOFFSETFROM:+0100
TZOFFSETTO:+0200
TZNAME:CEST
DTSTART:20260329T010000
END:DAYLIGHT
BEGIN:STANDARD
TZOFFSETFROM:+0200
TZOFFSETTO:+0100
TZNAME:CET
DTSTART:20261025T010000
END:STANDARD
END:VTIMEZONE
BEGIN:VEVENT
DTSTART;TZID=Europe/Paris:20250920T093000
DTEND;TZID=Europe/Paris:20250921T173000
DTSTAMP:20260422T234229
CREATED:20250723T163121Z
LAST-MODIFIED:20250724T150458Z
UID:7532-1758360600-1758475800@orangeplatine.fr
SUMMARY:Workshop avec Santiago Vazquez
DESCRIPTION:Workshop grand format avec Santiago Vazquez\n\n\n\nDans le cadre des Deuxièmes Rencontres Françaises du Rythme Signé du 18 au 21 septembre 2025 à Angers. \n\n\n\nRejoins le Big Orchestra le temps d’un week-end unique avec le musicien argentin Santiago Vazquez\, créateur du Rythme Signé : un langage gestuel intuitif qui transforme le collectif en une force de création instantanée. \n\n\n\nQue tu sois musicien ou musicienne amateur.rice ou professionnel.le\, si tu aimes explorer\, jouer en collectif\, improviser et découvrir comment Santiago fait danser les foules… ce workshop est fait pour toi ! \n\n\n\n\n\nPour qui ?Tout public – pas besoin de savoir lire la musique\, mais une appétence pour le rythme\, l’écoute et le collectif est indispensable.Le conceptTu choisis un instrument (parmi les percussions proposées ou ton instrument mélodique – à valider avec l’équipe selon les doublons et le patch son) et tu le gardes tout le week-end. Tu t’engages à être présent les deux jours ainsi qu’à la restitution au Héron.Avec Santiago à la direction\, vous formerez ensemble un Big Orchestra\, une expérience de composition collective\, organique et vivante. Cet ensemble se produira gratuitement\, en extérieur\, au Héron Carré (Angers\, France)\, le dimanche 21 septembre de 18H30 à 19H30. \n\n\n\nInstruments disponibles : \n\n\n\n\n6 basses (surdos)\n\n\n\n12 aigus (cloches\, claves\, guiros\, etc.)\n\n\n\n10 médiums (djembés\, congas\, timbas\, etc.)\n\n\n\n12 mélodistes (ton propre instrument sous validation pour l’équilibre du groupe)\n\n\n\n\n\n\nSamedi 20 septembre 202509:30 > 17:30Le 3Mâts\, 42 Pl. des Justices – AngersDimanche 21 septembre 202510:30 > 17:30Centre Jacques Tati\, 5 rue Eugénie Mansion – AngersDimanche 21 septembre 202518:30 > 19:30Héron Carré\, Promenade Yolande d’Aragon – AngersTarifs : Soutien : 180€ Base 150€Solidaire 120€ \n\n\n\n\n\nInscriptionsPlaces limitées à 40 participants (instruments fournis ou perso)\, des places pourront être remises en vente en fonction de la forme de l’orchestre. \n\n\n\n\nRéservation\n\n\n\n\nSantiago Vazquez\, inventeur du Rythme Signé\n\n\n\n\nGrand génie musical\, Santiago Vazquez a développé le langage du Rythme Signé en 2006. Pour sa mise en pratique\, il a monté plusieurs ensembles musicaux devenus de véritables institutions en Argentine tels que La Bomba de Tiempo\, La Grande\, Pan ou plus récemment ÑU. Face à l’engouement entourant ce phénomène musical\, Santiago a fondé l’école du CERPS (Centre d’Études de Rythmes et de Percussions Signées) dédiée à l’étude du langage et aux techniques de composition en temps réel. \n\n\n\n\n\n\n\n\n\n\nOrganisateur
URL:https://orangeplatine.fr/event/workshop-avec-santiago-vazquez-deuxiemes-rencontres-francaises-du-rythme-signe/
ATTACH;FMTTYPE=image/png:https://orangeplatine.fr/wp-content/uploads/2025/07/20-sept.png
END:VEVENT
END:VCALENDAR