BEGIN:VCALENDAR
VERSION:2.0
PRODID:-//Orange Platine - ECPv6.15.20//NONSGML v1.0//EN
CALSCALE:GREGORIAN
METHOD:PUBLISH
X-WR-CALNAME:Orange Platine
X-ORIGINAL-URL:https://orangeplatine.fr
X-WR-CALDESC:Évènements pour Orange Platine
REFRESH-INTERVAL;VALUE=DURATION:PT1H
X-Robots-Tag:noindex
X-PUBLISHED-TTL:PT1H
BEGIN:VTIMEZONE
TZID:Europe/Paris
BEGIN:DAYLIGHT
TZOFFSETFROM:+0100
TZOFFSETTO:+0200
TZNAME:CEST
DTSTART:20240331T010000
END:DAYLIGHT
BEGIN:STANDARD
TZOFFSETFROM:+0200
TZOFFSETTO:+0100
TZNAME:CET
DTSTART:20241027T010000
END:STANDARD
BEGIN:DAYLIGHT
TZOFFSETFROM:+0100
TZOFFSETTO:+0200
TZNAME:CEST
DTSTART:20250330T010000
END:DAYLIGHT
BEGIN:STANDARD
TZOFFSETFROM:+0200
TZOFFSETTO:+0100
TZNAME:CET
DTSTART:20251026T010000
END:STANDARD
BEGIN:DAYLIGHT
TZOFFSETFROM:+0100
TZOFFSETTO:+0200
TZNAME:CEST
DTSTART:20260329T010000
END:DAYLIGHT
BEGIN:STANDARD
TZOFFSETFROM:+0200
TZOFFSETTO:+0100
TZNAME:CET
DTSTART:20261025T010000
END:STANDARD
END:VTIMEZONE
BEGIN:VEVENT
DTSTART;TZID=Europe/Paris:20250919T190000
DTEND;TZID=Europe/Paris:20250919T235900
DTSTAMP:20260422T234229
CREATED:20250723T153143Z
LAST-MODIFIED:20250724T132936Z
UID:7508-1758308400-1758326340@orangeplatine.fr
SUMMARY:Soirée A Bailar feat Santiago Vazquez
DESCRIPTION:Concert A Bailar feat Santiago Vazquez & Café Frappé\n\n\n\nDans le cadre des Deuxièmes Rencontres Françaises du Rythme Signé du 18 au 21 septembre 2025 à Angers. \n\n\n\n\n\nPour fêter la sortie du Manuel de Rythme Signé en version française\, on t’a concocté une soirée exceptionnelle pleine de surprises\, de moments festifs\, ouverts et joyeusement collectifs !  \n\n\n\nDès l’ouverture des portes\, viens plonger dans l’univers du Rythme Signé avec un programme très spécial. \n\n\n\nLa soirée débute par une séance de dédicaces avec Santiago Vazquez ! \n\n\n\nEn continu :Espace merchandisingViens découvrir le Manuel de Rythme Signé\, tout juste sorti en version française !Sur place : livres\, tee-shirts\, goodies… mais aussi des rencontres avec l’équipe d’Orange Platine\, l’association qui porte ce projet depuis Angers. \n\n\n\nProjection de la série documentaire « Ritmo con Señas »Tout au long de la soirée découvre la série documentaire « Ritmo con Señas » du collectif MicroPolis. \n\n\n\n\n\nVendredi 19 septembre 202519:00 – Ouverture des portesLe Quart’Ney5 rue Ernest Eugène Duboys – ANGERSTarifs : Soutien : 18€ Base 15€Solidaire 12€Moins de 18 ans 8€Réservation en ligne vivement conseilléeBar\, restauration et billetterie sur place \n\n\n\n\nRéservation\n\n\n\n\n\n\n\n\nBISSAPLe concert d’ouverture est assuré par BISSAP\, un groupe formé par de jeunes musicien·ne·s du collège Jean Lurçat. Leur musique est à leur image : métissée\, vive\, inspirée des rythmes du Maghreb aux musiques des îles. Une belle entrée en matière pleine d’énergie et de fraîcheur. \n\n\n\nA BAILARLe moment fort de la soirée : un orchestre éphémère d’une vingtaine de musicien·ne·s venu·e·s de toute la France\, dirigé en temps réel par Santiago Vazquez à l’aide du Rythme Signé. Une expérience immersive\, collective\, entièrement improvisée\, et résolument dansante. \n\n\n\n\n\nCAFÉ FRAPPÉCafé Frappé\, c’est le shoot de rythme et d’énergie brute 100% improvisé et 100% percussif ! Prépare ton corps\, ça va vibrer ! \n\n\n\n \n\n\n\n \n\n\n\nLA JAMTu joues ? Tu vibres ? Ramène ton instrument et monte sur scène !Une jam ouverte avec les musiciens de A Bailar pour prolonger le feu en mode collectif et spontané. Tous niveaux bienvenus\, tant qu’il y a l’envie de jouer ensemble. \n\n\n\n\n\n\nRéservation\n\n\n\n\nSantiago Vazquez\, inventeur du Rythme Signé\n\n\n\n\nGrand génie musical\, Santiago Vazquez a développé le langage du Rythme Signé en 2006. Pour sa mise en pratique\, il a monté plusieurs ensembles musicaux devenus de véritables institutions en Argentine tels que La Bomba de Tiempo\, La Grande\, Pan ou plus récemment ÑU. Face à l’engouement entourant ce phénomène musical\, Santiago a fondé l’école du CERPS (Centre d’Études de Rythmes et de Percussions Signées) dédiée à l’étude du langage et aux techniques de composition en temps réel. \n\n\n\n\n\n\n\n\n\n\nLe lieu \n\n\n\n\n\n\n\nOrganisateur
URL:https://orangeplatine.fr/event/soiree-a-bailar-deuxiemes-rencontres-francaises-du-rythme-signe/
LOCATION:Le Quart’Ney\, 5-9 Rue Duboys\, Angers\, 49100\, France
ATTACH;FMTTYPE=image/png:https://orangeplatine.fr/wp-content/uploads/2025/07/19-sept-1.png
END:VEVENT
END:VCALENDAR