BEGIN:VCALENDAR
VERSION:2.0
PRODID:-//Orange Platine - ECPv6.15.20//NONSGML v1.0//EN
CALSCALE:GREGORIAN
METHOD:PUBLISH
X-ORIGINAL-URL:https://orangeplatine.fr
X-WR-CALDESC:Évènements pour Orange Platine
REFRESH-INTERVAL;VALUE=DURATION:PT1H
X-Robots-Tag:noindex
X-PUBLISHED-TTL:PT1H
BEGIN:VTIMEZONE
TZID:Europe/Paris
BEGIN:DAYLIGHT
TZOFFSETFROM:+0100
TZOFFSETTO:+0200
TZNAME:CEST
DTSTART:20240331T010000
END:DAYLIGHT
BEGIN:STANDARD
TZOFFSETFROM:+0200
TZOFFSETTO:+0100
TZNAME:CET
DTSTART:20241027T010000
END:STANDARD
BEGIN:DAYLIGHT
TZOFFSETFROM:+0100
TZOFFSETTO:+0200
TZNAME:CEST
DTSTART:20250330T010000
END:DAYLIGHT
BEGIN:STANDARD
TZOFFSETFROM:+0200
TZOFFSETTO:+0100
TZNAME:CET
DTSTART:20251026T010000
END:STANDARD
BEGIN:DAYLIGHT
TZOFFSETFROM:+0100
TZOFFSETTO:+0200
TZNAME:CEST
DTSTART:20260329T010000
END:DAYLIGHT
BEGIN:STANDARD
TZOFFSETFROM:+0200
TZOFFSETTO:+0100
TZNAME:CET
DTSTART:20261025T010000
END:STANDARD
END:VTIMEZONE
BEGIN:VEVENT
DTSTART;TZID=Europe/Paris:20250918T193000
DTEND;TZID=Europe/Paris:20250918T220000
DTSTAMP:20260422T234431
CREATED:20250723T145434Z
LAST-MODIFIED:20250915T082342Z
UID:7505-1758223800-1758232800@orangeplatine.fr
SUMMARY:Bardane Feat Santiago Vazquez
DESCRIPTION:Bardane en concert feat Santiago Vazquez \n\n\n\nDans le cadre des Deuxièmes Rencontres Françaises du Rythme Signé du 18 au 21 septembre 2025 à Angers. \n\n\n\n\n\nVenez profiter de la sortie de résidence de Bardane ! \n\n\n\nLe groupe de Rythme Signé avec sa musique accrocheuse\, vous promet un moment plus qu’unique\, accompagné de Santiago Vazquez. \n\n\n\n\nRéservation\n\n\n\n\n\n\nJeudi 18 septembre 202519:30 – Concert de Bardane feat Santiago VazquezThéâtre de l’Arbre à Fil au Cercle Pointu28 Bis Rue de la Broderie – CHEMILLÉ-EN-ANJOUBar et grignotages sur placePrix libre sur place – Réservation conseillée \n\n\n\n\n\n\n\n\n\nSantiago Vazquez\, inventeur du Rythme Signé\n\n\n\n\nGrand génie musical\, Santiago Vazquez a développé le langage du Rythme Signé en 2006. Pour sa mise en pratique\, il a monté plusieurs ensembles musicaux devenus de véritables institutions en Argentine tels que La Bomba de Tiempo\, La Grande\, Pan ou plus récemment ÑU. Face à l’engouement entourant ce phénomène musical\, Santiago a fondé l’école du CERPS (Centre d’Études de Rythmes et de Percussions Signées) dédiée à l’étude du langage et aux techniques de composition en temps réel. \n\n\n\n\n\n\n\n\n\n\nLe lieu \n\n\n\n\n\n\n\nLes organisateurs
URL:https://orangeplatine.fr/event/bardane-feat-santiago-vazquez/
ATTACH;FMTTYPE=image/jpeg:https://orangeplatine.fr/wp-content/uploads/2025/02/bardane-orange-platine-chabada-15-sept-2023-14_53192953329_o.jpg
END:VEVENT
END:VCALENDAR