BEGIN:VCALENDAR
VERSION:2.0
PRODID:-//Orange Platine - ECPv6.15.20//NONSGML v1.0//EN
CALSCALE:GREGORIAN
METHOD:PUBLISH
X-ORIGINAL-URL:https://orangeplatine.fr
X-WR-CALDESC:Évènements pour Orange Platine
REFRESH-INTERVAL;VALUE=DURATION:PT1H
X-Robots-Tag:noindex
X-PUBLISHED-TTL:PT1H
BEGIN:VTIMEZONE
TZID:Europe/Paris
BEGIN:DAYLIGHT
TZOFFSETFROM:+0100
TZOFFSETTO:+0200
TZNAME:CEST
DTSTART:20240331T010000
END:DAYLIGHT
BEGIN:STANDARD
TZOFFSETFROM:+0200
TZOFFSETTO:+0100
TZNAME:CET
DTSTART:20241027T010000
END:STANDARD
BEGIN:DAYLIGHT
TZOFFSETFROM:+0100
TZOFFSETTO:+0200
TZNAME:CEST
DTSTART:20250330T010000
END:DAYLIGHT
BEGIN:STANDARD
TZOFFSETFROM:+0200
TZOFFSETTO:+0100
TZNAME:CET
DTSTART:20251026T010000
END:STANDARD
BEGIN:DAYLIGHT
TZOFFSETFROM:+0100
TZOFFSETTO:+0200
TZNAME:CEST
DTSTART:20260329T010000
END:DAYLIGHT
BEGIN:STANDARD
TZOFFSETFROM:+0200
TZOFFSETTO:+0100
TZNAME:CET
DTSTART:20261025T010000
END:STANDARD
END:VTIMEZONE
BEGIN:VEVENT
DTSTART;TZID=Europe/Paris:20250725T183000
DTEND;TZID=Europe/Paris:20250725T203000
DTSTAMP:20260423T023237
CREATED:20250702T170621Z
LAST-MODIFIED:20250702T170621Z
UID:7448-1753468200-1753475400@orangeplatine.fr
SUMMARY:Chorale à l'improviste @La Couzette Beaucouzé
DESCRIPTION:On vient vous faire chanter en chœur. Chanteur de salle de bain ou reinedu karaoké\, cette soirée est faite pour vous. \n\n\n\nEn partenariat avec le CCAS de Beaucouzé \n\n\n\n\nPLUS D’INFOS\n\n\n\n\n\n\nMercredi 25 juillet 2025 18:30 > 20:30Guinguette la CouzetteParc du Prieuré49070 BeaucouzéGratuit
URL:https://orangeplatine.fr/event/chorale-a-limproviste-la-couzette-beaucouze/
END:VEVENT
END:VCALENDAR