BEGIN:VCALENDAR
VERSION:2.0
PRODID:-//Orange Platine - ECPv6.15.20//NONSGML v1.0//EN
CALSCALE:GREGORIAN
METHOD:PUBLISH
X-WR-CALNAME:Orange Platine
X-ORIGINAL-URL:https://orangeplatine.fr
X-WR-CALDESC:Évènements pour Orange Platine
REFRESH-INTERVAL;VALUE=DURATION:PT1H
X-Robots-Tag:noindex
X-PUBLISHED-TTL:PT1H
BEGIN:VTIMEZONE
TZID:Europe/Paris
BEGIN:DAYLIGHT
TZOFFSETFROM:+0100
TZOFFSETTO:+0200
TZNAME:CEST
DTSTART:20240331T010000
END:DAYLIGHT
BEGIN:STANDARD
TZOFFSETFROM:+0200
TZOFFSETTO:+0100
TZNAME:CET
DTSTART:20241027T010000
END:STANDARD
BEGIN:DAYLIGHT
TZOFFSETFROM:+0100
TZOFFSETTO:+0200
TZNAME:CEST
DTSTART:20250330T010000
END:DAYLIGHT
BEGIN:STANDARD
TZOFFSETFROM:+0200
TZOFFSETTO:+0100
TZNAME:CET
DTSTART:20251026T010000
END:STANDARD
BEGIN:DAYLIGHT
TZOFFSETFROM:+0100
TZOFFSETTO:+0200
TZNAME:CEST
DTSTART:20260329T010000
END:DAYLIGHT
BEGIN:STANDARD
TZOFFSETFROM:+0200
TZOFFSETTO:+0100
TZNAME:CET
DTSTART:20261025T010000
END:STANDARD
END:VTIMEZONE
BEGIN:VEVENT
DTSTART;TZID=Europe/Paris:20250723T150000
DTEND;TZID=Europe/Paris:20250723T180000
DTSTAMP:20260423T023110
CREATED:20250702T170338Z
LAST-MODIFIED:20250702T170705Z
UID:7444-1753282800-1753293600@orangeplatine.fr
SUMMARY:Atelier percussions Rythme Signé @La Couzette Beaucouzé
DESCRIPTION:On vous propose une expérience musicale collective et décomplexée\, enfantde 6 ans ou astronaute de 42 ans\, venez-vous initier au Rythme signé. \n\n\n\nEn partenariat avec le CCAS de Beaucouzé \n\n\n\n\nPLUS D’INFOS\n\n\n\n\n\n\nMercredi 23 juillet 2025 15:00 Guinguette la CouzetteParc du Prieuré49070 BeaucouzéGratuit
URL:https://orangeplatine.fr/event/atelier-percussions-rythme-signe-beaucouze/
END:VEVENT
END:VCALENDAR