BEGIN:VCALENDAR
VERSION:2.0
PRODID:-//Orange Platine - ECPv6.15.20//NONSGML v1.0//EN
CALSCALE:GREGORIAN
METHOD:PUBLISH
X-ORIGINAL-URL:https://orangeplatine.fr
X-WR-CALDESC:Évènements pour Orange Platine
REFRESH-INTERVAL;VALUE=DURATION:PT1H
X-Robots-Tag:noindex
X-PUBLISHED-TTL:PT1H
BEGIN:VTIMEZONE
TZID:Europe/Paris
BEGIN:DAYLIGHT
TZOFFSETFROM:+0100
TZOFFSETTO:+0200
TZNAME:CEST
DTSTART:20240331T010000
END:DAYLIGHT
BEGIN:STANDARD
TZOFFSETFROM:+0200
TZOFFSETTO:+0100
TZNAME:CET
DTSTART:20241027T010000
END:STANDARD
BEGIN:DAYLIGHT
TZOFFSETFROM:+0100
TZOFFSETTO:+0200
TZNAME:CEST
DTSTART:20250330T010000
END:DAYLIGHT
BEGIN:STANDARD
TZOFFSETFROM:+0200
TZOFFSETTO:+0100
TZNAME:CET
DTSTART:20251026T010000
END:STANDARD
BEGIN:DAYLIGHT
TZOFFSETFROM:+0100
TZOFFSETTO:+0200
TZNAME:CEST
DTSTART:20260329T010000
END:DAYLIGHT
BEGIN:STANDARD
TZOFFSETFROM:+0200
TZOFFSETTO:+0100
TZNAME:CET
DTSTART:20261025T010000
END:STANDARD
END:VTIMEZONE
BEGIN:VEVENT
DTSTART;TZID=Europe/Paris:20250716T160000
DTEND;TZID=Europe/Paris:20250716T180000
DTSTAMP:20260423T023237
CREATED:20250702T165401Z
LAST-MODIFIED:20250702T165402Z
UID:7441-1752681600-1752688800@orangeplatine.fr
SUMMARY:Atelier Rythme Signé Parents/Enfants @Saumur
DESCRIPTION:Le Rythme Signé est une expérience musicale collective ouverte à tous\, où l’improvisation et la joie sont au cœur du jeu.  \n\n\n\nSans besoin d’être musicien\, chacun peut participer avec percussions et gestes pour créer ensemble un langage rythmé\, intuitif et ludique. \n\n\n\n\nINSCRIPTION\n\n\n\n\n\n\nMercredi 16 juillet 2025 16:00 > 16:4517:00 > 17:45Parvis du DômePlace de la République49400 SaumurGratuit sur inscription
URL:https://orangeplatine.fr/event/atelier-rythme-signe-parents-enfants-saumur/
END:VEVENT
END:VCALENDAR