BEGIN:VCALENDAR
VERSION:2.0
PRODID:-//Orange Platine - ECPv6.15.20//NONSGML v1.0//EN
CALSCALE:GREGORIAN
METHOD:PUBLISH
X-WR-CALNAME:Orange Platine
X-ORIGINAL-URL:https://orangeplatine.fr
X-WR-CALDESC:Évènements pour Orange Platine
REFRESH-INTERVAL;VALUE=DURATION:PT1H
X-Robots-Tag:noindex
X-PUBLISHED-TTL:PT1H
BEGIN:VTIMEZONE
TZID:Europe/Paris
BEGIN:DAYLIGHT
TZOFFSETFROM:+0100
TZOFFSETTO:+0200
TZNAME:CEST
DTSTART:20240331T010000
END:DAYLIGHT
BEGIN:STANDARD
TZOFFSETFROM:+0200
TZOFFSETTO:+0100
TZNAME:CET
DTSTART:20241027T010000
END:STANDARD
BEGIN:DAYLIGHT
TZOFFSETFROM:+0100
TZOFFSETTO:+0200
TZNAME:CEST
DTSTART:20250330T010000
END:DAYLIGHT
BEGIN:STANDARD
TZOFFSETFROM:+0200
TZOFFSETTO:+0100
TZNAME:CET
DTSTART:20251026T010000
END:STANDARD
BEGIN:DAYLIGHT
TZOFFSETFROM:+0100
TZOFFSETTO:+0200
TZNAME:CEST
DTSTART:20260329T010000
END:DAYLIGHT
BEGIN:STANDARD
TZOFFSETFROM:+0200
TZOFFSETTO:+0100
TZNAME:CET
DTSTART:20261025T010000
END:STANDARD
END:VTIMEZONE
BEGIN:VEVENT
DTSTART;TZID=Europe/Paris:20250715T153000
DTEND;TZID=Europe/Paris:20250715T190000
DTSTAMP:20260423T023119
CREATED:20250703T104248Z
LAST-MODIFIED:20250709T150730Z
UID:7452-1752593400-1752606000@orangeplatine.fr
SUMMARY:UN ÉTÉ À LA ROSERAIE · Duo Fla @Dumont d'Urville - Angers
DESCRIPTION:Orange Platine participe à un été à la Roseraie grâce au Contrat de Ville d’Angers Loire Métropole et y organise des temps de rencontre\, de partage et de musique évidemment. Ce mardi 15 juillet 2025 nous invitons le duo Fla ! \n\n\n\n\n\nDuo angevin\, musique chaude\, douce et énergique.Son atypique du n’goniTimbre sucré du balafonFla: double coup éxécuté à la main ou à la baguetteF’la: contraction de fila\, 2 en bambara \n\n\n\nComposé de : Pierre CHARRIER et Denis FERCHAUD \n\n\n\n\n\nMardi 15 juillet 2025 15:30 : Atelier percussions 17:30 : Concert duo FlaDumont d’Urville49000 AngersGratuit
URL:https://orangeplatine.fr/event/un-ete-a-la-roseraie-%c2%b7-duo-fla-dumont-durville-angers/
END:VEVENT
END:VCALENDAR