BEGIN:VCALENDAR
VERSION:2.0
PRODID:-//Orange Platine - ECPv6.15.20//NONSGML v1.0//EN
CALSCALE:GREGORIAN
METHOD:PUBLISH
X-ORIGINAL-URL:https://orangeplatine.fr
X-WR-CALDESC:Évènements pour Orange Platine
REFRESH-INTERVAL;VALUE=DURATION:PT1H
X-Robots-Tag:noindex
X-PUBLISHED-TTL:PT1H
BEGIN:VTIMEZONE
TZID:Europe/Paris
BEGIN:DAYLIGHT
TZOFFSETFROM:+0100
TZOFFSETTO:+0200
TZNAME:CEST
DTSTART:20240331T010000
END:DAYLIGHT
BEGIN:STANDARD
TZOFFSETFROM:+0200
TZOFFSETTO:+0100
TZNAME:CET
DTSTART:20241027T010000
END:STANDARD
BEGIN:DAYLIGHT
TZOFFSETFROM:+0100
TZOFFSETTO:+0200
TZNAME:CEST
DTSTART:20250330T010000
END:DAYLIGHT
BEGIN:STANDARD
TZOFFSETFROM:+0200
TZOFFSETTO:+0100
TZNAME:CET
DTSTART:20251026T010000
END:STANDARD
BEGIN:DAYLIGHT
TZOFFSETFROM:+0100
TZOFFSETTO:+0200
TZNAME:CEST
DTSTART:20260329T010000
END:DAYLIGHT
BEGIN:STANDARD
TZOFFSETFROM:+0200
TZOFFSETTO:+0100
TZNAME:CET
DTSTART:20261025T010000
END:STANDARD
END:VTIMEZONE
BEGIN:VEVENT
DTSTART;TZID=Europe/Paris:20250705T193000
DTEND;TZID=Europe/Paris:20250705T200000
DTSTAMP:20260423T023237
CREATED:20250630T180200Z
LAST-MODIFIED:20250630T180317Z
UID:7402-1751743800-1751745600@orangeplatine.fr
SUMMARY:Impromptu musical @Traver'Cé - Les Ponts-de-Cé
DESCRIPTION:Ce festival de musiques métissées près d’Angers\, vous propose une programmation exceptionnelle dans un cadre idyllique en bord de Loire. \n\n\n\nCette année tout un parcours à été organisé avec la ville des Ponts-de-Cé pour initier les habitant.e.s au Rythme Signé. \n\n\n\nCes ateliers d’initiation donneront lieu à un impromptu musical durant le festival Traver’Cé ! \n\n\n\n\n\n\n\n\n\n\n\nSamedi 05 juillet 2025 19:30Douves du ChâteauLes Ponts-de-CéGratuit \n\n\n\n\nPLUS D’INFOS
URL:https://orangeplatine.fr/event/impromptu-musical-traverce-les-ponts-de-ce/
END:VEVENT
BEGIN:VEVENT
DTSTART;TZID=Europe/Paris:20250705T210000
DTEND;TZID=Europe/Paris:20250705T220000
DTSTAMP:20260423T023237
CREATED:20250630T175631Z
LAST-MODIFIED:20250630T180254Z
UID:7396-1751749200-1751752800@orangeplatine.fr
SUMMARY:Café Frappé @Traver'Cé Musicales - Les Ponts de Cé
DESCRIPTION:Ce festival de musiques métissées près d’Angers\, vous propose une programmation exceptionnelle dans un cadre idyllique en bord de Loire. \n\n\n\nNous sommes heureux d’y jouer avec Café Frappé et sa musique corsée\, intense\, hyper rythmée et surtout improvisée. \n\n\n\n\n\n\n\n\n\n\n\nSamedi 05 juillet 2025 21:00Douves du ChâteauLes Ponts-de-CéGratuit \n\n\n\n\nPLUS D’INFOS
URL:https://orangeplatine.fr/event/cafe-frappe-traverce-musicales-les-ponts-de-ce/
END:VEVENT
END:VCALENDAR