BEGIN:VCALENDAR
VERSION:2.0
PRODID:-//Orange Platine - ECPv6.15.20//NONSGML v1.0//EN
CALSCALE:GREGORIAN
METHOD:PUBLISH
X-ORIGINAL-URL:https://orangeplatine.fr
X-WR-CALDESC:Évènements pour Orange Platine
REFRESH-INTERVAL;VALUE=DURATION:PT1H
X-Robots-Tag:noindex
X-PUBLISHED-TTL:PT1H
BEGIN:VTIMEZONE
TZID:Europe/Paris
BEGIN:DAYLIGHT
TZOFFSETFROM:+0100
TZOFFSETTO:+0200
TZNAME:CEST
DTSTART:20240331T010000
END:DAYLIGHT
BEGIN:STANDARD
TZOFFSETFROM:+0200
TZOFFSETTO:+0100
TZNAME:CET
DTSTART:20241027T010000
END:STANDARD
BEGIN:DAYLIGHT
TZOFFSETFROM:+0100
TZOFFSETTO:+0200
TZNAME:CEST
DTSTART:20250330T010000
END:DAYLIGHT
BEGIN:STANDARD
TZOFFSETFROM:+0200
TZOFFSETTO:+0100
TZNAME:CET
DTSTART:20251026T010000
END:STANDARD
BEGIN:DAYLIGHT
TZOFFSETFROM:+0100
TZOFFSETTO:+0200
TZNAME:CEST
DTSTART:20260329T010000
END:DAYLIGHT
BEGIN:STANDARD
TZOFFSETFROM:+0200
TZOFFSETTO:+0100
TZNAME:CET
DTSTART:20261025T010000
END:STANDARD
END:VTIMEZONE
BEGIN:VEVENT
DTSTART;TZID=Europe/Paris:20250704T180000
DTEND;TZID=Europe/Paris:20250704T210000
DTSTAMP:20260423T022436
CREATED:20250630T173649Z
LAST-MODIFIED:20250702T102202Z
UID:7383-1751652000-1751662800@orangeplatine.fr
SUMMARY:Les MITTs & Bras tendus @Centre Jean Vilar - Angers
DESCRIPTION:Un spectacle inédit pour inaugurer la Guinguette de l’été du Centre Jean Vilar\, Rose Pistache !  \n\n\n\nLes Musiciens Improvisateurs Tout Terrain et l’association des arts du cirque Bras Tendus ont le plaisir de s’associer pour un cabaret dédié au cirque. \n\n\n\nOrganisé par les associations Bras Tendus et Orange Platine\, ce spectacle unique mêle musique improvisée et performances circassiennes. Dans une ambiance festive et interactive\, le public est invité à participer pleinement à cette expérience vivante\, entre surprises sonores et prouesses acrobatiques. \n\n\n\n\n\n\n\n\n\n\n\nVendredi 04 juin 202518:00 Parvis du Centre Jean Vilar1 Bis Rue Henri bergson49000 AngersGratuit \n\n\n\n\nPLUS D’INFOS
URL:https://orangeplatine.fr/event/les-mitts-bras-tendus-centre-jean-vilar-angers/
END:VEVENT
END:VCALENDAR