BEGIN:VCALENDAR
VERSION:2.0
PRODID:-//Orange Platine - ECPv6.15.20//NONSGML v1.0//EN
CALSCALE:GREGORIAN
METHOD:PUBLISH
X-ORIGINAL-URL:https://orangeplatine.fr
X-WR-CALDESC:Évènements pour Orange Platine
REFRESH-INTERVAL;VALUE=DURATION:PT1H
X-Robots-Tag:noindex
X-PUBLISHED-TTL:PT1H
BEGIN:VTIMEZONE
TZID:Europe/Paris
BEGIN:DAYLIGHT
TZOFFSETFROM:+0100
TZOFFSETTO:+0200
TZNAME:CEST
DTSTART:20240331T010000
END:DAYLIGHT
BEGIN:STANDARD
TZOFFSETFROM:+0200
TZOFFSETTO:+0100
TZNAME:CET
DTSTART:20241027T010000
END:STANDARD
BEGIN:DAYLIGHT
TZOFFSETFROM:+0100
TZOFFSETTO:+0200
TZNAME:CEST
DTSTART:20250330T010000
END:DAYLIGHT
BEGIN:STANDARD
TZOFFSETFROM:+0200
TZOFFSETTO:+0100
TZNAME:CET
DTSTART:20251026T010000
END:STANDARD
BEGIN:DAYLIGHT
TZOFFSETFROM:+0100
TZOFFSETTO:+0200
TZNAME:CEST
DTSTART:20260329T010000
END:DAYLIGHT
BEGIN:STANDARD
TZOFFSETFROM:+0200
TZOFFSETTO:+0100
TZNAME:CET
DTSTART:20261025T010000
END:STANDARD
END:VTIMEZONE
BEGIN:VEVENT
DTSTART;TZID=Europe/Paris:20250614T080000
DTEND;TZID=Europe/Paris:20250627T170000
DTSTAMP:20260423T034640
CREATED:20250604T151857Z
LAST-MODIFIED:20250604T151858Z
UID:7232-1749888000-1751043600@orangeplatine.fr
SUMMARY:Ateliers d'initiation percussions Rythme Signé @Les Ponts-de-Cé
DESCRIPTION:Cette année tout un parcours à été organisé avec la ville des Ponts-de-Cé pour initier les habitant.e.s au Rythme Signé. \n\n\n\nCes ateliers d’initiation donneront lieu à un impromptu musical durant le festival Traver’Cé ! \n\n\n\n\n\nCes ateliers gratuits sont ouverts à tous.tes : \n\n\n\nSamedi 14 juin – 10:00 au Centre Culturel Vincent Malandrin\, Les Ponts-de-Cé / Sur inscription \n\n\n\nMercredi 25 juin – 16:30 à La Baignade\, Les Ponts-de-Cé \n\n\n\nSamedi 27 juin – 18:00 à la guinguette En rouge et Loire\, Les Ponts-de-Cé \n\n\n\nSamedi 27 juin – 18:30 à la Salle de La Guillebotte\, Les Ponts-de-Cé / Infos
URL:https://orangeplatine.fr/event/ateliers-dinitiation-percussions-rythme-signe-les-ponts-de-ce/
END:VEVENT
BEGIN:VEVENT
DTSTART;TZID=Europe/Paris:20250614T140000
DTEND;TZID=Europe/Paris:20250614T170000
DTSTAMP:20260423T034640
CREATED:20250512T133917Z
LAST-MODIFIED:20250602T074118Z
UID:7065-1749909600-1749920400@orangeplatine.fr
SUMMARY:Atelier de Rythme Signé\, percussions et chant\, en mixité choisie - COMPLET
DESCRIPTION:Pour toutes les femmes et personnes qui se sentent femmes\, nous proposons un atelier de Rythme Signé percussions et chant en mixité choisie. \n\n\n\n\n\n\n\nAvec le formidable outil qu’est le Rythme Signé\, on apprend à jouer de la musique\, en collectif\, en improvisant\, et on acquiert les outils pour diriger des groupes de musicien.ne.s. \n\n\n\n\n\nOn vous invite donc à musiquer\, improviser\, percussionner\, chanter\, se rencontrer autour du Rythme Signé ! \n\n\n\nPour aider les femmes à se sentir légitime dans le groupe\, et à prendre la place de directrice. \n\n\n\nPour donner l’occasion aux femmes d’oser se mettre en avant. \n\n\n\nPour vivre un moment de plaisir musical. \n\n\n\n\n\n   Samedi 14 juin 2025    14:00 > 17:00    Lieu   Le Quart’Ney   5 rue Ernest Eugène Duboys   49100 ANGERS    Tarif   Gratuit\, sur inscription \n\n\n\n\n\n\nCOMPLET
URL:https://orangeplatine.fr/event/atelier-de-rythme-signe-percussions-et-chant-en-mixite-choisie/
LOCATION:Le Quart’Ney\, 5-9 Rue Duboys\, Angers\, 49100\, France
ATTACH;FMTTYPE=image/png:https://orangeplatine.fr/wp-content/uploads/2025/05/Ajouter-un-titre-1920-x-1080-px2.png
ORGANIZER;CN="Orange Platine":MAILTO:contact@orangeplatine.fr
END:VEVENT
BEGIN:VEVENT
DTSTART;TZID=Europe/Paris:20250614T183000
DTEND;TZID=Europe/Paris:20250614T235900
DTSTAMP:20260423T034641
CREATED:20250604T135819Z
LAST-MODIFIED:20250604T143933Z
UID:7190-1749925800-1749945540@orangeplatine.fr
SUMMARY:Bardane @Les Petites Noues - Chemillé
DESCRIPTION:Retrouvez Bardane à la ferme Les Petites Noues\, une belle soirée vous attend entre cirque et musique ! \n\n\n\n\n\n\n\n\n\n\n\nSamedi 14 juin 202518:30 : Ouverture de la soirée19:30 : Spectacle de cirque contemporain tous public20:30 : Quartet Azadi22:00 : BardaneLieu dit les Petites Noues49120 – Chemillé \n\n\n\n\n\nRestauration et bar sur place \n\n\n\nEntrée : 10€ / Enfant -14 ans : GRATUIT \n\n\n\nESPÈCES UNIQUEMENT PAS DE CARTE BANCAIRE SUR PLACE \n\n\n\nPossibilité de camping \n\n\n\ncontact : concertpetitesnoues@orange.fr / 02.41.62.43.77 \n\n\n\n\nPLUS D’INFOS
URL:https://orangeplatine.fr/event/bardane-les-petites-noues-chemille/
END:VEVENT
END:VCALENDAR