BEGIN:VCALENDAR
VERSION:2.0
PRODID:-//Orange Platine - ECPv6.15.20//NONSGML v1.0//EN
CALSCALE:GREGORIAN
METHOD:PUBLISH
X-ORIGINAL-URL:https://orangeplatine.fr
X-WR-CALDESC:Évènements pour Orange Platine
REFRESH-INTERVAL;VALUE=DURATION:PT1H
X-Robots-Tag:noindex
X-PUBLISHED-TTL:PT1H
BEGIN:VTIMEZONE
TZID:Europe/Paris
BEGIN:DAYLIGHT
TZOFFSETFROM:+0100
TZOFFSETTO:+0200
TZNAME:CEST
DTSTART:20240331T010000
END:DAYLIGHT
BEGIN:STANDARD
TZOFFSETFROM:+0200
TZOFFSETTO:+0100
TZNAME:CET
DTSTART:20241027T010000
END:STANDARD
BEGIN:DAYLIGHT
TZOFFSETFROM:+0100
TZOFFSETTO:+0200
TZNAME:CEST
DTSTART:20250330T010000
END:DAYLIGHT
BEGIN:STANDARD
TZOFFSETFROM:+0200
TZOFFSETTO:+0100
TZNAME:CET
DTSTART:20251026T010000
END:STANDARD
BEGIN:DAYLIGHT
TZOFFSETFROM:+0100
TZOFFSETTO:+0200
TZNAME:CEST
DTSTART:20260329T010000
END:DAYLIGHT
BEGIN:STANDARD
TZOFFSETFROM:+0200
TZOFFSETTO:+0100
TZNAME:CET
DTSTART:20261025T010000
END:STANDARD
END:VTIMEZONE
BEGIN:VEVENT
DTSTART;TZID=Europe/Paris:20250607T140000
DTEND;TZID=Europe/Paris:20250607T150000
DTSTAMP:20260423T034636
CREATED:20250604T130802Z
LAST-MODIFIED:20250604T141122Z
UID:7179-1749304800-1749308400@orangeplatine.fr
SUMMARY:Curupira @Fête du quartier de Belle Beille - Angers
DESCRIPTION:Curupira\, la Batucada des jeunes des Hauts de Saint Aubin jouera à la fête du Quartier de Belle Beille ! \n\n\n\n\n\n\n\n\n\n\n\n\n\nSamedi 07 juin 202514:00 Centre Jacques Tati5 Rue Eugénie Mansion49000 – Angers
URL:https://orangeplatine.fr/event/curupira-fete-du-quartier-de-belle-beille/
END:VEVENT
END:VCALENDAR