BEGIN:VCALENDAR
VERSION:2.0
PRODID:-//Orange Platine - ECPv6.15.20//NONSGML v1.0//EN
CALSCALE:GREGORIAN
METHOD:PUBLISH
X-WR-CALNAME:Orange Platine
X-ORIGINAL-URL:https://orangeplatine.fr
X-WR-CALDESC:Évènements pour Orange Platine
REFRESH-INTERVAL;VALUE=DURATION:PT1H
X-Robots-Tag:noindex
X-PUBLISHED-TTL:PT1H
BEGIN:VTIMEZONE
TZID:Europe/Paris
BEGIN:DAYLIGHT
TZOFFSETFROM:+0100
TZOFFSETTO:+0200
TZNAME:CEST
DTSTART:20230326T010000
END:DAYLIGHT
BEGIN:STANDARD
TZOFFSETFROM:+0200
TZOFFSETTO:+0100
TZNAME:CET
DTSTART:20231029T010000
END:STANDARD
BEGIN:DAYLIGHT
TZOFFSETFROM:+0100
TZOFFSETTO:+0200
TZNAME:CEST
DTSTART:20240331T010000
END:DAYLIGHT
BEGIN:STANDARD
TZOFFSETFROM:+0200
TZOFFSETTO:+0100
TZNAME:CET
DTSTART:20241027T010000
END:STANDARD
BEGIN:DAYLIGHT
TZOFFSETFROM:+0100
TZOFFSETTO:+0200
TZNAME:CEST
DTSTART:20250330T010000
END:DAYLIGHT
BEGIN:STANDARD
TZOFFSETFROM:+0200
TZOFFSETTO:+0100
TZNAME:CET
DTSTART:20251026T010000
END:STANDARD
END:VTIMEZONE
BEGIN:VEVENT
DTSTART;TZID=Europe/Paris:20241012T190000
DTEND;TZID=Europe/Paris:20241012T203000
DTSTAMP:20260425T135421
CREATED:20241001T133732Z
LAST-MODIFIED:20241001T144833Z
UID:6439-1728759600-1728765000@orangeplatine.fr
SUMMARY:Batucada - Maison de quartier des Hauts de Saint Aubin
DESCRIPTION:La batucada des jeunes de la  Maison de quartier des Hauts de Saint Aubin inaugure le Festival Manouches et Gadgés ! Un Temps Fort culturel\, social et festif\, rythmé par des rendez-vous artistiques\, culturels et conviviaux\, dans différents lieux du quartier\, pour changer les regards. \nGRATUITMaison de quartier des Hauts de Saint Aubin\, ANGERS \nPLUS D’INFOS
URL:https://orangeplatine.fr/event/batucada/
END:VEVENT
END:VCALENDAR