BEGIN:VCALENDAR
VERSION:2.0
PRODID:-//Orange Platine - ECPv6.15.20//NONSGML v1.0//EN
CALSCALE:GREGORIAN
METHOD:PUBLISH
X-WR-CALNAME:Orange Platine
X-ORIGINAL-URL:https://orangeplatine.fr
X-WR-CALDESC:Évènements pour Orange Platine
REFRESH-INTERVAL;VALUE=DURATION:PT1H
X-Robots-Tag:noindex
X-PUBLISHED-TTL:PT1H
BEGIN:VTIMEZONE
TZID:Europe/Paris
BEGIN:DAYLIGHT
TZOFFSETFROM:+0100
TZOFFSETTO:+0200
TZNAME:CEST
DTSTART:20230326T010000
END:DAYLIGHT
BEGIN:STANDARD
TZOFFSETFROM:+0200
TZOFFSETTO:+0100
TZNAME:CET
DTSTART:20231029T010000
END:STANDARD
BEGIN:DAYLIGHT
TZOFFSETFROM:+0100
TZOFFSETTO:+0200
TZNAME:CEST
DTSTART:20240331T010000
END:DAYLIGHT
BEGIN:STANDARD
TZOFFSETFROM:+0200
TZOFFSETTO:+0100
TZNAME:CET
DTSTART:20241027T010000
END:STANDARD
BEGIN:DAYLIGHT
TZOFFSETFROM:+0100
TZOFFSETTO:+0200
TZNAME:CEST
DTSTART:20250330T010000
END:DAYLIGHT
BEGIN:STANDARD
TZOFFSETFROM:+0200
TZOFFSETTO:+0100
TZNAME:CET
DTSTART:20251026T010000
END:STANDARD
END:VTIMEZONE
BEGIN:VEVENT
DTSTART;TZID=Europe/Paris:20240928T150000
DTEND;TZID=Europe/Paris:20240928T200000
DTSTAMP:20260425T152129
CREATED:20240918T154529Z
LAST-MODIFIED:20240920T100121Z
UID:6388-1727535600-1727553600@orangeplatine.fr
SUMMARY:Baraketu - MPT Monplaisir
DESCRIPTION:Pour la rentrée et l’ouverture de sa saison la MPT propose une journée festive avec cirque\, danse et la batucada de Baraketu ! \nGRATUITMPT Monplaisir\, ANGERS \nPLUS D’INFOS
URL:https://orangeplatine.fr/event/baraketu-mpt-monplaisir/
END:VEVENT
BEGIN:VEVENT
DTSTART;TZID=Europe/Paris:20240928T160000
DTEND;TZID=Europe/Paris:20240928T235900
DTSTAMP:20260425T152129
CREATED:20240918T155819Z
LAST-MODIFIED:20240920T095432Z
UID:6399-1727539200-1727567940@orangeplatine.fr
SUMMARY:Soirée de clôture d'Un Pas de Côté
DESCRIPTION:Pour sa dernière bamboche n°2 Un Pas de Côté donne carte blanche à Orange Platine.Au programme atelier\, spectacle… et surtout une belle journée en perspective ! \nPRIX LIBRE (Prix conseillé : 10€)Domaine Culturel\, SAINT LÉZIN \nPLUS D’INFOS
URL:https://orangeplatine.fr/event/soiree-de-cloture-dun-pas-de-cote/
END:VEVENT
END:VCALENDAR