BEGIN:VCALENDAR
VERSION:2.0
PRODID:-//Orange Platine - ECPv6.15.20//NONSGML v1.0//EN
CALSCALE:GREGORIAN
METHOD:PUBLISH
X-WR-CALNAME:Orange Platine
X-ORIGINAL-URL:https://orangeplatine.fr
X-WR-CALDESC:Évènements pour Orange Platine
REFRESH-INTERVAL;VALUE=DURATION:PT1H
X-Robots-Tag:noindex
X-PUBLISHED-TTL:PT1H
BEGIN:VTIMEZONE
TZID:Europe/Paris
BEGIN:DAYLIGHT
TZOFFSETFROM:+0100
TZOFFSETTO:+0200
TZNAME:CEST
DTSTART:20230326T010000
END:DAYLIGHT
BEGIN:STANDARD
TZOFFSETFROM:+0200
TZOFFSETTO:+0100
TZNAME:CET
DTSTART:20231029T010000
END:STANDARD
BEGIN:DAYLIGHT
TZOFFSETFROM:+0100
TZOFFSETTO:+0200
TZNAME:CEST
DTSTART:20240331T010000
END:DAYLIGHT
BEGIN:STANDARD
TZOFFSETFROM:+0200
TZOFFSETTO:+0100
TZNAME:CET
DTSTART:20241027T010000
END:STANDARD
BEGIN:DAYLIGHT
TZOFFSETFROM:+0100
TZOFFSETTO:+0200
TZNAME:CEST
DTSTART:20250330T010000
END:DAYLIGHT
BEGIN:STANDARD
TZOFFSETFROM:+0200
TZOFFSETTO:+0100
TZNAME:CET
DTSTART:20251026T010000
END:STANDARD
END:VTIMEZONE
BEGIN:VEVENT
DTSTART;TZID=Europe/Paris:20240621T184500
DTEND;TZID=Europe/Paris:20240621T223000
DTSTAMP:20260425T202449
CREATED:20240606T142935Z
LAST-MODIFIED:20240618T124943Z
UID:6186-1718995500-1719009000@orangeplatine.fr
SUMMARY:Fête de la Musique 2024
DESCRIPTION:ORANGE PLATINE FÊTE LA MUSIQUE\n\n\n\nRetrouvons-nous sur Angers pour fêter la musique !\n\n\n\n\n\nOrange Platine investira la place Imbach le 21 juin prochain à l’occasion de la Fête de la Musique 2024 ! \n\n\n\nNotre but : animer Angers par la musique de l’ensemble de nos groupes de musique amateurs pratiquant le Rythme Signé et tenter de battre notre précédent record de rassemblement de percussionnistes. Angers va vibrer ! \n\n\n\nAu programme\n\n\n\n18h45 : Pixels (fanfare) en invité19h30 : Les Éphémères (chant improvisé)20h00 : TANGRAM (cumbia)21h00 : Jam (orchestre éphémère)22h00 : Percu Big Band (le plus gros orchestre de percussions improvisées) \n\n\n\n\n\nVendredi 21 juin 2024Place Imbach49000 – Angers
URL:https://orangeplatine.fr/event/fete-de-la-musique-2024/
ATTACH;FMTTYPE=image/jpeg:https://orangeplatine.fr/wp-content/uploads/2024/06/IMG_20230621_231257-1-scaled-e1717683601189.jpg
END:VEVENT
END:VCALENDAR