BEGIN:VCALENDAR
VERSION:2.0
PRODID:-//Orange Platine - ECPv6.15.20//NONSGML v1.0//EN
CALSCALE:GREGORIAN
METHOD:PUBLISH
X-ORIGINAL-URL:https://orangeplatine.fr
X-WR-CALDESC:Évènements pour Orange Platine
REFRESH-INTERVAL;VALUE=DURATION:PT1H
X-Robots-Tag:noindex
X-PUBLISHED-TTL:PT1H
BEGIN:VTIMEZONE
TZID:Europe/Paris
BEGIN:DAYLIGHT
TZOFFSETFROM:+0100
TZOFFSETTO:+0200
TZNAME:CEST
DTSTART:20230326T010000
END:DAYLIGHT
BEGIN:STANDARD
TZOFFSETFROM:+0200
TZOFFSETTO:+0100
TZNAME:CET
DTSTART:20231029T010000
END:STANDARD
BEGIN:DAYLIGHT
TZOFFSETFROM:+0100
TZOFFSETTO:+0200
TZNAME:CEST
DTSTART:20240331T010000
END:DAYLIGHT
BEGIN:STANDARD
TZOFFSETFROM:+0200
TZOFFSETTO:+0100
TZNAME:CET
DTSTART:20241027T010000
END:STANDARD
BEGIN:DAYLIGHT
TZOFFSETFROM:+0100
TZOFFSETTO:+0200
TZNAME:CEST
DTSTART:20250330T010000
END:DAYLIGHT
BEGIN:STANDARD
TZOFFSETFROM:+0200
TZOFFSETTO:+0100
TZNAME:CET
DTSTART:20251026T010000
END:STANDARD
END:VTIMEZONE
BEGIN:VEVENT
DTSTART;TZID=Europe/Paris:20240118T200000
DTEND;TZID=Europe/Paris:20240118T220000
DTSTAMP:20260426T045836
CREATED:20240108T161229Z
LAST-MODIFIED:20240108T161231Z
UID:6075-1705608000-1705615200@orangeplatine.fr
SUMMARY:BAM! • CABARET D’IMPRO THÉÂTRE @ÉCHAPPÉ BELLE - ANGERS
DESCRIPTION:BAM! en spectacle\n\n\n\nLes improvisateurs créeront des histoires devant vos yeux ébahis pour vous faire rire aux éclats lors de leur prochain spectacle. Sous la forme d’un cabaret d’improvisation théâtral\, ils interprèteront vos suggestions les plus loufoques.Avec des personnages inventés sur le vif\, et des lieux tirés de votre imagination\, les comédiens animeront votre soirée dans le rire et la bonne humeur ! \n\n\n\n\n\nJeudi 18 janvier20:00 > 22:00Échappé Belle8 rue Édouard Floquet49000 AngersPRIX LIBRE \n\n\n\n\n\n\n\nLe lieu \n\n\n\n\n\n\n\nL’organisateur
URL:https://orangeplatine.fr/event/bam-cabaret-dimpro-theatre-echappe-belle-angers/
LOCATION:Échappé Belle\, 8 rue Éduard Floquet\, 49000 Angers
ATTACH;FMTTYPE=image/jpeg:https://orangeplatine.fr/wp-content/uploads/2019/11/282179592_540318997680343_3143314721851500385_n-e1693561741975.jpg
END:VEVENT
END:VCALENDAR